BEGIN:VCALENDAR
VERSION:2.0
PRODID:-//AIRO - ECPv6.15.11//NONSGML v1.0//EN
CALSCALE:GREGORIAN
METHOD:PUBLISH
X-ORIGINAL-URL:https://radioterapiaitalia.it
X-WR-CALDESC:Eventi per AIRO
REFRESH-INTERVAL;VALUE=DURATION:PT1H
X-Robots-Tag:noindex
X-PUBLISHED-TTL:PT1H
BEGIN:VTIMEZONE
TZID:UTC
BEGIN:STANDARD
TZOFFSETFROM:+0000
TZOFFSETTO:+0000
TZNAME:UTC
DTSTART:20250101T000000
END:STANDARD
END:VTIMEZONE
BEGIN:VEVENT
DTSTART;TZID=UTC:20260331T083000
DTEND;TZID=UTC:20260331T170000
DTSTAMP:20260420T191146
CREATED:20260324T074143Z
LAST-MODIFIED:20260324T074147Z
UID:75856-1774945800-1774976400@radioterapiaitalia.it
SUMMARY:15th Rome INTER-Meeting - Rome Interventional Oncology Meeting - Roma 31 Marzo 2026
DESCRIPTION:Visualizza il programma
URL:https://radioterapiaitalia.it/event/15th-rome-inter-meeting-rome-interventional-oncology-meeting-roma-31-marzo-2026/
CATEGORIES:CORSI E CONGRESSI PATROCINATI AIRO
ATTACH;FMTTYPE=image/png:https://radioterapiaitalia.it/wp-content/uploads/2026/03/Programma-15th-Rome-InterMeeting-2026-FINAL.png
END:VEVENT
END:VCALENDAR