BEGIN:VCALENDAR
VERSION:2.0
PRODID:-//AIRO - ECPv6.15.11//NONSGML v1.0//EN
CALSCALE:GREGORIAN
METHOD:PUBLISH
X-WR-CALNAME:AIRO
X-ORIGINAL-URL:https://radioterapiaitalia.it
X-WR-CALDESC:Eventi per AIRO
REFRESH-INTERVAL;VALUE=DURATION:PT1H
X-Robots-Tag:noindex
X-PUBLISHED-TTL:PT1H
BEGIN:VTIMEZONE
TZID:Europe/Rome
BEGIN:DAYLIGHT
TZOFFSETFROM:+0100
TZOFFSETTO:+0200
TZNAME:CEST
DTSTART:20200329T010000
END:DAYLIGHT
BEGIN:STANDARD
TZOFFSETFROM:+0200
TZOFFSETTO:+0100
TZNAME:CET
DTSTART:20201025T010000
END:STANDARD
BEGIN:DAYLIGHT
TZOFFSETFROM:+0100
TZOFFSETTO:+0200
TZNAME:CEST
DTSTART:20210328T010000
END:DAYLIGHT
BEGIN:STANDARD
TZOFFSETFROM:+0200
TZOFFSETTO:+0100
TZNAME:CET
DTSTART:20211031T010000
END:STANDARD
BEGIN:DAYLIGHT
TZOFFSETFROM:+0100
TZOFFSETTO:+0200
TZNAME:CEST
DTSTART:20220327T010000
END:DAYLIGHT
BEGIN:STANDARD
TZOFFSETFROM:+0200
TZOFFSETTO:+0100
TZNAME:CET
DTSTART:20221030T010000
END:STANDARD
BEGIN:DAYLIGHT
TZOFFSETFROM:+0100
TZOFFSETTO:+0200
TZNAME:CEST
DTSTART:20230326T010000
END:DAYLIGHT
BEGIN:STANDARD
TZOFFSETFROM:+0200
TZOFFSETTO:+0100
TZNAME:CET
DTSTART:20231029T010000
END:STANDARD
END:VTIMEZONE
BEGIN:VEVENT
DTSTART;TZID=Europe/Rome:20210901T080000
DTEND;TZID=Europe/Rome:20220930T170000
DTSTAMP:20260421T150835
CREATED:20220128T153202Z
LAST-MODIFIED:20220128T153202Z
UID:24091-1630483200-1664557200@radioterapiaitalia.it
SUMMARY:FAD Asincrona - Gestione Multidisciplinare delle Neoplasie Ginecologiche: nuovi trattamenti farmacologici e radioterapici - Settembre 2021/Settembre 2022
DESCRIPTION:Visualizza Programma
URL:https://radioterapiaitalia.it/event/fad-asincrona-gestione-multidisciplinare-delle-neoplasie-ginecologiche-nuovi-trattamenti-farmacologici-e-radioterapici-settembre-2021-settembre-2022/
CATEGORIES:CORSI E CONGRESSI PATROCINATI AIRO
ATTACH;FMTTYPE=:
END:VEVENT
BEGIN:VEVENT
DTSTART;TZID=Europe/Rome:20210901T080000
DTEND;TZID=Europe/Rome:20220930T170000
DTSTAMP:20260421T150835
CREATED:20220128T153202Z
LAST-MODIFIED:20220128T153202Z
UID:42700-1630483200-1664557200@radioterapiaitalia.it
SUMMARY:FAD Asincrona - Gestione Multidisciplinare delle Neoplasie Ginecologiche: nuovi trattamenti farmacologici e radioterapici - Settembre 2021/Settembre 2022
DESCRIPTION:Visualizza Programma
URL:https://radioterapiaitalia.it/event/fad-asincrona-gestione-multidisciplinare-delle-neoplasie-ginecologiche-nuovi-trattamenti-farmacologici-e-radioterapici-settembre-2021-settembre-2022-2/
CATEGORIES:CORSI E CONGRESSI PATROCINATI AIRO
ATTACH;FMTTYPE=:
END:VEVENT
BEGIN:VEVENT
DTSTART;TZID=Europe/Rome:20211210T080000
DTEND;TZID=Europe/Rome:20211210T170000
DTSTAMP:20260421T150835
CREATED:20211109T164516Z
LAST-MODIFIED:20211109T164516Z
UID:23087-1639123200-1639155600@radioterapiaitalia.it
SUMMARY:ISRS Educational Course: SBRT for the treatment of liver and pancreatic cancer - 10 Dicembre 2021
DESCRIPTION:
URL:https://radioterapiaitalia.it/event/isrs-educational-course-sbrt-for-the-treatment-of-liver-and-pancreatic-cancer-10-dicembre-2021/
CATEGORIES:CORSI E CONGRESSI PATROCINATI AIRO
ATTACH;FMTTYPE=:
END:VEVENT
BEGIN:VEVENT
DTSTART;TZID=Europe/Rome:20211210T080000
DTEND;TZID=Europe/Rome:20211210T170000
DTSTAMP:20260421T150835
CREATED:20211109T164516Z
LAST-MODIFIED:20211109T164516Z
UID:42689-1639123200-1639155600@radioterapiaitalia.it
SUMMARY:ISRS Educational Course: SBRT for the treatment of liver and pancreatic cancer - 10 Dicembre 2021
DESCRIPTION:
URL:https://radioterapiaitalia.it/event/isrs-educational-course-sbrt-for-the-treatment-of-liver-and-pancreatic-cancer-10-dicembre-2021-2/
CATEGORIES:CORSI E CONGRESSI PATROCINATI AIRO
ATTACH;FMTTYPE=:
END:VEVENT
BEGIN:VEVENT
DTSTART;TZID=Europe/Rome:20211210T173000
DTEND;TZID=Europe/Rome:20211210T193000
DTSTAMP:20260421T150835
CREATED:20211202T103226Z
LAST-MODIFIED:20211202T103226Z
UID:23191-1639157400-1639164600@radioterapiaitalia.it
SUMMARY:WEBINAR ECM – LA 101 E LA RADIOTERAPIA - 10 Dicembre 2021
DESCRIPTION:LA 101 E LA RADIOTERAPIA\nWebinar ECM\nDescrizione del Corso:\nIl corso è gratuito per i Soci AIRO in regola con la quota associativa 2021. \nIl Decreto Legislativo del 31 Luglio 2020\, n. 101 “Attuazione della direttiva 2013/59/Euratom\, che stabilisce norme fondamentali di sicurezza relative alla protezione contro i pericoli derivanti dall’esposizione alle radiazioni ionizzanti\, e che abroga le direttive 89/618/Euratom\, 90/641/Euratom\, 96/29/Euratom\, 97/43/Euratom e 2003/122/Euratom e riordino della normativa di settore in attuazione dell’articolo 20\, comma 1\, lettera a)\, della legge 4 ottobre 2019\, n. 117”. (pubblicato in GU Serie Generale n. 201 del 12-08-2020 – Suppl. Ordinario n. 29) riguarda il riordino delle norme fondamentali di sicurezza relative alla protezione contro i pericoli derivanti dall’esposizione alle radiazioni ionizzanti. Necessaria una sua conoscenza approfondita a cui iniziamo a contribuire. \nIl Corso illustra gli adempimenti legislativi sulla nuova normativa di radioprotezione. \nVisualizza Programma \nIscrizione al Webinar \nPer iscriversi al webinar è necessario: \n\nEffettuare la registrazione alla Piattaforma ECM (una tantum e se non già fatta per webinar precedenti). Si precisa che si tratta della registrazione alla Piattaforma ECM e non al sito AIRO\, pertanto deve essere fatta ex novo la prima volta che si desidera iscriversi ad un primo webinar.\nInviare la richiesta di iscrizione all’evento mediante il pulsante ACCEDI presente nella pagina del corso. L’iscrizione verrà approvata dopo verifica da parte della Segreteria della corretta iscrizione ad AIRO per l’anno in corso.
URL:https://radioterapiaitalia.it/event/webinar-ecm-la-101-e-la-radioterapia-10-dicembre-2021/
CATEGORIES:CORSI E CONGRESSI AIRO,CORSI E CONGRESSI PATROCINATI AIRO
ATTACH;FMTTYPE=:
END:VEVENT
BEGIN:VEVENT
DTSTART;TZID=Europe/Rome:20211210T173000
DTEND;TZID=Europe/Rome:20211210T193000
DTSTAMP:20260421T150835
CREATED:20211202T103226Z
LAST-MODIFIED:20211202T103226Z
UID:42695-1639157400-1639164600@radioterapiaitalia.it
SUMMARY:WEBINAR ECM – LA 101 E LA RADIOTERAPIA - 10 Dicembre 2021
DESCRIPTION:LA 101 E LA RADIOTERAPIA\nWebinar ECM\nDescrizione del Corso:\nIl corso è gratuito per i Soci AIRO in regola con la quota associativa 2021. \nIl Decreto Legislativo del 31 Luglio 2020\, n. 101 “Attuazione della direttiva 2013/59/Euratom\, che stabilisce norme fondamentali di sicurezza relative alla protezione contro i pericoli derivanti dall’esposizione alle radiazioni ionizzanti\, e che abroga le direttive 89/618/Euratom\, 90/641/Euratom\, 96/29/Euratom\, 97/43/Euratom e 2003/122/Euratom e riordino della normativa di settore in attuazione dell’articolo 20\, comma 1\, lettera a)\, della legge 4 ottobre 2019\, n. 117”. (pubblicato in GU Serie Generale n. 201 del 12-08-2020 – Suppl. Ordinario n. 29) riguarda il riordino delle norme fondamentali di sicurezza relative alla protezione contro i pericoli derivanti dall’esposizione alle radiazioni ionizzanti. Necessaria una sua conoscenza approfondita a cui iniziamo a contribuire. \nIl Corso illustra gli adempimenti legislativi sulla nuova normativa di radioprotezione. \nVisualizza Programma \nIscrizione al Webinar \nPer iscriversi al webinar è necessario: \n\nEffettuare la registrazione alla Piattaforma ECM (una tantum e se non già fatta per webinar precedenti). Si precisa che si tratta della registrazione alla Piattaforma ECM e non al sito AIRO\, pertanto deve essere fatta ex novo la prima volta che si desidera iscriversi ad un primo webinar.\nInviare la richiesta di iscrizione all’evento mediante il pulsante ACCEDI presente nella pagina del corso. L’iscrizione verrà approvata dopo verifica da parte della Segreteria della corretta iscrizione ad AIRO per l’anno in corso.
URL:https://radioterapiaitalia.it/event/webinar-ecm-la-101-e-la-radioterapia-10-dicembre-2021-2/
CATEGORIES:CORSI E CONGRESSI AIRO,CORSI E CONGRESSI PATROCINATI AIRO
ATTACH;FMTTYPE=:
END:VEVENT
END:VCALENDAR