BEGIN:VCALENDAR
VERSION:2.0
PRODID:-//AIRO - ECPv6.15.11//NONSGML v1.0//EN
CALSCALE:GREGORIAN
METHOD:PUBLISH
X-ORIGINAL-URL:https://radioterapiaitalia.it
X-WR-CALDESC:Eventi per AIRO
REFRESH-INTERVAL;VALUE=DURATION:PT1H
X-Robots-Tag:noindex
X-PUBLISHED-TTL:PT1H
BEGIN:VTIMEZONE
TZID:Europe/Rome
BEGIN:DAYLIGHT
TZOFFSETFROM:+0100
TZOFFSETTO:+0200
TZNAME:CEST
DTSTART:20200329T010000
END:DAYLIGHT
BEGIN:STANDARD
TZOFFSETFROM:+0200
TZOFFSETTO:+0100
TZNAME:CET
DTSTART:20201025T010000
END:STANDARD
BEGIN:DAYLIGHT
TZOFFSETFROM:+0100
TZOFFSETTO:+0200
TZNAME:CEST
DTSTART:20210328T010000
END:DAYLIGHT
BEGIN:STANDARD
TZOFFSETFROM:+0200
TZOFFSETTO:+0100
TZNAME:CET
DTSTART:20211031T010000
END:STANDARD
BEGIN:DAYLIGHT
TZOFFSETFROM:+0100
TZOFFSETTO:+0200
TZNAME:CEST
DTSTART:20220327T010000
END:DAYLIGHT
BEGIN:STANDARD
TZOFFSETFROM:+0200
TZOFFSETTO:+0100
TZNAME:CET
DTSTART:20221030T010000
END:STANDARD
END:VTIMEZONE
BEGIN:VEVENT
DTSTART;TZID=Europe/Rome:20210709T150000
DTEND;TZID=Europe/Rome:20210709T170000
DTSTAMP:20260421T190518
CREATED:20210630T154811Z
LAST-MODIFIED:20210630T154811Z
UID:22427-1625842800-1625850000@radioterapiaitalia.it
SUMMARY:WEBINAR ECM - QUESTIONI APERTE NELLA RADIOTERAPIA TORACICA: UN FOCUS DI SUPPORTO PER LA PRATICA CLINICA (II EVENTO) - 9 LUGLIO 2021
DESCRIPTION:QUESTIONI APERTE NELLA RADIOTERAPIA TORACICA: UN FOCUS DI SUPPORTO PER LA PRATICA CLINICA (II EVENTO)\nDescrizione del Corso:\nIl corso è gratuito per i Soci AIRO in regola con la quota associativa 2021. \nIl corso prevede il confronto di specialisti esperti nell’ oncologia toracica su argomenti che hanno un’evidenza scientifica contraddittoria. Si tratta della scelta terapeutica per quelle patologie o condizioni cliniche rare o poco frequenti\, che hanno maggiore difficoltà nel trovare una chiara linea terapeutica. Sono le classiche situazioni in qui si possono incontrare pareri opposti di specialisti riguardo lo stesso argomento. Provare a fare chiarezza attraverso un confronto sulle evidenze scientifiche può essere d’aiuto nella pratica clinica quotidiana. \nVisualizza Programma \nIscrizione al Corso \nPer iscriversi al webinar è necessario: \n\nEffettuare la registrazione alla Piattaforma ECM (una tantum e se non già fatta per webinar precedenti). Si precisa che si tratta della registrazione alla Piattaforma ECM e non al sito AIRO\, pertanto deve essere fatta ex novo la prima volta che si desidera iscriversi ad un primo webinar.\nInviare la richiesta di iscrizione all’evento mediante il pulsante ACCEDI presente nella pagina del corso. L’iscrizione verrà approvata dopo verifica da parte della Segreteria della corretta iscrizione ad AIRO per l’anno in corso.
URL:https://radioterapiaitalia.it/event/webinar-ecm-questioni-aperte-nella-radioterapia-toracica-un-focus-di-supporto-per-la-pratica-clinica-ii-evento-9-luglio-2021/
CATEGORIES:CORSI E CONGRESSI AIRO,CORSI E CONGRESSI PATROCINATI AIRO
ATTACH;FMTTYPE=:
END:VEVENT
BEGIN:VEVENT
DTSTART;TZID=Europe/Rome:20210709T150000
DTEND;TZID=Europe/Rome:20210709T170000
DTSTAMP:20260421T190518
CREATED:20210630T154811Z
LAST-MODIFIED:20210630T154811Z
UID:42668-1625842800-1625850000@radioterapiaitalia.it
SUMMARY:WEBINAR ECM - QUESTIONI APERTE NELLA RADIOTERAPIA TORACICA: UN FOCUS DI SUPPORTO PER LA PRATICA CLINICA (II EVENTO) - 9 LUGLIO 2021
DESCRIPTION:QUESTIONI APERTE NELLA RADIOTERAPIA TORACICA: UN FOCUS DI SUPPORTO PER LA PRATICA CLINICA (II EVENTO)\nDescrizione del Corso:\nIl corso è gratuito per i Soci AIRO in regola con la quota associativa 2021. \nIl corso prevede il confronto di specialisti esperti nell’ oncologia toracica su argomenti che hanno un’evidenza scientifica contraddittoria. Si tratta della scelta terapeutica per quelle patologie o condizioni cliniche rare o poco frequenti\, che hanno maggiore difficoltà nel trovare una chiara linea terapeutica. Sono le classiche situazioni in qui si possono incontrare pareri opposti di specialisti riguardo lo stesso argomento. Provare a fare chiarezza attraverso un confronto sulle evidenze scientifiche può essere d’aiuto nella pratica clinica quotidiana. \nVisualizza Programma \nIscrizione al Corso \nPer iscriversi al webinar è necessario: \n\nEffettuare la registrazione alla Piattaforma ECM (una tantum e se non già fatta per webinar precedenti). Si precisa che si tratta della registrazione alla Piattaforma ECM e non al sito AIRO\, pertanto deve essere fatta ex novo la prima volta che si desidera iscriversi ad un primo webinar.\nInviare la richiesta di iscrizione all’evento mediante il pulsante ACCEDI presente nella pagina del corso. L’iscrizione verrà approvata dopo verifica da parte della Segreteria della corretta iscrizione ad AIRO per l’anno in corso.
URL:https://radioterapiaitalia.it/event/webinar-ecm-questioni-aperte-nella-radioterapia-toracica-un-focus-di-supporto-per-la-pratica-clinica-ii-evento-9-luglio-2021-2/
CATEGORIES:CORSI E CONGRESSI AIRO,CORSI E CONGRESSI PATROCINATI AIRO
ATTACH;FMTTYPE=:
END:VEVENT
END:VCALENDAR