BEGIN:VCALENDAR
VERSION:2.0
PRODID:-//AIRO - ECPv6.15.11//NONSGML v1.0//EN
CALSCALE:GREGORIAN
METHOD:PUBLISH
X-WR-CALNAME:AIRO
X-ORIGINAL-URL:https://radioterapiaitalia.it
X-WR-CALDESC:Eventi per AIRO
REFRESH-INTERVAL;VALUE=DURATION:PT1H
X-Robots-Tag:noindex
X-PUBLISHED-TTL:PT1H
BEGIN:VTIMEZONE
TZID:Europe/Rome
BEGIN:DAYLIGHT
TZOFFSETFROM:+0100
TZOFFSETTO:+0200
TZNAME:CEST
DTSTART:20200329T010000
END:DAYLIGHT
BEGIN:STANDARD
TZOFFSETFROM:+0200
TZOFFSETTO:+0100
TZNAME:CET
DTSTART:20201025T010000
END:STANDARD
BEGIN:DAYLIGHT
TZOFFSETFROM:+0100
TZOFFSETTO:+0200
TZNAME:CEST
DTSTART:20210328T010000
END:DAYLIGHT
BEGIN:STANDARD
TZOFFSETFROM:+0200
TZOFFSETTO:+0100
TZNAME:CET
DTSTART:20211031T010000
END:STANDARD
BEGIN:DAYLIGHT
TZOFFSETFROM:+0100
TZOFFSETTO:+0200
TZNAME:CEST
DTSTART:20220327T010000
END:DAYLIGHT
BEGIN:STANDARD
TZOFFSETFROM:+0200
TZOFFSETTO:+0100
TZNAME:CET
DTSTART:20221030T010000
END:STANDARD
END:VTIMEZONE
BEGIN:VEVENT
DTSTART;TZID=Europe/Rome:20210702T140000
DTEND;TZID=Europe/Rome:20210702T160000
DTSTAMP:20260421T185619
CREATED:20210622T163526Z
LAST-MODIFIED:20210622T163526Z
UID:22389-1625234400-1625241600@radioterapiaitalia.it
SUMMARY:WEBINAR ECM - DIAGNOSI E CURA DEL CARCINOMA SQUAMOSO DEL CANALE ANALE - 2 Luglio 2021
DESCRIPTION:DIAGNOSI E CURA DEL CARCINOMA SQUAMOSO DEL CANALE ANALE\nDescrizione del Corso:\nIl corso è gratuito per i Soci AIRO in regola con la quota associativa 2021. \nIl tumore squamoso del canale anale e’ una patologia rara. La radioterapia e’ la modalita’ terapeutica principale per questo tipo di patologia. Una certa variabilita’ prescrittiva in termini di dose erogata e di volumi di interesse radioterapico e’ presente in questo contesto clinico. Scopo del presente corso ECM e’ quello di discutere e stimolare la riflessione sugli approcci radioterapici nel tumore del canale anale\, per promuovere una armonizzazione delle strategie ed una implementazione dell’ evidence based practice su scala nazionale. \nVisualizza Programma \nIscrizione al Corso \nPer iscriversi al webinar è necessario: \n\nEffettuare la registrazione alla Piattaforma ECM (una tantum e se non già fatta per webinar precedenti). Si precisa che si tratta della registrazione alla Piattaforma ECM e non al sito AIRO\, pertanto deve essere fatta ex novo la prima volta che si desidera iscriversi ad un primo webinar.\nInviare la richiesta di iscrizione all’evento mediante il pulsante ACCEDI presente nella pagina del corso. L’iscrizione verrà approvata dopo verifica da parte della Segreteria della corretta iscrizione ad AIRO per l’anno in corso.
URL:https://radioterapiaitalia.it/event/webinar-ecm-diagnosi-e-cura-del-carcinoma-squamoso-del-canale-anale-2-luglio-2021/
CATEGORIES:CORSI E CONGRESSI AIRO,CORSI E CONGRESSI PATROCINATI AIRO
ATTACH;FMTTYPE=:
END:VEVENT
BEGIN:VEVENT
DTSTART;TZID=Europe/Rome:20210702T140000
DTEND;TZID=Europe/Rome:20210702T160000
DTSTAMP:20260421T185619
CREATED:20210622T163526Z
LAST-MODIFIED:20210622T163526Z
UID:42667-1625234400-1625241600@radioterapiaitalia.it
SUMMARY:WEBINAR ECM - DIAGNOSI E CURA DEL CARCINOMA SQUAMOSO DEL CANALE ANALE - 2 Luglio 2021
DESCRIPTION:DIAGNOSI E CURA DEL CARCINOMA SQUAMOSO DEL CANALE ANALE\nDescrizione del Corso:\nIl corso è gratuito per i Soci AIRO in regola con la quota associativa 2021. \nIl tumore squamoso del canale anale e’ una patologia rara. La radioterapia e’ la modalita’ terapeutica principale per questo tipo di patologia. Una certa variabilita’ prescrittiva in termini di dose erogata e di volumi di interesse radioterapico e’ presente in questo contesto clinico. Scopo del presente corso ECM e’ quello di discutere e stimolare la riflessione sugli approcci radioterapici nel tumore del canale anale\, per promuovere una armonizzazione delle strategie ed una implementazione dell’ evidence based practice su scala nazionale. \nVisualizza Programma \nIscrizione al Corso \nPer iscriversi al webinar è necessario: \n\nEffettuare la registrazione alla Piattaforma ECM (una tantum e se non già fatta per webinar precedenti). Si precisa che si tratta della registrazione alla Piattaforma ECM e non al sito AIRO\, pertanto deve essere fatta ex novo la prima volta che si desidera iscriversi ad un primo webinar.\nInviare la richiesta di iscrizione all’evento mediante il pulsante ACCEDI presente nella pagina del corso. L’iscrizione verrà approvata dopo verifica da parte della Segreteria della corretta iscrizione ad AIRO per l’anno in corso.
URL:https://radioterapiaitalia.it/event/webinar-ecm-diagnosi-e-cura-del-carcinoma-squamoso-del-canale-anale-2-luglio-2021-2/
CATEGORIES:CORSI E CONGRESSI AIRO,CORSI E CONGRESSI PATROCINATI AIRO
ATTACH;FMTTYPE=:
END:VEVENT
END:VCALENDAR