BEGIN:VCALENDAR
VERSION:2.0
PRODID:-//AIRO - ECPv6.15.11//NONSGML v1.0//EN
CALSCALE:GREGORIAN
METHOD:PUBLISH
X-WR-CALNAME:AIRO
X-ORIGINAL-URL:https://radioterapiaitalia.it
X-WR-CALDESC:Eventi per AIRO
REFRESH-INTERVAL;VALUE=DURATION:PT1H
X-Robots-Tag:noindex
X-PUBLISHED-TTL:PT1H
BEGIN:VTIMEZONE
TZID:Europe/Rome
BEGIN:DAYLIGHT
TZOFFSETFROM:+0100
TZOFFSETTO:+0200
TZNAME:CEST
DTSTART:20200329T010000
END:DAYLIGHT
BEGIN:STANDARD
TZOFFSETFROM:+0200
TZOFFSETTO:+0100
TZNAME:CET
DTSTART:20201025T010000
END:STANDARD
BEGIN:DAYLIGHT
TZOFFSETFROM:+0100
TZOFFSETTO:+0200
TZNAME:CEST
DTSTART:20210328T010000
END:DAYLIGHT
BEGIN:STANDARD
TZOFFSETFROM:+0200
TZOFFSETTO:+0100
TZNAME:CET
DTSTART:20211031T010000
END:STANDARD
BEGIN:DAYLIGHT
TZOFFSETFROM:+0100
TZOFFSETTO:+0200
TZNAME:CEST
DTSTART:20220327T010000
END:DAYLIGHT
BEGIN:STANDARD
TZOFFSETFROM:+0200
TZOFFSETTO:+0100
TZNAME:CET
DTSTART:20221030T010000
END:STANDARD
END:VTIMEZONE
BEGIN:VEVENT
DTSTART;TZID=Europe/Rome:20210611T090000
DTEND;TZID=Europe/Rome:20210611T163000
DTSTAMP:20260422T020441
CREATED:20210521T193941Z
LAST-MODIFIED:20210521T193941Z
UID:22227-1623402000-1623429000@radioterapiaitalia.it
SUMMARY:ZOOM Journal Club 2020-2021 - 11 Giugno 2021
DESCRIPTION:ZOOM Journal Club 2020-2021 si terrà in modalità virtuale\, ma condotto da Firenze con moderatori e relatori in presenza. La discussione sarà attiva e tutti voi potrete partecipare come se fosse un congresso in presenza. \nLa giornata congressuale verrà inoltre totalmente registrata e resa disponibile per tutti gli iscritti al Congresso. Con il materiale congressuale verrà inoltre realizzata una FAD asincrona di AIRO. \nL’iscrizione è gratuita ma obbligatoria. Per iscriversi seguire le istruzioni sulla piattaforma www.omniacongressi.com oppure scrivere email direttamente a info@omniacongressi.com. \nVisualizza Programma
URL:https://radioterapiaitalia.it/event/zoom-journal-club-2020-2021-11-giugno-2021/
CATEGORIES:CORSI E CONGRESSI PATROCINATI AIRO
ATTACH;FMTTYPE=:
END:VEVENT
BEGIN:VEVENT
DTSTART;TZID=Europe/Rome:20210611T090000
DTEND;TZID=Europe/Rome:20210611T163000
DTSTAMP:20260422T020441
CREATED:20210521T193941Z
LAST-MODIFIED:20210521T193941Z
UID:42664-1623402000-1623429000@radioterapiaitalia.it
SUMMARY:ZOOM Journal Club 2020-2021 - 11 Giugno 2021
DESCRIPTION:ZOOM Journal Club 2020-2021 si terrà in modalità virtuale\, ma condotto da Firenze con moderatori e relatori in presenza. La discussione sarà attiva e tutti voi potrete partecipare come se fosse un congresso in presenza. \nLa giornata congressuale verrà inoltre totalmente registrata e resa disponibile per tutti gli iscritti al Congresso. Con il materiale congressuale verrà inoltre realizzata una FAD asincrona di AIRO. \nL’iscrizione è gratuita ma obbligatoria. Per iscriversi seguire le istruzioni sulla piattaforma www.omniacongressi.com oppure scrivere email direttamente a info@omniacongressi.com. \nVisualizza Programma
URL:https://radioterapiaitalia.it/event/zoom-journal-club-2020-2021-11-giugno-2021-2/
CATEGORIES:CORSI E CONGRESSI PATROCINATI AIRO
ATTACH;FMTTYPE=:
END:VEVENT
BEGIN:VEVENT
DTSTART;TZID=Europe/Rome:20210611T143000
DTEND;TZID=Europe/Rome:20210611T163000
DTSTAMP:20260422T020441
CREATED:20210504T151100Z
LAST-MODIFIED:20210504T151100Z
UID:22077-1623421800-1623429000@radioterapiaitalia.it
SUMMARY:Corso di Formazione a Distanza sul Contouring delle Neoplasie del Rinofaringe - 4 e 11 Giugno 2021
DESCRIPTION:Descrizione del Corso:\nIl corso è gratuito per i Soci AIRO in regola con la quota associativa 2021. \nLa radioterapia svolge un ruolo fondamentale nel trattamento dei tumori del rinofaringe; viene utilizzata con intento di guarigione in tutti gli stadi di malattia non metastatica. La peculiare sede anatomica del distretto con vicinanza di numerosi di organi a rischio\, la complessità e la dimensione dei volumi di trattamento\, l’avanzamento delle tecniche di pianificazione\, il rischio di sequele tardive severe che compromettono la qualità di vita nei pazienti guariti rendono il contouring di queste neoplasie un banco di prova allo stesso tempo impegnativo e stimolante per il radioterapista oncologo.\nQuesto corso teorico pratico prevede una parte di lezioni di aggiornamento condotte da esperti del settore sulle procedure diagnostiche e terapeutiche nel management delle neoplasie del rinofaringe\, sulle sedi più frequenti di ricaduta loco-regionale e una fase pratica di definizione dei volumi bersaglio tumorali su caso clinico\, con l’obiettivo di fornire linee guida di contouring che aiutino i partecipanti a migliorare le loro abilità in questo ambito. \nVisualizza Programma \nScheda di Iscrizione (L’iscrizione è gratuita con numero di posti limitato a 15 centri: nello stesso centro potranno partecipare alla fase di contouring e alla didattica online un numero massimo di 5 partecipanti. E’ richiesta l’iscrizione ad AIRO. Verranno prese in considerazione le iscrizioni in ordine cronologico di ricezione.)\nDopo l’iscrizione i partecipanti riceveranno comunicazione circa le modalità di registrazione alla piattaforma FAD per ottenere i crediti ECM. \nProgramma\nFASE DI CONTOURING Pre-MEETING (5 Maggio – 3 Giugno): \nAgli iscritti verrà inviata documentazione (note cliniche\, imaging radiologico\, esami di centratura radioterapica\, esami strumentali) riguardante un caso clinico di paziente affetto da rinofaringe. Verrà richiesta la contornazione dei volumi target e di alcuni organi a rischio\, da inviare alla segreteria scientifica entro il 03-06-2021. \nPRIMO INCONTRO (4 Giugno 9.00 – 12.00) \nFASE DI CONTOURING POST-MEETING (4-10 Giugno)\nOgni centro partecipante potrà modificare\, alla luce della presentazioni degli esperti il contorno del caso precedentemente elaborato.\nI partecipanti di ogni centro dovranno rimandare le immagini DICOM del caso nuovamente contornato (1 solo contorno per centro) entro le ore 17 del 10-06-2021. \nSECONDO INCONTRO (11 Giugno 14.30 – 16.30)
URL:https://radioterapiaitalia.it/event/corso-di-formazione-a-distanza-sul-contouring-delle-neoplasie-del-rinofaringe-4-e-11-giugno-2021-2/
CATEGORIES:CORSI E CONGRESSI PATROCINATI AIRO
ATTACH;FMTTYPE=:
END:VEVENT
BEGIN:VEVENT
DTSTART;TZID=Europe/Rome:20210611T143000
DTEND;TZID=Europe/Rome:20210611T163000
DTSTAMP:20260422T020441
CREATED:20210504T151100Z
LAST-MODIFIED:20210504T151100Z
UID:42658-1623421800-1623429000@radioterapiaitalia.it
SUMMARY:Corso di Formazione a Distanza sul Contouring delle Neoplasie del Rinofaringe - 4 e 11 Giugno 2021
DESCRIPTION:Descrizione del Corso:\nIl corso è gratuito per i Soci AIRO in regola con la quota associativa 2021. \nLa radioterapia svolge un ruolo fondamentale nel trattamento dei tumori del rinofaringe; viene utilizzata con intento di guarigione in tutti gli stadi di malattia non metastatica. La peculiare sede anatomica del distretto con vicinanza di numerosi di organi a rischio\, la complessità e la dimensione dei volumi di trattamento\, l’avanzamento delle tecniche di pianificazione\, il rischio di sequele tardive severe che compromettono la qualità di vita nei pazienti guariti rendono il contouring di queste neoplasie un banco di prova allo stesso tempo impegnativo e stimolante per il radioterapista oncologo.\nQuesto corso teorico pratico prevede una parte di lezioni di aggiornamento condotte da esperti del settore sulle procedure diagnostiche e terapeutiche nel management delle neoplasie del rinofaringe\, sulle sedi più frequenti di ricaduta loco-regionale e una fase pratica di definizione dei volumi bersaglio tumorali su caso clinico\, con l’obiettivo di fornire linee guida di contouring che aiutino i partecipanti a migliorare le loro abilità in questo ambito. \nVisualizza Programma \nScheda di Iscrizione (L’iscrizione è gratuita con numero di posti limitato a 15 centri: nello stesso centro potranno partecipare alla fase di contouring e alla didattica online un numero massimo di 5 partecipanti. E’ richiesta l’iscrizione ad AIRO. Verranno prese in considerazione le iscrizioni in ordine cronologico di ricezione.)\nDopo l’iscrizione i partecipanti riceveranno comunicazione circa le modalità di registrazione alla piattaforma FAD per ottenere i crediti ECM. \nProgramma\nFASE DI CONTOURING Pre-MEETING (5 Maggio – 3 Giugno): \nAgli iscritti verrà inviata documentazione (note cliniche\, imaging radiologico\, esami di centratura radioterapica\, esami strumentali) riguardante un caso clinico di paziente affetto da rinofaringe. Verrà richiesta la contornazione dei volumi target e di alcuni organi a rischio\, da inviare alla segreteria scientifica entro il 03-06-2021. \nPRIMO INCONTRO (4 Giugno 9.00 – 12.00) \nFASE DI CONTOURING POST-MEETING (4-10 Giugno)\nOgni centro partecipante potrà modificare\, alla luce della presentazioni degli esperti il contorno del caso precedentemente elaborato.\nI partecipanti di ogni centro dovranno rimandare le immagini DICOM del caso nuovamente contornato (1 solo contorno per centro) entro le ore 17 del 10-06-2021. \nSECONDO INCONTRO (11 Giugno 14.30 – 16.30)
URL:https://radioterapiaitalia.it/event/corso-di-formazione-a-distanza-sul-contouring-delle-neoplasie-del-rinofaringe-4-e-11-giugno-2021-2-2/
CATEGORIES:CORSI E CONGRESSI PATROCINATI AIRO
ATTACH;FMTTYPE=:
END:VEVENT
END:VCALENDAR