BEGIN:VCALENDAR
VERSION:2.0
PRODID:-//AIRO - ECPv6.15.11//NONSGML v1.0//EN
CALSCALE:GREGORIAN
METHOD:PUBLISH
X-WR-CALNAME:AIRO
X-ORIGINAL-URL:https://radioterapiaitalia.it
X-WR-CALDESC:Eventi per AIRO
REFRESH-INTERVAL;VALUE=DURATION:PT1H
X-Robots-Tag:noindex
X-PUBLISHED-TTL:PT1H
BEGIN:VTIMEZONE
TZID:Europe/Rome
BEGIN:DAYLIGHT
TZOFFSETFROM:+0100
TZOFFSETTO:+0200
TZNAME:CEST
DTSTART:20200329T010000
END:DAYLIGHT
BEGIN:STANDARD
TZOFFSETFROM:+0200
TZOFFSETTO:+0100
TZNAME:CET
DTSTART:20201025T010000
END:STANDARD
BEGIN:DAYLIGHT
TZOFFSETFROM:+0100
TZOFFSETTO:+0200
TZNAME:CEST
DTSTART:20210328T010000
END:DAYLIGHT
BEGIN:STANDARD
TZOFFSETFROM:+0200
TZOFFSETTO:+0100
TZNAME:CET
DTSTART:20211031T010000
END:STANDARD
BEGIN:DAYLIGHT
TZOFFSETFROM:+0100
TZOFFSETTO:+0200
TZNAME:CEST
DTSTART:20220327T010000
END:DAYLIGHT
BEGIN:STANDARD
TZOFFSETFROM:+0200
TZOFFSETTO:+0100
TZNAME:CET
DTSTART:20221030T010000
END:STANDARD
END:VTIMEZONE
BEGIN:VEVENT
DTSTART;TZID=Europe/Rome:20210528T153000
DTEND;TZID=Europe/Rome:20210528T173000
DTSTAMP:20260422T040339
CREATED:20210521T013548Z
LAST-MODIFIED:20210521T013548Z
UID:22218-1622215800-1622223000@radioterapiaitalia.it
SUMMARY:WEBINAR ECM - LA PET NELLA PIANIFICAZIONE RADIOTERAPICA IN NEUROONCOLOGIA (QUANDO? QUALE?) - 28 MAGGIO 2021
DESCRIPTION:LA PET NELLA PIANIFICAZIONE RADIOTERAPICA IN NEUROONCOLOGIA (QUANDO? QUALE?)\nWebinar ECM\nDescrizione del Corso:\nIl corso è gratuito per i Soci AIRO in regola con la quota associativa 2021. \nRadiation therapy process widely uses anatomic imaging such as contrast-enhanced CT and MRI. However\, in the clinical routine\, diagnostic issues that cannot be sufficiently addressed by standard morphologic imaging arise. In particular\, the delineation of viable tumor tissue can be challenging\, especially in patients with previous treatments. In fact\, the accuracy of target delineation in radiation treatment planning of cerebral gliomas is crucial to achieve high tumor control\, while minimizing treatment-related toxicity. Moreover\, treatment response assessment with conventional morphological imaging is partly unable to correctly differentiate early relapse from radiation induced changes or inflammation. Therefore\, positron emission tomography (PET) imaging gains increasing clinical significance in the management of oncological patients undergoing radiotherapy\, as PET allows the visualization and quantification of tumoral features on a molecular level beyond the mere morphological extent on conventional imaging\, such as tumor metabolism or receptor expression. \nThe aim of the present webinar is to evaluate and discuss present and future implementation of PET imaging for neuro-oncology RT planning. \nVisualizza Programma \nIscrizione al Webinar \nPer iscriversi al webinar è necessario: \n\nEffettuare la registrazione alla Piattaforma ECM (una tantum e se non già fatta per webinar precedenti). Si precisa che si tratta della registrazione alla Piattaforma ECM e non al sito AIRO\, pertanto deve essere fatta ex novo la prima volta che si desidera iscriversi ad un primo webinar.\nInviare la richiesta di iscrizione all’evento mediante il pulsante ACCEDI presente nella pagina del corso. L’iscrizione verrà approvata dopo verifica da parte della Segreteria della corretta iscrizione ad AIRO per l’anno in corso.
URL:https://radioterapiaitalia.it/event/webinar-ecm-la-pet-nella-pianificazione-radioterapica-in-neurooncologia-quando-quale-28-maggio-2021/
CATEGORIES:CORSI E CONGRESSI PATROCINATI AIRO
ATTACH;FMTTYPE=:
END:VEVENT
BEGIN:VEVENT
DTSTART;TZID=Europe/Rome:20210528T153000
DTEND;TZID=Europe/Rome:20210528T173000
DTSTAMP:20260422T040339
CREATED:20210521T013548Z
LAST-MODIFIED:20210521T013548Z
UID:42663-1622215800-1622223000@radioterapiaitalia.it
SUMMARY:WEBINAR ECM - LA PET NELLA PIANIFICAZIONE RADIOTERAPICA IN NEUROONCOLOGIA (QUANDO? QUALE?) - 28 MAGGIO 2021
DESCRIPTION:LA PET NELLA PIANIFICAZIONE RADIOTERAPICA IN NEUROONCOLOGIA (QUANDO? QUALE?)\nWebinar ECM\nDescrizione del Corso:\nIl corso è gratuito per i Soci AIRO in regola con la quota associativa 2021. \nRadiation therapy process widely uses anatomic imaging such as contrast-enhanced CT and MRI. However\, in the clinical routine\, diagnostic issues that cannot be sufficiently addressed by standard morphologic imaging arise. In particular\, the delineation of viable tumor tissue can be challenging\, especially in patients with previous treatments. In fact\, the accuracy of target delineation in radiation treatment planning of cerebral gliomas is crucial to achieve high tumor control\, while minimizing treatment-related toxicity. Moreover\, treatment response assessment with conventional morphological imaging is partly unable to correctly differentiate early relapse from radiation induced changes or inflammation. Therefore\, positron emission tomography (PET) imaging gains increasing clinical significance in the management of oncological patients undergoing radiotherapy\, as PET allows the visualization and quantification of tumoral features on a molecular level beyond the mere morphological extent on conventional imaging\, such as tumor metabolism or receptor expression. \nThe aim of the present webinar is to evaluate and discuss present and future implementation of PET imaging for neuro-oncology RT planning. \nVisualizza Programma \nIscrizione al Webinar \nPer iscriversi al webinar è necessario: \n\nEffettuare la registrazione alla Piattaforma ECM (una tantum e se non già fatta per webinar precedenti). Si precisa che si tratta della registrazione alla Piattaforma ECM e non al sito AIRO\, pertanto deve essere fatta ex novo la prima volta che si desidera iscriversi ad un primo webinar.\nInviare la richiesta di iscrizione all’evento mediante il pulsante ACCEDI presente nella pagina del corso. L’iscrizione verrà approvata dopo verifica da parte della Segreteria della corretta iscrizione ad AIRO per l’anno in corso.
URL:https://radioterapiaitalia.it/event/webinar-ecm-la-pet-nella-pianificazione-radioterapica-in-neurooncologia-quando-quale-28-maggio-2021-2/
CATEGORIES:CORSI E CONGRESSI PATROCINATI AIRO
ATTACH;FMTTYPE=:
END:VEVENT
END:VCALENDAR