BEGIN:VCALENDAR
VERSION:2.0
PRODID:-//AIRO - ECPv6.15.11//NONSGML v1.0//EN
CALSCALE:GREGORIAN
METHOD:PUBLISH
X-ORIGINAL-URL:https://radioterapiaitalia.it
X-WR-CALDESC:Eventi per AIRO
REFRESH-INTERVAL;VALUE=DURATION:PT1H
X-Robots-Tag:noindex
X-PUBLISHED-TTL:PT1H
BEGIN:VTIMEZONE
TZID:Europe/Rome
BEGIN:DAYLIGHT
TZOFFSETFROM:+0100
TZOFFSETTO:+0200
TZNAME:CEST
DTSTART:20200329T010000
END:DAYLIGHT
BEGIN:STANDARD
TZOFFSETFROM:+0200
TZOFFSETTO:+0100
TZNAME:CET
DTSTART:20201025T010000
END:STANDARD
BEGIN:DAYLIGHT
TZOFFSETFROM:+0100
TZOFFSETTO:+0200
TZNAME:CEST
DTSTART:20210328T010000
END:DAYLIGHT
BEGIN:STANDARD
TZOFFSETFROM:+0200
TZOFFSETTO:+0100
TZNAME:CET
DTSTART:20211031T010000
END:STANDARD
BEGIN:DAYLIGHT
TZOFFSETFROM:+0100
TZOFFSETTO:+0200
TZNAME:CEST
DTSTART:20220327T010000
END:DAYLIGHT
BEGIN:STANDARD
TZOFFSETFROM:+0200
TZOFFSETTO:+0100
TZNAME:CET
DTSTART:20221030T010000
END:STANDARD
END:VTIMEZONE
BEGIN:VEVENT
DTSTART;TZID=Europe/Rome:20210521T150000
DTEND;TZID=Europe/Rome:20210521T170000
DTSTAMP:20260422T040659
CREATED:20210517T165806Z
LAST-MODIFIED:20210517T165806Z
UID:42661-1621609200-1621616400@radioterapiaitalia.it
SUMMARY:WEBINAR ECM - ASSICURAZIONE DI QUALITA' NELLA RADIOTERAPIA INTRAOPERATORIA (IORT): AGGIORNAMENTO DEL RAPPORTO ISTISAN 03/1 - 21 MAGGIO 2021
DESCRIPTION:ASSICURAZIONE DI QUALITA’ NELLA RADIOTERAPIA INTRAOPERATORIA (IORT):\nAGGIORNAMENTO DEL RAPPORTO ISTISAN 03/1\nWebinar ECM\nDescrizione del Corso:\nIl corso è gratuito per i Soci AIRO in regola con la quota associativa 2021. \nIl corso si riferisce al Documento in oggetto\, che costituisce la revisione finale della precedente versione del 2003 ed illustra la “filosofia globale” della Garanzia di Qualità nella Radioterapia Intraoperatoria\, considerando gli aspetti clinici\, tecnici e fisico-dosimetrici\, sia per la tecnica con elettroni che per quella con fotoni. \nVengono descritte le fasi organizzative\, le procedure operative e le relative indicazioni terapeutiche della IORT\, con particolare riferimento alle neoplasie pancreatiche\, a quelle ginecologiche\, ai sarcomi ed alle situazioni particolari (gravidanza\, pacemaker) oltre alle apparecchiature\, agli aspetti dosimetrici\, e ai controlli di Qualità/FMEA. \nVisualizza Programma \nIscrizione al Webinar \nPer iscriversi al webinar è necessario: \n\nEffettuare la registrazione alla Piattaforma ECM (una tantum e se non già fatta per webinar precedenti). Si precisa che si tratta della registrazione alla Piattaforma ECM e non al sito AIRO\, pertanto deve essere fatta ex novo la prima volta che si desidera iscriversi ad un primo webinar.\nInviare la richiesta di iscrizione all’evento mediante il pulsante ACCEDI presente nella pagina del corso. L’iscrizione verrà approvata dopo verifica da parte della Segreteria della corretta iscrizione ad AIRO per l’anno in corso.
URL:https://radioterapiaitalia.it/event/webinar-ecm-assicurazione-di-qualita-nella-radioterapia-intraoperatoria-iort-aggiornamento-del-rapporto-istisan-03-1-21-maggio-2021-2/
CATEGORIES:CORSI E CONGRESSI PATROCINATI AIRO
ATTACH;FMTTYPE=:
END:VEVENT
BEGIN:VEVENT
DTSTART;TZID=Europe/Rome:20210521T150000
DTEND;TZID=Europe/Rome:20210521T170000
DTSTAMP:20260422T040659
CREATED:20210517T165806Z
LAST-MODIFIED:20210517T165806Z
UID:22197-1621609200-1621616400@radioterapiaitalia.it
SUMMARY:WEBINAR ECM - ASSICURAZIONE DI QUALITA' NELLA RADIOTERAPIA INTRAOPERATORIA (IORT): AGGIORNAMENTO DEL RAPPORTO ISTISAN 03/1 - 21 MAGGIO 2021
DESCRIPTION:ASSICURAZIONE DI QUALITA’ NELLA RADIOTERAPIA INTRAOPERATORIA (IORT):\nAGGIORNAMENTO DEL RAPPORTO ISTISAN 03/1\nWebinar ECM\nDescrizione del Corso:\nIl corso è gratuito per i Soci AIRO in regola con la quota associativa 2021. \nIl corso si riferisce al Documento in oggetto\, che costituisce la revisione finale della precedente versione del 2003 ed illustra la “filosofia globale” della Garanzia di Qualità nella Radioterapia Intraoperatoria\, considerando gli aspetti clinici\, tecnici e fisico-dosimetrici\, sia per la tecnica con elettroni che per quella con fotoni. \nVengono descritte le fasi organizzative\, le procedure operative e le relative indicazioni terapeutiche della IORT\, con particolare riferimento alle neoplasie pancreatiche\, a quelle ginecologiche\, ai sarcomi ed alle situazioni particolari (gravidanza\, pacemaker) oltre alle apparecchiature\, agli aspetti dosimetrici\, e ai controlli di Qualità/FMEA. \nVisualizza Programma \nIscrizione al Webinar \nPer iscriversi al webinar è necessario: \n\nEffettuare la registrazione alla Piattaforma ECM (una tantum e se non già fatta per webinar precedenti). Si precisa che si tratta della registrazione alla Piattaforma ECM e non al sito AIRO\, pertanto deve essere fatta ex novo la prima volta che si desidera iscriversi ad un primo webinar.\nInviare la richiesta di iscrizione all’evento mediante il pulsante ACCEDI presente nella pagina del corso. L’iscrizione verrà approvata dopo verifica da parte della Segreteria della corretta iscrizione ad AIRO per l’anno in corso.
URL:https://radioterapiaitalia.it/event/webinar-ecm-assicurazione-di-qualita-nella-radioterapia-intraoperatoria-iort-aggiornamento-del-rapporto-istisan-03-1-21-maggio-2021/
CATEGORIES:CORSI E CONGRESSI PATROCINATI AIRO
ATTACH;FMTTYPE=:
END:VEVENT
END:VCALENDAR