BEGIN:VCALENDAR
VERSION:2.0
PRODID:-//AIRO - ECPv6.15.11//NONSGML v1.0//EN
CALSCALE:GREGORIAN
METHOD:PUBLISH
X-WR-CALNAME:AIRO
X-ORIGINAL-URL:https://radioterapiaitalia.it
X-WR-CALDESC:Eventi per AIRO
REFRESH-INTERVAL;VALUE=DURATION:PT1H
X-Robots-Tag:noindex
X-PUBLISHED-TTL:PT1H
BEGIN:VTIMEZONE
TZID:Europe/Rome
BEGIN:DAYLIGHT
TZOFFSETFROM:+0100
TZOFFSETTO:+0200
TZNAME:CEST
DTSTART:20200329T010000
END:DAYLIGHT
BEGIN:STANDARD
TZOFFSETFROM:+0200
TZOFFSETTO:+0100
TZNAME:CET
DTSTART:20201025T010000
END:STANDARD
BEGIN:DAYLIGHT
TZOFFSETFROM:+0100
TZOFFSETTO:+0200
TZNAME:CEST
DTSTART:20210328T010000
END:DAYLIGHT
BEGIN:STANDARD
TZOFFSETFROM:+0200
TZOFFSETTO:+0100
TZNAME:CET
DTSTART:20211031T010000
END:STANDARD
BEGIN:DAYLIGHT
TZOFFSETFROM:+0100
TZOFFSETTO:+0200
TZNAME:CEST
DTSTART:20220327T010000
END:DAYLIGHT
BEGIN:STANDARD
TZOFFSETFROM:+0200
TZOFFSETTO:+0100
TZNAME:CET
DTSTART:20221030T010000
END:STANDARD
END:VTIMEZONE
BEGIN:VEVENT
DTSTART;TZID=Europe/Rome:20210514T150000
DTEND;TZID=Europe/Rome:20210514T170000
DTSTAMP:20260422T040339
CREATED:20210505T002249Z
LAST-MODIFIED:20210505T002249Z
UID:22083-1621004400-1621011600@radioterapiaitalia.it
SUMMARY:WEBINAR ECM – NEWS SULLA GESTIONE DEL PAZIENTE CON DOLORE ONCOLOGICO: INTEGRAZIONE TRA RADIOTERAPIA E CURE PALLIATIVE – 14 MAGGIO 2021
DESCRIPTION:NEWS SULLA GESTIONE DEL PAZIENTE CON DOLORE ONCOLOGICO: INTEGRAZIONE TRA RADIOTERAPIA E CURE PALLIATIVE\nWebinar ECM\nDescrizione del Corso:\nIl corso è gratuito per i Soci AIRO in regola con la quota associativa 2021. \nLa gestione del paziente con dolore oncologico coinvolge l’attività quotidiana di ogni Centro di Radioterapia Oncologica. La nostra figura professionale riveste un ruolo centrale nella gestione di questi pazienti seguiti anche\, nel territorio\, dal servizio di Cure Palliative. \nLo scopo di questo corso è approfondire il ruolo del Palliativista e del Radioterapista Oncologo\, dalle Linee Guida alle nuove tecniche radioterapiche richiamando i Protocolli proposti dal Gruppo di Studio. \nInoltre la sinergia e l’interazione tra queste due figure professionali\, centrali nella gestione del dolore oncologico\, è rappresentato da un nuovo modello di ambulatorio integrato. \nVisualizza Programma \nIscrizione al Webinar \nPer iscriversi al webinar è necessario: \n\nEffettuare la registrazione alla Piattaforma ECM (una tantum e se non già fatta per webinar precedente). Si precisa che si tratta della registrazione alla Piattaforma ECM e non al sito AIRO\, pertanto deve essere fatta ex novo la prima volta che si desidera iscriversi ad un primo webinar.\nInviare la richiesta di iscrizione all’evento mediante il pulsante ACCEDI presente nella pagina del corso. L’iscrizione verrà approvata dopo verifica da parte della Segreteria della corretta iscrizione ad AIRO per l’anno in corso.
URL:https://radioterapiaitalia.it/event/webinar-ecm-news-sulla-gestione-del-paziente-con-dolore-oncologico-integrazione-tra-radioterapia-e-cure-palliative-14-maggio-2021/
CATEGORIES:CORSI E CONGRESSI PATROCINATI AIRO
ATTACH;FMTTYPE=:
END:VEVENT
BEGIN:VEVENT
DTSTART;TZID=Europe/Rome:20210514T150000
DTEND;TZID=Europe/Rome:20210514T170000
DTSTAMP:20260422T040339
CREATED:20210505T002249Z
LAST-MODIFIED:20210505T002249Z
UID:42659-1621004400-1621011600@radioterapiaitalia.it
SUMMARY:WEBINAR ECM – NEWS SULLA GESTIONE DEL PAZIENTE CON DOLORE ONCOLOGICO: INTEGRAZIONE TRA RADIOTERAPIA E CURE PALLIATIVE – 14 MAGGIO 2021
DESCRIPTION:NEWS SULLA GESTIONE DEL PAZIENTE CON DOLORE ONCOLOGICO: INTEGRAZIONE TRA RADIOTERAPIA E CURE PALLIATIVE\nWebinar ECM\nDescrizione del Corso:\nIl corso è gratuito per i Soci AIRO in regola con la quota associativa 2021. \nLa gestione del paziente con dolore oncologico coinvolge l’attività quotidiana di ogni Centro di Radioterapia Oncologica. La nostra figura professionale riveste un ruolo centrale nella gestione di questi pazienti seguiti anche\, nel territorio\, dal servizio di Cure Palliative. \nLo scopo di questo corso è approfondire il ruolo del Palliativista e del Radioterapista Oncologo\, dalle Linee Guida alle nuove tecniche radioterapiche richiamando i Protocolli proposti dal Gruppo di Studio. \nInoltre la sinergia e l’interazione tra queste due figure professionali\, centrali nella gestione del dolore oncologico\, è rappresentato da un nuovo modello di ambulatorio integrato. \nVisualizza Programma \nIscrizione al Webinar \nPer iscriversi al webinar è necessario: \n\nEffettuare la registrazione alla Piattaforma ECM (una tantum e se non già fatta per webinar precedente). Si precisa che si tratta della registrazione alla Piattaforma ECM e non al sito AIRO\, pertanto deve essere fatta ex novo la prima volta che si desidera iscriversi ad un primo webinar.\nInviare la richiesta di iscrizione all’evento mediante il pulsante ACCEDI presente nella pagina del corso. L’iscrizione verrà approvata dopo verifica da parte della Segreteria della corretta iscrizione ad AIRO per l’anno in corso.
URL:https://radioterapiaitalia.it/event/webinar-ecm-news-sulla-gestione-del-paziente-con-dolore-oncologico-integrazione-tra-radioterapia-e-cure-palliative-14-maggio-2021-2/
CATEGORIES:CORSI E CONGRESSI PATROCINATI AIRO
ATTACH;FMTTYPE=:
END:VEVENT
END:VCALENDAR