BEGIN:VCALENDAR
VERSION:2.0
PRODID:-//AIRO - ECPv6.15.11//NONSGML v1.0//EN
CALSCALE:GREGORIAN
METHOD:PUBLISH
X-WR-CALNAME:AIRO
X-ORIGINAL-URL:https://radioterapiaitalia.it
X-WR-CALDESC:Eventi per AIRO
REFRESH-INTERVAL;VALUE=DURATION:PT1H
X-Robots-Tag:noindex
X-PUBLISHED-TTL:PT1H
BEGIN:VTIMEZONE
TZID:Europe/Rome
BEGIN:DAYLIGHT
TZOFFSETFROM:+0100
TZOFFSETTO:+0200
TZNAME:CEST
DTSTART:20180325T010000
END:DAYLIGHT
BEGIN:STANDARD
TZOFFSETFROM:+0200
TZOFFSETTO:+0100
TZNAME:CET
DTSTART:20181028T010000
END:STANDARD
BEGIN:DAYLIGHT
TZOFFSETFROM:+0100
TZOFFSETTO:+0200
TZNAME:CEST
DTSTART:20190331T010000
END:DAYLIGHT
BEGIN:STANDARD
TZOFFSETFROM:+0200
TZOFFSETTO:+0100
TZNAME:CET
DTSTART:20191027T010000
END:STANDARD
BEGIN:DAYLIGHT
TZOFFSETFROM:+0100
TZOFFSETTO:+0200
TZNAME:CEST
DTSTART:20200329T010000
END:DAYLIGHT
BEGIN:STANDARD
TZOFFSETFROM:+0200
TZOFFSETTO:+0100
TZNAME:CET
DTSTART:20201025T010000
END:STANDARD
END:VTIMEZONE
BEGIN:VEVENT
DTSTART;TZID=Europe/Rome:20191122T080000
DTEND;TZID=Europe/Rome:20191122T170000
DTSTAMP:20260424T095346
CREATED:20191002T155826Z
LAST-MODIFIED:20191002T155826Z
UID:18501-1574409600-1574442000@radioterapiaitalia.it
SUMMARY:Brescia Meetings in Radiation Oncology\, 2019 Edition «KEEP CALM AND STAY YOUNG - Brescia 22 Novembre 2019»
DESCRIPTION:Visualizza Programma
URL:https://radioterapiaitalia.it/event/brescia-meetings-in-radiation-oncology-2019-edition-keep-calm-and-stay-young/
CATEGORIES:CORSI E CONGRESSI PATROCINATI AIRO
ATTACH;FMTTYPE=:
END:VEVENT
BEGIN:VEVENT
DTSTART;TZID=Europe/Rome:20191122T080000
DTEND;TZID=Europe/Rome:20191122T170000
DTSTAMP:20260424T095346
CREATED:20191002T155826Z
LAST-MODIFIED:20191002T155826Z
UID:42606-1574409600-1574442000@radioterapiaitalia.it
SUMMARY:Brescia Meetings in Radiation Oncology\, 2019 Edition «KEEP CALM AND STAY YOUNG - Brescia 22 Novembre 2019»
DESCRIPTION:Visualizza Programma
URL:https://radioterapiaitalia.it/event/brescia-meetings-in-radiation-oncology-2019-edition-keep-calm-and-stay-young-2/
CATEGORIES:CORSI E CONGRESSI PATROCINATI AIRO
ATTACH;FMTTYPE=:
END:VEVENT
END:VCALENDAR