BEGIN:VCALENDAR
VERSION:2.0
PRODID:-//AIRO - ECPv6.15.11//NONSGML v1.0//EN
CALSCALE:GREGORIAN
METHOD:PUBLISH
X-WR-CALNAME:AIRO
X-ORIGINAL-URL:https://radioterapiaitalia.it
X-WR-CALDESC:Eventi per AIRO
REFRESH-INTERVAL;VALUE=DURATION:PT1H
X-Robots-Tag:noindex
X-PUBLISHED-TTL:PT1H
BEGIN:VTIMEZONE
TZID:Europe/Rome
BEGIN:DAYLIGHT
TZOFFSETFROM:+0100
TZOFFSETTO:+0200
TZNAME:CEST
DTSTART:20200329T010000
END:DAYLIGHT
BEGIN:STANDARD
TZOFFSETFROM:+0200
TZOFFSETTO:+0100
TZNAME:CET
DTSTART:20201025T010000
END:STANDARD
BEGIN:DAYLIGHT
TZOFFSETFROM:+0100
TZOFFSETTO:+0200
TZNAME:CEST
DTSTART:20210328T010000
END:DAYLIGHT
BEGIN:STANDARD
TZOFFSETFROM:+0200
TZOFFSETTO:+0100
TZNAME:CET
DTSTART:20211031T010000
END:STANDARD
BEGIN:DAYLIGHT
TZOFFSETFROM:+0100
TZOFFSETTO:+0200
TZNAME:CEST
DTSTART:20220327T010000
END:DAYLIGHT
BEGIN:STANDARD
TZOFFSETFROM:+0200
TZOFFSETTO:+0100
TZNAME:CET
DTSTART:20221030T010000
END:STANDARD
BEGIN:DAYLIGHT
TZOFFSETFROM:+0100
TZOFFSETTO:+0200
TZNAME:CEST
DTSTART:20230326T010000
END:DAYLIGHT
BEGIN:STANDARD
TZOFFSETFROM:+0200
TZOFFSETTO:+0100
TZNAME:CET
DTSTART:20231029T010000
END:STANDARD
END:VTIMEZONE
BEGIN:VEVENT
DTSTART;TZID=Europe/Rome:20210901T080000
DTEND;TZID=Europe/Rome:20220930T170000
DTSTAMP:20260419T154216
CREATED:20220128T153202Z
LAST-MODIFIED:20220128T153202Z
UID:42700-1630483200-1664557200@radioterapiaitalia.it
SUMMARY:FAD Asincrona - Gestione Multidisciplinare delle Neoplasie Ginecologiche: nuovi trattamenti farmacologici e radioterapici - Settembre 2021/Settembre 2022
DESCRIPTION:Visualizza Programma
URL:https://radioterapiaitalia.it/event/fad-asincrona-gestione-multidisciplinare-delle-neoplasie-ginecologiche-nuovi-trattamenti-farmacologici-e-radioterapici-settembre-2021-settembre-2022-2/
CATEGORIES:CORSI E CONGRESSI PATROCINATI AIRO
ATTACH;FMTTYPE=:
END:VEVENT
BEGIN:VEVENT
DTSTART;TZID=Europe/Rome:20210901T080000
DTEND;TZID=Europe/Rome:20220930T170000
DTSTAMP:20260419T154216
CREATED:20220128T153202Z
LAST-MODIFIED:20220128T153202Z
UID:24091-1630483200-1664557200@radioterapiaitalia.it
SUMMARY:FAD Asincrona - Gestione Multidisciplinare delle Neoplasie Ginecologiche: nuovi trattamenti farmacologici e radioterapici - Settembre 2021/Settembre 2022
DESCRIPTION:Visualizza Programma
URL:https://radioterapiaitalia.it/event/fad-asincrona-gestione-multidisciplinare-delle-neoplasie-ginecologiche-nuovi-trattamenti-farmacologici-e-radioterapici-settembre-2021-settembre-2022/
CATEGORIES:CORSI E CONGRESSI PATROCINATI AIRO
ATTACH;FMTTYPE=:
END:VEVENT
BEGIN:VEVENT
DTSTART;TZID=Europe/Rome:20211105T143000
DTEND;TZID=Europe/Rome:20211105T163000
DTSTAMP:20260419T154216
CREATED:20210913T174152Z
LAST-MODIFIED:20210913T174152Z
UID:42678-1636122600-1636129800@radioterapiaitalia.it
SUMMARY:Corso di Formazione a Distanza sul Contouring delle Neoplasie del Rinofaringe - 29 Ottobre\, 5 Novembre 2021
DESCRIPTION:I S C R I Z I O N I   C H I U S E\nRAGGIUNTO IL NUMERO MASSIMO DI CENTRI PARTECIPANTI\nDescrizione del Corso:\nIl corso è gratuito per i Soci AIRO in regola con la quota associativa 2021. \nLa radioterapia svolge un ruolo fondamentale nel trattamento dei tumori del rinofaringe; viene utilizzata con intento di guarigione in tutti gli stadi di malattia non metastatica. La peculiare sede anatomica del distretto con vicinanza di numerosi di organi a rischio\, la complessità e la dimensione dei volumi di trattamento\, l’avanzamento delle tecniche di pianificazione\, il rischio di sequele tardive severe che compromettono la qualità di vita nei pazienti guariti rendono il contouring di queste neoplasie un banco di prova allo stesso tempo impegnativo e stimolante per il radioterapista oncologo.\nQuesto corso teorico pratico prevede una parte di lezioni di aggiornamento condotte da esperti del settore sulle procedure diagnostiche e terapeutiche nel management delle neoplasie del rinofaringe\, sulle sedi più frequenti di ricaduta loco-regionale e una fase pratica di definizione dei volumi bersaglio tumorali su caso clinico\, con l’obiettivo di fornire linee guida di contouring che aiutino i partecipanti a migliorare le loro abilità in questo ambito. \nVisualizza Programma \nScheda Iscrizione (L’iscrizione è gratuita con numero di posti limitato a 15 centri: nello stesso centro potranno partecipare alla fase di contouring e alla didattica online un numero massimo di 5 partecipanti. Il Corso è riservato esclusivamente ai Soci AIRO. Verranno prese in considerazione le iscrizioni in ordine cronologico di ricezione. Le iscrizioni devono pervenire entro il 01-10-2021 ai contatti indicati nella scheda)\nDopo l’iscrizione i partecipanti riceveranno comunicazione circa le modalità di registrazione alla piattaforma FAD per ottenere i crediti ECM. \nProgramma\nFASE DI CONTOURING Pre-MEETING (4 ottobre – 26 ottobre):\nai centri iscritti verranno inviata documentazione (note cliniche\, imaging radiologico\, esami strumentali\, TAC di centratura) riguardante un caso clinico di un paziente affetto da tumore del rinofaringe. Verrà richiesta la contornazione dei volumi target e di alcuni organi a rischio\, da inviare alla segreteria scientifica entro il 26/10/21. \nPRIMO INCONTRO (29 ottobre 2021 9.00 – 12.00) \nFASE DI CONTOURING Post-MEETING (29 ottobre – 3 novembre)\nOgni centro partecipante potrà modificare\, alla luce della presentazioni degli esperti il contorno del caso precedentemente elaborato.\nI partecipanti di ogni centro dovranno rimandare le immagini DICOM del caso nuovamente contornato (1 solo contorno per centro) entro le ore 15 del 3/11/21 \nSECONDO INCONTRO (5 Novembre 2021 14.30 – 16.30)
URL:https://radioterapiaitalia.it/event/corso-di-formazione-a-distanza-sul-contouring-delle-neoplasie-del-rinofaringe-29-ottobre-5-novembre-2021-2-2/
CATEGORIES:CORSI E CONGRESSI PATROCINATI AIRO
ATTACH;FMTTYPE=:
END:VEVENT
BEGIN:VEVENT
DTSTART;TZID=Europe/Rome:20211105T143000
DTEND;TZID=Europe/Rome:20211105T163000
DTSTAMP:20260419T154216
CREATED:20210913T174152Z
LAST-MODIFIED:20210913T174152Z
UID:22634-1636122600-1636129800@radioterapiaitalia.it
SUMMARY:Corso di Formazione a Distanza sul Contouring delle Neoplasie del Rinofaringe - 29 Ottobre\, 5 Novembre 2021
DESCRIPTION:I S C R I Z I O N I   C H I U S E\nRAGGIUNTO IL NUMERO MASSIMO DI CENTRI PARTECIPANTI\nDescrizione del Corso:\nIl corso è gratuito per i Soci AIRO in regola con la quota associativa 2021. \nLa radioterapia svolge un ruolo fondamentale nel trattamento dei tumori del rinofaringe; viene utilizzata con intento di guarigione in tutti gli stadi di malattia non metastatica. La peculiare sede anatomica del distretto con vicinanza di numerosi di organi a rischio\, la complessità e la dimensione dei volumi di trattamento\, l’avanzamento delle tecniche di pianificazione\, il rischio di sequele tardive severe che compromettono la qualità di vita nei pazienti guariti rendono il contouring di queste neoplasie un banco di prova allo stesso tempo impegnativo e stimolante per il radioterapista oncologo.\nQuesto corso teorico pratico prevede una parte di lezioni di aggiornamento condotte da esperti del settore sulle procedure diagnostiche e terapeutiche nel management delle neoplasie del rinofaringe\, sulle sedi più frequenti di ricaduta loco-regionale e una fase pratica di definizione dei volumi bersaglio tumorali su caso clinico\, con l’obiettivo di fornire linee guida di contouring che aiutino i partecipanti a migliorare le loro abilità in questo ambito. \nVisualizza Programma \nScheda Iscrizione (L’iscrizione è gratuita con numero di posti limitato a 15 centri: nello stesso centro potranno partecipare alla fase di contouring e alla didattica online un numero massimo di 5 partecipanti. Il Corso è riservato esclusivamente ai Soci AIRO. Verranno prese in considerazione le iscrizioni in ordine cronologico di ricezione. Le iscrizioni devono pervenire entro il 01-10-2021 ai contatti indicati nella scheda)\nDopo l’iscrizione i partecipanti riceveranno comunicazione circa le modalità di registrazione alla piattaforma FAD per ottenere i crediti ECM. \nProgramma\nFASE DI CONTOURING Pre-MEETING (4 ottobre – 26 ottobre):\nai centri iscritti verranno inviata documentazione (note cliniche\, imaging radiologico\, esami strumentali\, TAC di centratura) riguardante un caso clinico di un paziente affetto da tumore del rinofaringe. Verrà richiesta la contornazione dei volumi target e di alcuni organi a rischio\, da inviare alla segreteria scientifica entro il 26/10/21. \nPRIMO INCONTRO (29 ottobre 2021 9.00 – 12.00) \nFASE DI CONTOURING Post-MEETING (29 ottobre – 3 novembre)\nOgni centro partecipante potrà modificare\, alla luce della presentazioni degli esperti il contorno del caso precedentemente elaborato.\nI partecipanti di ogni centro dovranno rimandare le immagini DICOM del caso nuovamente contornato (1 solo contorno per centro) entro le ore 15 del 3/11/21 \nSECONDO INCONTRO (5 Novembre 2021 14.30 – 16.30)
URL:https://radioterapiaitalia.it/event/corso-di-formazione-a-distanza-sul-contouring-delle-neoplasie-del-rinofaringe-29-ottobre-5-novembre-2021-2/
CATEGORIES:CORSI E CONGRESSI PATROCINATI AIRO
ATTACH;FMTTYPE=:
END:VEVENT
BEGIN:VEVENT
DTSTART;TZID=Europe/Rome:20211112T143000
DTEND;TZID=Europe/Rome:20211112T163000
DTSTAMP:20260419T154216
CREATED:20211104T122631Z
LAST-MODIFIED:20211104T122631Z
UID:42684-1636727400-1636734600@radioterapiaitalia.it
SUMMARY:WEBINAR ECM – I VENERDI’ DI NEURO-ONCOLOGIA. PROBLEMATICHE CLINICHE NEL 2021 – CORSO DI AGGIORNAMENTO AIRO SNC GLIOMI DI ALTO GRADO: LE BASI – 12 Novembre 2021
DESCRIPTION:I VENERDI’ DI NEURO-ONCOLOGIA.\nPROBLEMATICHE CLINICHE NEL 2021\nCORSO DI AGGIORNAMENTO AIRO SNC GLIOMI DI ALTO GRADO: LE BASI\nWebinar ECM\nDescrizione del Corso:\nIl corso è gratuito per i Soci AIRO in regola con la quota associativa 2021. \nI gliomi di alto grado encefalici rappresentano tutt’oggi un’importante problematica oncologica per la limitata probabilità di sopravvivenza. Il corretto iter diagnostico e terapeutico dei gliomi di alto grado richiede un’integrazione multidisciplinare di tutti gli specialisti in particolare radioterapisti oncologi\, neuro-oncologi e radiologi. Tale integrazione di specialisti è fondamentale per definire: \n\nla diagnosi strumentale di sospetto glioma e la corretta valutazione radiologica durante il follow-up oncologico\nl’approccio chirurgico\ndose e volumi di trattamento radioterapico\nindicazioni all’integrazione della terapia sistemica\n\nDurante questo corso di aggiornamento rivedremo ogni fase diagnostica terapeutica con l’obiettivo di approcciare in maniera sempre più personalizzata e efficace i gliomi di alto grado encefalici. \nVisualizza Programma \nIscrizione al Webinar \nPer iscriversi al webinar è necessario: \n\nEffettuare la registrazione alla Piattaforma ECM (una tantum e se non già fatta per webinar precedenti). Si precisa che si tratta della registrazione alla Piattaforma ECM e non al sito AIRO\, pertanto deve essere fatta ex novo la prima volta che si desidera iscriversi ad un primo webinar.\nInviare la richiesta di iscrizione all’evento mediante il pulsante ACCEDI presente nella pagina del corso. L’iscrizione verrà approvata dopo verifica da parte della Segreteria della corretta iscrizione ad AIRO per l’anno in corso.
URL:https://radioterapiaitalia.it/event/webinar-ecm-i-venerdi-di-neuro-oncologia-corso-di-aggiornamento-airo-snc-gliomi-di-alto-grado-le-basi-12-novembre-2021-2/
CATEGORIES:CORSI E CONGRESSI AIRO,CORSI E CONGRESSI PATROCINATI AIRO
ATTACH;FMTTYPE=:
END:VEVENT
BEGIN:VEVENT
DTSTART;TZID=Europe/Rome:20211112T143000
DTEND;TZID=Europe/Rome:20211112T163000
DTSTAMP:20260419T154216
CREATED:20211104T122631Z
LAST-MODIFIED:20211104T122631Z
UID:23040-1636727400-1636734600@radioterapiaitalia.it
SUMMARY:WEBINAR ECM – I VENERDI’ DI NEURO-ONCOLOGIA. PROBLEMATICHE CLINICHE NEL 2021 – CORSO DI AGGIORNAMENTO AIRO SNC GLIOMI DI ALTO GRADO: LE BASI – 12 Novembre 2021
DESCRIPTION:I VENERDI’ DI NEURO-ONCOLOGIA.\nPROBLEMATICHE CLINICHE NEL 2021\nCORSO DI AGGIORNAMENTO AIRO SNC GLIOMI DI ALTO GRADO: LE BASI\nWebinar ECM\nDescrizione del Corso:\nIl corso è gratuito per i Soci AIRO in regola con la quota associativa 2021. \nI gliomi di alto grado encefalici rappresentano tutt’oggi un’importante problematica oncologica per la limitata probabilità di sopravvivenza. Il corretto iter diagnostico e terapeutico dei gliomi di alto grado richiede un’integrazione multidisciplinare di tutti gli specialisti in particolare radioterapisti oncologi\, neuro-oncologi e radiologi. Tale integrazione di specialisti è fondamentale per definire: \n\nla diagnosi strumentale di sospetto glioma e la corretta valutazione radiologica durante il follow-up oncologico\nl’approccio chirurgico\ndose e volumi di trattamento radioterapico\nindicazioni all’integrazione della terapia sistemica\n\nDurante questo corso di aggiornamento rivedremo ogni fase diagnostica terapeutica con l’obiettivo di approcciare in maniera sempre più personalizzata e efficace i gliomi di alto grado encefalici. \nVisualizza Programma \nIscrizione al Webinar \nPer iscriversi al webinar è necessario: \n\nEffettuare la registrazione alla Piattaforma ECM (una tantum e se non già fatta per webinar precedenti). Si precisa che si tratta della registrazione alla Piattaforma ECM e non al sito AIRO\, pertanto deve essere fatta ex novo la prima volta che si desidera iscriversi ad un primo webinar.\nInviare la richiesta di iscrizione all’evento mediante il pulsante ACCEDI presente nella pagina del corso. L’iscrizione verrà approvata dopo verifica da parte della Segreteria della corretta iscrizione ad AIRO per l’anno in corso.
URL:https://radioterapiaitalia.it/event/webinar-ecm-i-venerdi-di-neuro-oncologia-corso-di-aggiornamento-airo-snc-gliomi-di-alto-grado-le-basi-12-novembre-2021/
CATEGORIES:CORSI E CONGRESSI AIRO,CORSI E CONGRESSI PATROCINATI AIRO
ATTACH;FMTTYPE=:
END:VEVENT
BEGIN:VEVENT
DTSTART;TZID=Europe/Rome:20211112T160000
DTEND;TZID=Europe/Rome:20211112T190000
DTSTAMP:20260419T154216
CREATED:20210721T154314Z
LAST-MODIFIED:20210721T154314Z
UID:42669-1636732800-1636743600@radioterapiaitalia.it
SUMMARY:Virtual - Innovative Treatments and Patients Compliance - 31° Residential Course - 12 Novembre 2021
DESCRIPTION:Visualizza Locandina \nVisualizza Programma \n\nIscrizione gratuita per specializzandi 3° e 4°\nlink per iscriversi: https://formazionecontinua.unicatt.it/formazione-31-residential-course-modern-radiotherapy-innovative-treatments-and-patients-co-s121rm106516-01\n\n  \n 
URL:https://radioterapiaitalia.it/event/virtual-innovative-treatments-and-patients-compliance-31-residential-course-12-novembre-2021-2/
CATEGORIES:CORSI E CONGRESSI PATROCINATI AIRO
ATTACH;FMTTYPE=:
END:VEVENT
BEGIN:VEVENT
DTSTART;TZID=Europe/Rome:20211112T160000
DTEND;TZID=Europe/Rome:20211112T190000
DTSTAMP:20260419T154216
CREATED:20210721T154314Z
LAST-MODIFIED:20210721T154314Z
UID:22500-1636732800-1636743600@radioterapiaitalia.it
SUMMARY:Virtual - Innovative Treatments and Patients Compliance - 31° Residential Course - 12 Novembre 2021
DESCRIPTION:Visualizza Locandina \nVisualizza Programma \n\nIscrizione gratuita per specializzandi 3° e 4°\nlink per iscriversi: https://formazionecontinua.unicatt.it/formazione-31-residential-course-modern-radiotherapy-innovative-treatments-and-patients-co-s121rm106516-01\n\n  \n 
URL:https://radioterapiaitalia.it/event/virtual-innovative-treatments-and-patients-compliance-31-residential-course-12-novembre-2021/
CATEGORIES:CORSI E CONGRESSI PATROCINATI AIRO
ATTACH;FMTTYPE=:
END:VEVENT
BEGIN:VEVENT
DTSTART;TZID=Europe/Rome:20211112T170000
DTEND;TZID=Europe/Rome:20211112T183000
DTSTAMP:20260419T154216
CREATED:20211104T155829Z
LAST-MODIFIED:20211104T155829Z
UID:42685-1636736400-1636741800@radioterapiaitalia.it
SUMMARY:Movember 2021 - IL PAZIENTE CON CARCINOMA PROSTATICO AVANZATO - Webinar - 12 Novembre 2021
DESCRIPTION:Visualizza Programma
URL:https://radioterapiaitalia.it/event/movember-2021-il-paziente-con-carcinoma-prostatico-avanzato-webinar-12-novembre-2021-2/
CATEGORIES:CORSI E CONGRESSI PATROCINATI AIRO
ATTACH;FMTTYPE=:
END:VEVENT
BEGIN:VEVENT
DTSTART;TZID=Europe/Rome:20211112T170000
DTEND;TZID=Europe/Rome:20211112T183000
DTSTAMP:20260419T154216
CREATED:20211104T155829Z
LAST-MODIFIED:20211104T155829Z
UID:23045-1636736400-1636741800@radioterapiaitalia.it
SUMMARY:Movember 2021 - IL PAZIENTE CON CARCINOMA PROSTATICO AVANZATO - Webinar - 12 Novembre 2021
DESCRIPTION:Visualizza Programma
URL:https://radioterapiaitalia.it/event/movember-2021-il-paziente-con-carcinoma-prostatico-avanzato-webinar-12-novembre-2021/
CATEGORIES:CORSI E CONGRESSI PATROCINATI AIRO
ATTACH;FMTTYPE=:
END:VEVENT
BEGIN:VEVENT
DTSTART;TZID=Europe/Rome:20211122T090000
DTEND;TZID=Europe/Rome:20211123T170000
DTSTAMP:20260419T154216
CREATED:20210721T154809Z
LAST-MODIFIED:20210721T154809Z
UID:42670-1637571600-1637686800@radioterapiaitalia.it
SUMMARY:Onsite\, Live Streaming - Innovative Treatments and Patients Compliance - 31° Residential Course - 22-23 Novembre 2021
DESCRIPTION:Visualizza Locandina \nVisualizza Programma \n\nIscrizione gratuita per specializzandi 3° e 4°\n\n\nlink per iscriversi: https://formazionecontinua.unicatt.it/formazione-31-residential-course-modern-radiotherapy-innovative-treatments-and-patients-co-s121rm106516-01
URL:https://radioterapiaitalia.it/event/onsite-live-streaming-innovative-treatments-and-patients-compliance-31-residential-course-22-23-novembre-2021-2/
CATEGORIES:CORSI E CONGRESSI PATROCINATI AIRO
ATTACH;FMTTYPE=:
END:VEVENT
BEGIN:VEVENT
DTSTART;TZID=Europe/Rome:20211122T090000
DTEND;TZID=Europe/Rome:20211123T170000
DTSTAMP:20260419T154216
CREATED:20210721T154809Z
LAST-MODIFIED:20210721T154809Z
UID:22504-1637571600-1637686800@radioterapiaitalia.it
SUMMARY:Onsite\, Live Streaming - Innovative Treatments and Patients Compliance - 31° Residential Course - 22-23 Novembre 2021
DESCRIPTION:Visualizza Locandina \nVisualizza Programma \n\nIscrizione gratuita per specializzandi 3° e 4°\n\n\nlink per iscriversi: https://formazionecontinua.unicatt.it/formazione-31-residential-course-modern-radiotherapy-innovative-treatments-and-patients-co-s121rm106516-01
URL:https://radioterapiaitalia.it/event/onsite-live-streaming-innovative-treatments-and-patients-compliance-31-residential-course-22-23-novembre-2021/
CATEGORIES:CORSI E CONGRESSI PATROCINATI AIRO
ATTACH;FMTTYPE=:
END:VEVENT
BEGIN:VEVENT
DTSTART;TZID=Europe/Rome:20211126T153000
DTEND;TZID=Europe/Rome:20211126T183000
DTSTAMP:20260419T154216
CREATED:20210721T155055Z
LAST-MODIFIED:20210721T155055Z
UID:22506-1637940600-1637951400@radioterapiaitalia.it
SUMMARY:Virtual – Innovative Treatments and Patients Compliance – 31° Residential Course – 26 Novembre 2021
DESCRIPTION:Visualizza Locandina \nVisualizza Programma \n\nIscrizione gratuita per specializzandi 3° e 4°\n\n\nlink per iscriversi: https://formazionecontinua.unicatt.it/formazione-31-residential-course-modern-radiotherapy-innovative-treatments-and-patients-co-s121rm106516-01
URL:https://radioterapiaitalia.it/event/virtual-innovative-treatments-and-patients-compliance-31-residential-course-26-novembre-2021/
CATEGORIES:CORSI E CONGRESSI PATROCINATI AIRO
ATTACH;FMTTYPE=:
END:VEVENT
BEGIN:VEVENT
DTSTART;TZID=Europe/Rome:20211126T153000
DTEND;TZID=Europe/Rome:20211126T183000
DTSTAMP:20260419T154216
CREATED:20210721T155055Z
LAST-MODIFIED:20210721T155055Z
UID:42671-1637940600-1637951400@radioterapiaitalia.it
SUMMARY:Virtual – Innovative Treatments and Patients Compliance – 31° Residential Course – 26 Novembre 2021
DESCRIPTION:Visualizza Locandina \nVisualizza Programma \n\nIscrizione gratuita per specializzandi 3° e 4°\n\n\nlink per iscriversi: https://formazionecontinua.unicatt.it/formazione-31-residential-course-modern-radiotherapy-innovative-treatments-and-patients-co-s121rm106516-01
URL:https://radioterapiaitalia.it/event/virtual-innovative-treatments-and-patients-compliance-31-residential-course-26-novembre-2021-2/
CATEGORIES:CORSI E CONGRESSI PATROCINATI AIRO
ATTACH;FMTTYPE=:
END:VEVENT
BEGIN:VEVENT
DTSTART;TZID=Europe/Rome:20211126T160000
DTEND;TZID=Europe/Rome:20211126T180000
DTSTAMP:20260419T154216
CREATED:20211117T150621Z
LAST-MODIFIED:20211117T150621Z
UID:42691-1637942400-1637949600@radioterapiaitalia.it
SUMMARY:Webinar ECM I VENERDI’ DI NEURO-ONCOLOGIA - TRATTAMENTO DEI GLIOMI ALLA RICADUTA: UNA SFIDA SEMPRE CRESCENTE - 26 Novembre 2021
DESCRIPTION:I VENERDI’ DI NEURO-ONCOLOGIA\nTRATTAMENTO DEI GLIOMI ALLA RICADUTA: UNA SFIDA SEMPRE CRESCENTE\nWebinar ECM\nDescrizione del Corso:\nIl corso è gratuito per i Soci AIRO in regola con la quota associativa 2021. \nIl trattamento dei gliomi al momento della ricaduta rimane una sfida. Sono diverse le armi terapeutiche a nostra disposizione: la chirurgia\, le terapie sistemiche\, la reirradiazione. Il corso andrà ad analizzare sia singolarmente queste opzioni terapeutiche che nell’ottica di un approccio multidisciplinare. \nNella seconda parte del corso\, invece\, saranno puntualizzati gli aspetti più radioterapici della reirradiazione\, in termini di imaging\, dosi e volumi\, e tossicità. \nProgramma del Corso \nIscrizione al Webinar \nPer iscriversi al webinar è necessario: \n\nEffettuare la registrazione alla Piattaforma ECM (una tantum e se non già fatta per webinar precedenti). Si precisa che si tratta della registrazione alla Piattaforma ECM e non al sito AIRO\, pertanto deve essere fatta ex novo la prima volta che si desidera iscriversi ad un primo webinar.\nInviare la richiesta di iscrizione all’evento mediante il pulsante ACCEDI presente nella pagina del corso. L’iscrizione verrà approvata dopo verifica da parte della Segreteria della corretta iscrizione ad AIRO per l’anno in corso.
URL:https://radioterapiaitalia.it/event/webinar-ecm-trattamento-dei-gliomi-alla-ricaduta-una-sfida-sempre-crescente-26-novembre-2021-2/
CATEGORIES:CORSI E CONGRESSI AIRO,CORSI E CONGRESSI PATROCINATI AIRO
ATTACH;FMTTYPE=:
END:VEVENT
BEGIN:VEVENT
DTSTART;TZID=Europe/Rome:20211126T160000
DTEND;TZID=Europe/Rome:20211126T180000
DTSTAMP:20260419T154216
CREATED:20211117T150621Z
LAST-MODIFIED:20211117T150621Z
UID:23126-1637942400-1637949600@radioterapiaitalia.it
SUMMARY:Webinar ECM I VENERDI’ DI NEURO-ONCOLOGIA - TRATTAMENTO DEI GLIOMI ALLA RICADUTA: UNA SFIDA SEMPRE CRESCENTE - 26 Novembre 2021
DESCRIPTION:I VENERDI’ DI NEURO-ONCOLOGIA\nTRATTAMENTO DEI GLIOMI ALLA RICADUTA: UNA SFIDA SEMPRE CRESCENTE\nWebinar ECM\nDescrizione del Corso:\nIl corso è gratuito per i Soci AIRO in regola con la quota associativa 2021. \nIl trattamento dei gliomi al momento della ricaduta rimane una sfida. Sono diverse le armi terapeutiche a nostra disposizione: la chirurgia\, le terapie sistemiche\, la reirradiazione. Il corso andrà ad analizzare sia singolarmente queste opzioni terapeutiche che nell’ottica di un approccio multidisciplinare. \nNella seconda parte del corso\, invece\, saranno puntualizzati gli aspetti più radioterapici della reirradiazione\, in termini di imaging\, dosi e volumi\, e tossicità. \nProgramma del Corso \nIscrizione al Webinar \nPer iscriversi al webinar è necessario: \n\nEffettuare la registrazione alla Piattaforma ECM (una tantum e se non già fatta per webinar precedenti). Si precisa che si tratta della registrazione alla Piattaforma ECM e non al sito AIRO\, pertanto deve essere fatta ex novo la prima volta che si desidera iscriversi ad un primo webinar.\nInviare la richiesta di iscrizione all’evento mediante il pulsante ACCEDI presente nella pagina del corso. L’iscrizione verrà approvata dopo verifica da parte della Segreteria della corretta iscrizione ad AIRO per l’anno in corso.
URL:https://radioterapiaitalia.it/event/webinar-ecm-trattamento-dei-gliomi-alla-ricaduta-una-sfida-sempre-crescente-26-novembre-2021/
CATEGORIES:CORSI E CONGRESSI AIRO,CORSI E CONGRESSI PATROCINATI AIRO
ATTACH;FMTTYPE=:
END:VEVENT
BEGIN:VEVENT
DTSTART;TZID=Europe/Rome:20211126T170000
DTEND;TZID=Europe/Rome:20211126T183000
DTSTAMP:20260419T154216
CREATED:20211104T160034Z
LAST-MODIFIED:20211104T160034Z
UID:42686-1637946000-1637951400@radioterapiaitalia.it
SUMMARY:Movember 2021 - IL PAZIENTE CON CARCINOMA PROSTATICO AVANZATO - Webinar - 26 Novembre 2021
DESCRIPTION:Visualizza Programma
URL:https://radioterapiaitalia.it/event/movember-2021-il-paziente-con-carcinoma-prostatico-avanzato-webinar-26-novembre-2021-2/
CATEGORIES:CORSI E CONGRESSI PATROCINATI AIRO
ATTACH;FMTTYPE=:
END:VEVENT
BEGIN:VEVENT
DTSTART;TZID=Europe/Rome:20211126T170000
DTEND;TZID=Europe/Rome:20211126T183000
DTSTAMP:20260419T154216
CREATED:20211104T160034Z
LAST-MODIFIED:20211104T160034Z
UID:23049-1637946000-1637951400@radioterapiaitalia.it
SUMMARY:Movember 2021 - IL PAZIENTE CON CARCINOMA PROSTATICO AVANZATO - Webinar - 26 Novembre 2021
DESCRIPTION:Visualizza Programma
URL:https://radioterapiaitalia.it/event/movember-2021-il-paziente-con-carcinoma-prostatico-avanzato-webinar-26-novembre-2021/
CATEGORIES:CORSI E CONGRESSI PATROCINATI AIRO
ATTACH;FMTTYPE=:
END:VEVENT
BEGIN:VEVENT
DTSTART;TZID=Europe/Rome:20211127T083000
DTEND;TZID=Europe/Rome:20211127T173000
DTSTAMP:20260419T154216
CREATED:20211105T112328Z
LAST-MODIFIED:20211105T112328Z
UID:23051-1638001800-1638034200@radioterapiaitalia.it
SUMMARY:RADIOTERAPIA OGGI E DOMANI\, 20 (+1) anni della U.O.C. di Radioterapia dell'Ospedale Manzoni di Lecco - Lecco 27 Novembre 2021
DESCRIPTION:Visualizza Programma \nVisualizza Locandina
URL:https://radioterapiaitalia.it/event/radioterapia-oggi-e-domani-20-1-anni-della-u-o-c-di-radioterapia-dellospedale-manzoni-di-lecco-lecco-27-novembre-2021/
CATEGORIES:CORSI E CONGRESSI PATROCINATI AIRO
ATTACH;FMTTYPE=:
END:VEVENT
BEGIN:VEVENT
DTSTART;TZID=Europe/Rome:20211127T083000
DTEND;TZID=Europe/Rome:20211127T173000
DTSTAMP:20260419T154216
CREATED:20211105T112328Z
LAST-MODIFIED:20211105T112328Z
UID:42687-1638001800-1638034200@radioterapiaitalia.it
SUMMARY:RADIOTERAPIA OGGI E DOMANI\, 20 (+1) anni della U.O.C. di Radioterapia dell'Ospedale Manzoni di Lecco - Lecco 27 Novembre 2021
DESCRIPTION:Visualizza Programma \nVisualizza Locandina
URL:https://radioterapiaitalia.it/event/radioterapia-oggi-e-domani-20-1-anni-della-u-o-c-di-radioterapia-dellospedale-manzoni-di-lecco-lecco-27-novembre-2021-2/
CATEGORIES:CORSI E CONGRESSI PATROCINATI AIRO
ATTACH;FMTTYPE=:
END:VEVENT
END:VCALENDAR