BEGIN:VCALENDAR
VERSION:2.0
PRODID:-//AIRO - ECPv6.15.11//NONSGML v1.0//EN
CALSCALE:GREGORIAN
METHOD:PUBLISH
X-ORIGINAL-URL:https://radioterapiaitalia.it
X-WR-CALDESC:Eventi per AIRO
REFRESH-INTERVAL;VALUE=DURATION:PT1H
X-Robots-Tag:noindex
X-PUBLISHED-TTL:PT1H
BEGIN:VTIMEZONE
TZID:Europe/Rome
BEGIN:DAYLIGHT
TZOFFSETFROM:+0100
TZOFFSETTO:+0200
TZNAME:CEST
DTSTART:20180325T010000
END:DAYLIGHT
BEGIN:STANDARD
TZOFFSETFROM:+0200
TZOFFSETTO:+0100
TZNAME:CET
DTSTART:20181028T010000
END:STANDARD
BEGIN:DAYLIGHT
TZOFFSETFROM:+0100
TZOFFSETTO:+0200
TZNAME:CEST
DTSTART:20190331T010000
END:DAYLIGHT
BEGIN:STANDARD
TZOFFSETFROM:+0200
TZOFFSETTO:+0100
TZNAME:CET
DTSTART:20191027T010000
END:STANDARD
BEGIN:DAYLIGHT
TZOFFSETFROM:+0100
TZOFFSETTO:+0200
TZNAME:CEST
DTSTART:20200329T010000
END:DAYLIGHT
BEGIN:STANDARD
TZOFFSETFROM:+0200
TZOFFSETTO:+0100
TZNAME:CET
DTSTART:20201025T010000
END:STANDARD
END:VTIMEZONE
BEGIN:VEVENT
DTSTART;TZID=Europe/Rome:20190701T123000
DTEND;TZID=Europe/Rome:20190702T123000
DTSTAMP:20260424T142541
CREATED:20190610T103853Z
LAST-MODIFIED:20190610T103853Z
UID:17843-1561984200-1562070600@radioterapiaitalia.it
SUMMARY:CORSO TEORICO PRATICO SULLA MODERNA RADIOTERAPIA DEI LINFOMI - Firenze - 1 e 2 Luglio 2019
DESCRIPTION:Visualizza Locandina Corso
URL:https://radioterapiaitalia.it/event/corso-teorico-pratico-sulla-moderna-radioterapia-dei-linfomi-firenze-1-e-2-luglio-2019/
ATTACH;FMTTYPE=:
END:VEVENT
BEGIN:VEVENT
DTSTART;TZID=Europe/Rome:20190701T123000
DTEND;TZID=Europe/Rome:20190702T123000
DTSTAMP:20260424T142541
CREATED:20190610T103853Z
LAST-MODIFIED:20190610T103853Z
UID:42593-1561984200-1562070600@radioterapiaitalia.it
SUMMARY:CORSO TEORICO PRATICO SULLA MODERNA RADIOTERAPIA DEI LINFOMI - Firenze - 1 e 2 Luglio 2019
DESCRIPTION:Visualizza Locandina Corso
URL:https://radioterapiaitalia.it/event/corso-teorico-pratico-sulla-moderna-radioterapia-dei-linfomi-firenze-1-e-2-luglio-2019-2/
ATTACH;FMTTYPE=:
END:VEVENT
END:VCALENDAR