BEGIN:VCALENDAR
VERSION:2.0
PRODID:-//AIRO - ECPv6.15.11//NONSGML v1.0//EN
CALSCALE:GREGORIAN
METHOD:PUBLISH
X-ORIGINAL-URL:https://radioterapiaitalia.it
X-WR-CALDESC:Eventi per AIRO
REFRESH-INTERVAL;VALUE=DURATION:PT1H
X-Robots-Tag:noindex
X-PUBLISHED-TTL:PT1H
BEGIN:VTIMEZONE
TZID:Europe/Rome
BEGIN:DAYLIGHT
TZOFFSETFROM:+0100
TZOFFSETTO:+0200
TZNAME:CEST
DTSTART:20170326T010000
END:DAYLIGHT
BEGIN:STANDARD
TZOFFSETFROM:+0200
TZOFFSETTO:+0100
TZNAME:CET
DTSTART:20171029T010000
END:STANDARD
BEGIN:DAYLIGHT
TZOFFSETFROM:+0100
TZOFFSETTO:+0200
TZNAME:CEST
DTSTART:20180325T010000
END:DAYLIGHT
BEGIN:STANDARD
TZOFFSETFROM:+0200
TZOFFSETTO:+0100
TZNAME:CET
DTSTART:20181028T010000
END:STANDARD
BEGIN:DAYLIGHT
TZOFFSETFROM:+0100
TZOFFSETTO:+0200
TZNAME:CEST
DTSTART:20190331T010000
END:DAYLIGHT
BEGIN:STANDARD
TZOFFSETFROM:+0200
TZOFFSETTO:+0100
TZNAME:CET
DTSTART:20191027T010000
END:STANDARD
BEGIN:DAYLIGHT
TZOFFSETFROM:+0100
TZOFFSETTO:+0200
TZNAME:CEST
DTSTART:20200329T010000
END:DAYLIGHT
BEGIN:STANDARD
TZOFFSETFROM:+0200
TZOFFSETTO:+0100
TZNAME:CET
DTSTART:20201025T010000
END:STANDARD
END:VTIMEZONE
BEGIN:VEVENT
DTSTART;TZID=Europe/Rome:20181201T080000
DTEND;TZID=Europe/Rome:20181201T170000
DTSTAMP:20260425T185029
CREATED:20181030T170813Z
LAST-MODIFIED:20181030T170813Z
UID:42569-1543651200-1543683600@radioterapiaitalia.it
SUMMARY:2018 dicembre 1\, Convegno congiunto regionale AIRO/AIOM “HIGHLIGHTS NEL TRATTAMENTO MULTIDISCIPLINARE DEL CARCINOMA DEL RETTO E DEL PANCREAS” \, Torino
DESCRIPTION:Programma \nIscrizione
URL:https://radioterapiaitalia.it/event/2018-dicembre-1-convegno-congiunto-regionale-airo-aiom-highlights-nel-trattamento-multidisciplinare-del-carcinoma-del-retto-e-del-pancreas-torino-2/
CATEGORIES:CORSI E CONGRESSI AIRO
ATTACH;FMTTYPE=:
END:VEVENT
BEGIN:VEVENT
DTSTART;TZID=Europe/Rome:20181201T080000
DTEND;TZID=Europe/Rome:20181201T170000
DTSTAMP:20260425T185029
CREATED:20181030T170813Z
LAST-MODIFIED:20181030T170813Z
UID:16214-1543651200-1543683600@radioterapiaitalia.it
SUMMARY:2018 dicembre 1\, Convegno congiunto regionale AIRO/AIOM “HIGHLIGHTS NEL TRATTAMENTO MULTIDISCIPLINARE DEL CARCINOMA DEL RETTO E DEL PANCREAS” \, Torino
DESCRIPTION:Programma \nIscrizione
URL:https://radioterapiaitalia.it/event/2018-dicembre-1-convegno-congiunto-regionale-airo-aiom-highlights-nel-trattamento-multidisciplinare-del-carcinoma-del-retto-e-del-pancreas-torino/
CATEGORIES:CORSI E CONGRESSI AIRO
ATTACH;FMTTYPE=:
END:VEVENT
BEGIN:VEVENT
DTSTART;TZID=Europe/Rome:20181201T083000
DTEND;TZID=Europe/Rome:20181201T173000
DTSTAMP:20260425T185029
CREATED:20181019T144246Z
LAST-MODIFIED:20181019T144246Z
UID:42567-1543653000-1543685400@radioterapiaitalia.it
SUMMARY:2018 dicembre 1 - Congresso AIRO Lombardia "Nuove Tecnologie in Radioterapia  e Nuovi Farmaci in Oncologia:  come cambia la pratica del  Radioterapista Oncologo e  dell’Oncologo Medico"\, Varese
DESCRIPTION:Locandina
URL:https://radioterapiaitalia.it/event/2018-dicembre-1-congresso-airo-lombardia-nuove-tecnologie-in-radioterapia-e-nuovi-farmaci-in-oncologia-come-cambia-la-pratica-del-radioterapista-oncologo-e-delloncologo-medico-var-2/
CATEGORIES:CORSI E CONGRESSI PATROCINATI AIRO
ATTACH;FMTTYPE=:
END:VEVENT
BEGIN:VEVENT
DTSTART;TZID=Europe/Rome:20181201T083000
DTEND;TZID=Europe/Rome:20181201T173000
DTSTAMP:20260425T185029
CREATED:20181019T144246Z
LAST-MODIFIED:20181019T144246Z
UID:16148-1543653000-1543685400@radioterapiaitalia.it
SUMMARY:2018 dicembre 1 - Congresso AIRO Lombardia "Nuove Tecnologie in Radioterapia  e Nuovi Farmaci in Oncologia:  come cambia la pratica del  Radioterapista Oncologo e  dell’Oncologo Medico"\, Varese
DESCRIPTION:Locandina
URL:https://radioterapiaitalia.it/event/2018-dicembre-1-congresso-airo-lombardia-nuove-tecnologie-in-radioterapia-e-nuovi-farmaci-in-oncologia-come-cambia-la-pratica-del-radioterapista-oncologo-e-delloncologo-medico-var/
CATEGORIES:CORSI E CONGRESSI PATROCINATI AIRO
ATTACH;FMTTYPE=:
END:VEVENT
BEGIN:VEVENT
DTSTART;TZID=Europe/Rome:20181205T083000
DTEND;TZID=Europe/Rome:20181207T170000
DTSTAMP:20260425T185029
CREATED:20181012T141602Z
LAST-MODIFIED:20181012T141602Z
UID:42564-1543998600-1544202000@radioterapiaitalia.it
SUMMARY:5-6-7 Dicembre Siracusa II convegno Nazionale: Il counselling in radioterapia. La real life in radioterapia: costruire una cura realmente person and family centered
DESCRIPTION:PROGRAMMA
URL:https://radioterapiaitalia.it/event/5-6-7-dicembre-siracusa-ii-convegno-nazionale-il-counselling-in-radioterapia-la-real-life-in-radioterapia-costruire-una-cura-realmente-person-and-family-centered-2/
CATEGORIES:CORSI E CONGRESSI PATROCINATI AIRO
ATTACH;FMTTYPE=:
END:VEVENT
BEGIN:VEVENT
DTSTART;TZID=Europe/Rome:20181205T083000
DTEND;TZID=Europe/Rome:20181207T170000
DTSTAMP:20260425T185029
CREATED:20181012T141602Z
LAST-MODIFIED:20181012T141602Z
UID:16055-1543998600-1544202000@radioterapiaitalia.it
SUMMARY:5-6-7 Dicembre Siracusa II convegno Nazionale: Il counselling in radioterapia. La real life in radioterapia: costruire una cura realmente person and family centered
DESCRIPTION:PROGRAMMA
URL:https://radioterapiaitalia.it/event/5-6-7-dicembre-siracusa-ii-convegno-nazionale-il-counselling-in-radioterapia-la-real-life-in-radioterapia-costruire-una-cura-realmente-person-and-family-centered/
CATEGORIES:CORSI E CONGRESSI PATROCINATI AIRO
ATTACH;FMTTYPE=:
END:VEVENT
BEGIN:VEVENT
DTSTART;TZID=Europe/Rome:20181217T080000
DTEND;TZID=Europe/Rome:20190120T170000
DTSTAMP:20260425T185029
CREATED:20181117T153338Z
LAST-MODIFIED:20181117T153338Z
UID:42572-1545033600-1548003600@radioterapiaitalia.it
SUMMARY:APERTE LE ISCRIZIONI PER L'ANNO 2019
DESCRIPTION:
URL:https://radioterapiaitalia.it/event/iscrizione-soci-anno-2018-2/
ATTACH;FMTTYPE=:
END:VEVENT
BEGIN:VEVENT
DTSTART;TZID=Europe/Rome:20181217T080000
DTEND;TZID=Europe/Rome:20190120T170000
DTSTAMP:20260425T185029
CREATED:20181117T153338Z
LAST-MODIFIED:20181117T153338Z
UID:16366-1545033600-1548003600@radioterapiaitalia.it
SUMMARY:APERTE LE ISCRIZIONI PER L'ANNO 2019
DESCRIPTION:
URL:https://radioterapiaitalia.it/event/iscrizione-soci-anno-2018/
ATTACH;FMTTYPE=:
END:VEVENT
BEGIN:VEVENT
DTSTART;TZID=Europe/Rome:20181220T150000
DTEND;TZID=Europe/Rome:20181220T180000
DTSTAMP:20260425T185029
CREATED:20181002T165429Z
LAST-MODIFIED:20181002T165429Z
UID:42562-1545318000-1545328800@radioterapiaitalia.it
SUMMARY:2018 dicembre 20 - CORSO AIRO-LAM - LE SFIDE DELLA RADIOTERAPIA: PROBLEMATICHE\, NOVITA’ E TERAPIE INTEGRATE\, Roma
DESCRIPTION:Programma \nForm Iscrizione
URL:https://radioterapiaitalia.it/event/2018-ottobre-18-e-dicembre-20-corso-airo-lam-le-sfide-della-radioterapia-problematiche-novita-e-terapie-integrate-roma-2/
CATEGORIES:CORSI E CONGRESSI AIRO
ATTACH;FMTTYPE=:
END:VEVENT
BEGIN:VEVENT
DTSTART;TZID=Europe/Rome:20181220T150000
DTEND;TZID=Europe/Rome:20181220T180000
DTSTAMP:20260425T185029
CREATED:20181002T165429Z
LAST-MODIFIED:20181002T165429Z
UID:15979-1545318000-1545328800@radioterapiaitalia.it
SUMMARY:2018 dicembre 20 - CORSO AIRO-LAM - LE SFIDE DELLA RADIOTERAPIA: PROBLEMATICHE\, NOVITA’ E TERAPIE INTEGRATE\, Roma
DESCRIPTION:Programma \nForm Iscrizione
URL:https://radioterapiaitalia.it/event/2018-ottobre-18-e-dicembre-20-corso-airo-lam-le-sfide-della-radioterapia-problematiche-novita-e-terapie-integrate-roma/
CATEGORIES:CORSI E CONGRESSI AIRO
ATTACH;FMTTYPE=:
END:VEVENT
END:VCALENDAR