BEGIN:VCALENDAR
VERSION:2.0
PRODID:-//AIRO - ECPv6.15.11//NONSGML v1.0//EN
CALSCALE:GREGORIAN
METHOD:PUBLISH
X-ORIGINAL-URL:https://radioterapiaitalia.it
X-WR-CALDESC:Eventi per AIRO
REFRESH-INTERVAL;VALUE=DURATION:PT1H
X-Robots-Tag:noindex
X-PUBLISHED-TTL:PT1H
BEGIN:VTIMEZONE
TZID:Europe/Rome
BEGIN:DAYLIGHT
TZOFFSETFROM:+0100
TZOFFSETTO:+0200
TZNAME:CEST
DTSTART:20160327T010000
END:DAYLIGHT
BEGIN:STANDARD
TZOFFSETFROM:+0200
TZOFFSETTO:+0100
TZNAME:CET
DTSTART:20161030T010000
END:STANDARD
BEGIN:DAYLIGHT
TZOFFSETFROM:+0100
TZOFFSETTO:+0200
TZNAME:CEST
DTSTART:20170326T010000
END:DAYLIGHT
BEGIN:STANDARD
TZOFFSETFROM:+0200
TZOFFSETTO:+0100
TZNAME:CET
DTSTART:20171029T010000
END:STANDARD
BEGIN:DAYLIGHT
TZOFFSETFROM:+0100
TZOFFSETTO:+0200
TZNAME:CEST
DTSTART:20180325T010000
END:DAYLIGHT
BEGIN:STANDARD
TZOFFSETFROM:+0200
TZOFFSETTO:+0100
TZNAME:CET
DTSTART:20181028T010000
END:STANDARD
END:VTIMEZONE
BEGIN:VEVENT
DTSTART;TZID=Europe/Rome:20170908T080000
DTEND;TZID=Europe/Rome:20170912T170000
DTSTAMP:20260425T153738
CREATED:20161231T155159Z
LAST-MODIFIED:20161231T155159Z
UID:7544-1504857600-1505235600@radioterapiaitalia.it
SUMMARY:2017 September 8-12 Esmo annual meeting
DESCRIPTION:http://www.esmo.org/Conferences/ESMO-2017-Congress \n 
URL:https://radioterapiaitalia.it/event/2017-september-8-12-esmo-annual-meeting/
CATEGORIES:CORSI E CONGRESSI DI INTERESSE AIRO
ATTACH;FMTTYPE=:
END:VEVENT
BEGIN:VEVENT
DTSTART;TZID=Europe/Rome:20170908T080000
DTEND;TZID=Europe/Rome:20170912T170000
DTSTAMP:20260425T153738
CREATED:20161231T155159Z
LAST-MODIFIED:20161231T155159Z
UID:42452-1504857600-1505235600@radioterapiaitalia.it
SUMMARY:2017 September 8-12 Esmo annual meeting
DESCRIPTION:http://www.esmo.org/Conferences/ESMO-2017-Congress \n 
URL:https://radioterapiaitalia.it/event/2017-september-8-12-esmo-annual-meeting-2/
CATEGORIES:CORSI E CONGRESSI DI INTERESSE AIRO
ATTACH;FMTTYPE=:
END:VEVENT
END:VCALENDAR