BEGIN:VCALENDAR
VERSION:2.0
PRODID:-//AIRO - ECPv6.15.11//NONSGML v1.0//EN
CALSCALE:GREGORIAN
METHOD:PUBLISH
X-WR-CALNAME:AIRO
X-ORIGINAL-URL:https://radioterapiaitalia.it
X-WR-CALDESC:Eventi per AIRO
REFRESH-INTERVAL;VALUE=DURATION:PT1H
X-Robots-Tag:noindex
X-PUBLISHED-TTL:PT1H
BEGIN:VTIMEZONE
TZID:Europe/Rome
BEGIN:DAYLIGHT
TZOFFSETFROM:+0100
TZOFFSETTO:+0200
TZNAME:CEST
DTSTART:20150329T010000
END:DAYLIGHT
BEGIN:STANDARD
TZOFFSETFROM:+0200
TZOFFSETTO:+0100
TZNAME:CET
DTSTART:20151025T010000
END:STANDARD
BEGIN:DAYLIGHT
TZOFFSETFROM:+0100
TZOFFSETTO:+0200
TZNAME:CEST
DTSTART:20160327T010000
END:DAYLIGHT
BEGIN:STANDARD
TZOFFSETFROM:+0200
TZOFFSETTO:+0100
TZNAME:CET
DTSTART:20161030T010000
END:STANDARD
BEGIN:DAYLIGHT
TZOFFSETFROM:+0100
TZOFFSETTO:+0200
TZNAME:CEST
DTSTART:20170326T010000
END:DAYLIGHT
BEGIN:STANDARD
TZOFFSETFROM:+0200
TZOFFSETTO:+0100
TZNAME:CET
DTSTART:20171029T010000
END:STANDARD
END:VTIMEZONE
BEGIN:VEVENT
DTSTART;TZID=Europe/Rome:20161213T080000
DTEND;TZID=Europe/Rome:20161214T170000
DTSTAMP:20260424T142549
CREATED:20161207T120657Z
LAST-MODIFIED:20161207T120657Z
UID:7110-1481616000-1481734800@radioterapiaitalia.it
SUMMARY:2016 Dicembre 13-14 Consensus conference TMD Urooncologico Milano
DESCRIPTION:programma-4
URL:https://radioterapiaitalia.it/event/2016-dicembre-13-14-consensus-conference-tmd-urooncologico-milano/
CATEGORIES:CORSI E CONGRESSI PATROCINATI AIRO
ATTACH;FMTTYPE=:
END:VEVENT
BEGIN:VEVENT
DTSTART;TZID=Europe/Rome:20161213T080000
DTEND;TZID=Europe/Rome:20161214T170000
DTSTAMP:20260424T142549
CREATED:20161207T120657Z
LAST-MODIFIED:20161207T120657Z
UID:42410-1481616000-1481734800@radioterapiaitalia.it
SUMMARY:2016 Dicembre 13-14 Consensus conference TMD Urooncologico Milano
DESCRIPTION:programma-4
URL:https://radioterapiaitalia.it/event/2016-dicembre-13-14-consensus-conference-tmd-urooncologico-milano-2/
CATEGORIES:CORSI E CONGRESSI PATROCINATI AIRO
ATTACH;FMTTYPE=:
END:VEVENT
END:VCALENDAR