BEGIN:VCALENDAR
VERSION:2.0
PRODID:-//AIRO - ECPv6.15.11//NONSGML v1.0//EN
CALSCALE:GREGORIAN
METHOD:PUBLISH
X-ORIGINAL-URL:https://radioterapiaitalia.it
X-WR-CALDESC:Eventi per AIRO
REFRESH-INTERVAL;VALUE=DURATION:PT1H
X-Robots-Tag:noindex
X-PUBLISHED-TTL:PT1H
BEGIN:VTIMEZONE
TZID:Europe/Rome
BEGIN:DAYLIGHT
TZOFFSETFROM:+0100
TZOFFSETTO:+0200
TZNAME:CEST
DTSTART:20120325T010000
END:DAYLIGHT
BEGIN:STANDARD
TZOFFSETFROM:+0200
TZOFFSETTO:+0100
TZNAME:CET
DTSTART:20121028T010000
END:STANDARD
BEGIN:DAYLIGHT
TZOFFSETFROM:+0100
TZOFFSETTO:+0200
TZNAME:CEST
DTSTART:20130331T010000
END:DAYLIGHT
BEGIN:STANDARD
TZOFFSETFROM:+0200
TZOFFSETTO:+0100
TZNAME:CET
DTSTART:20131027T010000
END:STANDARD
BEGIN:DAYLIGHT
TZOFFSETFROM:+0100
TZOFFSETTO:+0200
TZNAME:CEST
DTSTART:20140330T010000
END:DAYLIGHT
BEGIN:STANDARD
TZOFFSETFROM:+0200
TZOFFSETTO:+0100
TZNAME:CET
DTSTART:20141026T010000
END:STANDARD
END:VTIMEZONE
BEGIN:VEVENT
DTSTART;TZID=Europe/Rome:20130121T080000
DTEND;TZID=Europe/Rome:20130121T170000
DTSTAMP:20260422T002229
CREATED:20160926T185605Z
LAST-MODIFIED:20160926T185605Z
UID:6471-1358755200-1358787600@radioterapiaitalia.it
SUMMARY:2013 Gennaio 21
DESCRIPTION:verbale-cd-21-gennaio-2013
URL:https://radioterapiaitalia.it/event/2013-gennaio-21/
CATEGORIES:Eventi societari
ATTACH;FMTTYPE=:
END:VEVENT
BEGIN:VEVENT
DTSTART;TZID=Europe/Rome:20130121T080000
DTEND;TZID=Europe/Rome:20130121T170000
DTSTAMP:20260422T002229
CREATED:20160926T185605Z
LAST-MODIFIED:20160926T185605Z
UID:42387-1358755200-1358787600@radioterapiaitalia.it
SUMMARY:2013 Gennaio 21
DESCRIPTION:verbale-cd-21-gennaio-2013
URL:https://radioterapiaitalia.it/event/2013-gennaio-21-2/
CATEGORIES:Eventi societari
ATTACH;FMTTYPE=:
END:VEVENT
END:VCALENDAR