BEGIN:VCALENDAR
VERSION:2.0
PRODID:-//AIRO - ECPv6.15.11//NONSGML v1.0//EN
CALSCALE:GREGORIAN
METHOD:PUBLISH
X-WR-CALNAME:AIRO
X-ORIGINAL-URL:https://radioterapiaitalia.it
X-WR-CALDESC:Eventi per AIRO
REFRESH-INTERVAL;VALUE=DURATION:PT1H
X-Robots-Tag:noindex
X-PUBLISHED-TTL:PT1H
BEGIN:VTIMEZONE
TZID:Europe/Rome
BEGIN:DAYLIGHT
TZOFFSETFROM:+0100
TZOFFSETTO:+0200
TZNAME:CEST
DTSTART:20150329T010000
END:DAYLIGHT
BEGIN:STANDARD
TZOFFSETFROM:+0200
TZOFFSETTO:+0100
TZNAME:CET
DTSTART:20151025T010000
END:STANDARD
BEGIN:DAYLIGHT
TZOFFSETFROM:+0100
TZOFFSETTO:+0200
TZNAME:CEST
DTSTART:20160327T010000
END:DAYLIGHT
BEGIN:STANDARD
TZOFFSETFROM:+0200
TZOFFSETTO:+0100
TZNAME:CET
DTSTART:20161030T010000
END:STANDARD
BEGIN:DAYLIGHT
TZOFFSETFROM:+0100
TZOFFSETTO:+0200
TZNAME:CEST
DTSTART:20170326T010000
END:DAYLIGHT
BEGIN:STANDARD
TZOFFSETFROM:+0200
TZOFFSETTO:+0100
TZNAME:CET
DTSTART:20171029T010000
END:STANDARD
END:VTIMEZONE
BEGIN:VEVENT
DTSTART;TZID=Europe/Rome:20160915T080000
DTEND;TZID=Europe/Rome:20160918T170000
DTSTAMP:20260425T114611
CREATED:20160516T221309Z
LAST-MODIFIED:20160516T221309Z
UID:42346-1473926400-1474218000@radioterapiaitalia.it
SUMMARY:47° Congresso nazionale SIRM Napoli 15-18 settembre 2016
DESCRIPTION:
URL:https://radioterapiaitalia.it/event/congresso-nazionale-sirm-2016-2/
CATEGORIES:CORSI E CONGRESSI PATROCINATI AIRO
ATTACH;FMTTYPE=:
END:VEVENT
BEGIN:VEVENT
DTSTART;TZID=Europe/Rome:20160911T080000
DTEND;TZID=Europe/Rome:20160911T170000
DTSTAMP:20260425T114611
CREATED:20161107T000330Z
LAST-MODIFIED:20161107T000330Z
UID:6030-1473580800-1473613200@radioterapiaitalia.it
SUMMARY:2016 novembre 7-8 Stereotactic Body Radiation Therapy
DESCRIPTION:  \n 
URL:https://radioterapiaitalia.it/event/2016-novembre-7-8-stereotactic-body-radiation-therapy/
CATEGORIES:CORSI E CONGRESSI PATROCINATI AIRO
END:VEVENT
BEGIN:VEVENT
DTSTART;TZID=Europe/Rome:20160911T080000
DTEND;TZID=Europe/Rome:20160911T170000
DTSTAMP:20260425T114611
CREATED:20161107T000330Z
LAST-MODIFIED:20161107T000330Z
UID:42383-1473580800-1473613200@radioterapiaitalia.it
SUMMARY:2016 novembre 7-8 Stereotactic Body Radiation Therapy
DESCRIPTION:  \n 
URL:https://radioterapiaitalia.it/event/2016-novembre-7-8-stereotactic-body-radiation-therapy-2/
CATEGORIES:CORSI E CONGRESSI PATROCINATI AIRO
END:VEVENT
BEGIN:VEVENT
DTSTART;TZID=Europe/Rome:20160907T080000
DTEND;TZID=Europe/Rome:20160910T170000
DTSTAMP:20260425T114611
CREATED:20160814T164733Z
LAST-MODIFIED:20160814T164733Z
UID:4097-1473235200-1473526800@radioterapiaitalia.it
SUMMARY:2016 7 settembre 5a edizione Congresso Nazionale AIMUT Le patologie uro-oncologiche - Chieti  7-10 Settembre 2016
DESCRIPTION:2016 7 settembre 5a edizione Congresso Nazionale AIMUT Le patologie uro-oncologiche – Chieti 7-10 Settembre 2016
URL:https://radioterapiaitalia.it/event/2016-7-settembre-5a-edizione-congresso-nazionale-aimut-le-patologie-uro-oncologiche-chieti-7-10-settembre-2016/
CATEGORIES:CORSI E CONGRESSI PATROCINATI AIRO
ATTACH;FMTTYPE=:
END:VEVENT
BEGIN:VEVENT
DTSTART;TZID=Europe/Rome:20160907T080000
DTEND;TZID=Europe/Rome:20160910T170000
DTSTAMP:20260425T114611
CREATED:20160814T164733Z
LAST-MODIFIED:20160814T164733Z
UID:42361-1473235200-1473526800@radioterapiaitalia.it
SUMMARY:2016 7 settembre 5a edizione Congresso Nazionale AIMUT Le patologie uro-oncologiche - Chieti  7-10 Settembre 2016
DESCRIPTION:2016 7 settembre 5a edizione Congresso Nazionale AIMUT Le patologie uro-oncologiche – Chieti 7-10 Settembre 2016
URL:https://radioterapiaitalia.it/event/2016-7-settembre-5a-edizione-congresso-nazionale-aimut-le-patologie-uro-oncologiche-chieti-7-10-settembre-2016-2/
CATEGORIES:CORSI E CONGRESSI PATROCINATI AIRO
ATTACH;FMTTYPE=:
END:VEVENT
BEGIN:VEVENT
DTSTART;TZID=Europe/Rome:20160907T080000
DTEND;TZID=Europe/Rome:20160908T170000
DTSTAMP:20260425T114611
CREATED:20160612T093355Z
LAST-MODIFIED:20160612T093355Z
UID:42349-1473235200-1473354000@radioterapiaitalia.it
SUMMARY:Studi clinici: Metodologia - Modulo I  - GRATUITO PER I SOCI AIRO
DESCRIPTION:2016 settembre 7-8 Studi clinici: Metodologia – Modulo I
URL:https://radioterapiaitalia.it/event/studi-clinici-metodologia-modulo-2/
CATEGORIES:CORSI E CONGRESSI PATROCINATI AIRO
ATTACH;FMTTYPE=:
END:VEVENT
BEGIN:VEVENT
DTSTART;TZID=Europe/Rome:20160907T080000
DTEND;TZID=Europe/Rome:20160908T170000
DTSTAMP:20260425T114611
CREATED:20160612T093355Z
LAST-MODIFIED:20160612T093355Z
UID:3201-1473235200-1473354000@radioterapiaitalia.it
SUMMARY:Studi clinici: Metodologia - Modulo I  - GRATUITO PER I SOCI AIRO
DESCRIPTION:2016 settembre 7-8 Studi clinici: Metodologia – Modulo I
URL:https://radioterapiaitalia.it/event/studi-clinici-metodologia-modulo/
CATEGORIES:CORSI E CONGRESSI PATROCINATI AIRO
ATTACH;FMTTYPE=:
END:VEVENT
BEGIN:VEVENT
DTSTART;TZID=Europe/Rome:20160626T080000
DTEND;TZID=Europe/Rome:20160626T170000
DTSTAMP:20260425T114611
CREATED:20160510T231141Z
LAST-MODIFIED:20160510T231141Z
UID:42357-1466928000-1466960400@radioterapiaitalia.it
SUMMARY:2016  Maggio 12-14 Master NeuroOnco
DESCRIPTION:2016 Maggio 12-14MasterNeuroOnco_prog_pp
URL:https://radioterapiaitalia.it/event/2016-maggio-12-14masterneuroonco_prog_pp-2/
CATEGORIES:CORSI E CONGRESSI DI INTERESSE AIRO,CORSI E CONGRESSI PATROCINATI AIRO
ATTACH;FMTTYPE=:
END:VEVENT
BEGIN:VEVENT
DTSTART;TZID=Europe/Rome:20160626T080000
DTEND;TZID=Europe/Rome:20160626T170000
DTSTAMP:20260425T114611
CREATED:20160510T231141Z
LAST-MODIFIED:20160510T231141Z
UID:3708-1466928000-1466960400@radioterapiaitalia.it
SUMMARY:2016  Maggio 12-14 Master NeuroOnco
DESCRIPTION:2016 Maggio 12-14MasterNeuroOnco_prog_pp
URL:https://radioterapiaitalia.it/event/2016-maggio-12-14masterneuroonco_prog_pp/
CATEGORIES:CORSI E CONGRESSI DI INTERESSE AIRO,CORSI E CONGRESSI PATROCINATI AIRO
ATTACH;FMTTYPE=:
END:VEVENT
BEGIN:VEVENT
DTSTART;TZID=Europe/Rome:20160624T080000
DTEND;TZID=Europe/Rome:20160625T170000
DTSTAMP:20260425T114611
CREATED:20160515T201031Z
LAST-MODIFIED:20160515T201031Z
UID:42345-1466755200-1466874000@radioterapiaitalia.it
SUMMARY:ISIORT 2016 Novara
DESCRIPTION:Programma preliminare ISIORT 2016 (1)
URL:https://radioterapiaitalia.it/event/isiort-2016-novara-2-2/
CATEGORIES:CORSI E CONGRESSI PATROCINATI AIRO
ATTACH;FMTTYPE=:
END:VEVENT
BEGIN:VEVENT
DTSTART;TZID=Europe/Rome:20160624T080000
DTEND;TZID=Europe/Rome:20160625T170000
DTSTAMP:20260425T114611
CREATED:20160515T201031Z
LAST-MODIFIED:20160515T201031Z
UID:1904-1466755200-1466874000@radioterapiaitalia.it
SUMMARY:ISIORT 2016 Novara
DESCRIPTION:Programma preliminare ISIORT 2016 (1)
URL:https://radioterapiaitalia.it/event/isiort-2016-novara-2/
CATEGORIES:CORSI E CONGRESSI PATROCINATI AIRO
ATTACH;FMTTYPE=:
END:VEVENT
BEGIN:VEVENT
DTSTART;TZID=Europe/Rome:20160612T080000
DTEND;TZID=Europe/Rome:20160612T170000
DTSTAMP:20260425T114611
CREATED:20160612T100605Z
LAST-MODIFIED:20160612T100605Z
UID:42350-1465718400-1465750800@radioterapiaitalia.it
SUMMARY:Against the Pain @ Bologna - 12/13 giugno 2016 Gratuito per i Soci AIRO
DESCRIPTION:Programma_ATP_Radioterapia 2016 (2)
URL:https://radioterapiaitalia.it/event/against-the-pain-bologna-1213-giugno-2016-gratuito-soci-airo-2/
CATEGORIES:CORSI E CONGRESSI PATROCINATI AIRO
ATTACH;FMTTYPE=:
END:VEVENT
BEGIN:VEVENT
DTSTART;TZID=Europe/Rome:20160612T080000
DTEND;TZID=Europe/Rome:20160612T170000
DTSTAMP:20260425T114611
CREATED:20160612T100605Z
LAST-MODIFIED:20160612T100605Z
UID:3211-1465718400-1465750800@radioterapiaitalia.it
SUMMARY:Against the Pain @ Bologna - 12/13 giugno 2016 Gratuito per i Soci AIRO
DESCRIPTION:Programma_ATP_Radioterapia 2016 (2)
URL:https://radioterapiaitalia.it/event/against-the-pain-bologna-1213-giugno-2016-gratuito-soci-airo/
CATEGORIES:CORSI E CONGRESSI PATROCINATI AIRO
ATTACH;FMTTYPE=:
END:VEVENT
BEGIN:VEVENT
DTSTART;TZID=Europe/Rome:20160606T080000
DTEND;TZID=Europe/Rome:20160608T170000
DTSTAMP:20260425T114611
CREATED:20160506T181146Z
LAST-MODIFIED:20160506T181146Z
UID:42335-1465200000-1465405200@radioterapiaitalia.it
SUMMARY:Master Multidisciplinare sulle neoplasie testa collo
DESCRIPTION:20160606MI_Programma (1)
URL:https://radioterapiaitalia.it/event/master-multidisciplinare-sulle-neoplasie-testa-collo-2/
CATEGORIES:CORSI E CONGRESSI PATROCINATI AIRO
ATTACH;FMTTYPE=:
END:VEVENT
BEGIN:VEVENT
DTSTART;TZID=Europe/Rome:20160606T080000
DTEND;TZID=Europe/Rome:20160608T170000
DTSTAMP:20260425T114611
CREATED:20160506T181146Z
LAST-MODIFIED:20160506T181146Z
UID:1434-1465200000-1465405200@radioterapiaitalia.it
SUMMARY:Master Multidisciplinare sulle neoplasie testa collo
DESCRIPTION:20160606MI_Programma (1)
URL:https://radioterapiaitalia.it/event/master-multidisciplinare-sulle-neoplasie-testa-collo/
CATEGORIES:CORSI E CONGRESSI PATROCINATI AIRO
ATTACH;FMTTYPE=:
END:VEVENT
BEGIN:VEVENT
DTSTART;TZID=Europe/Rome:20160305T080000
DTEND;TZID=Europe/Rome:20160305T170000
DTSTAMP:20260425T114611
CREATED:20160302T220025Z
LAST-MODIFIED:20160302T220025Z
UID:42325-1457164800-1457197200@radioterapiaitalia.it
SUMMARY:Parma - La Radioterapia nel 2016 - Nell'approccio multidisciplinare delle neoplasie toraciche
DESCRIPTION:
URL:https://radioterapiaitalia.it/event/parma-la-radioterapia-nel-2016-nellapproccio-multidisciplinare-delle-neoplasie-toraciche-2/
CATEGORIES:CORSI E CONGRESSI PATROCINATI AIRO
ATTACH;FMTTYPE=:
END:VEVENT
BEGIN:VEVENT
DTSTART;TZID=Europe/Rome:20160305T080000
DTEND;TZID=Europe/Rome:20160305T170000
DTSTAMP:20260425T114611
CREATED:20160302T220025Z
LAST-MODIFIED:20160302T220025Z
UID:687-1457164800-1457197200@radioterapiaitalia.it
SUMMARY:Parma - La Radioterapia nel 2016 - Nell'approccio multidisciplinare delle neoplasie toraciche
DESCRIPTION:
URL:https://radioterapiaitalia.it/event/parma-la-radioterapia-nel-2016-nellapproccio-multidisciplinare-delle-neoplasie-toraciche/
CATEGORIES:CORSI E CONGRESSI PATROCINATI AIRO
ATTACH;FMTTYPE=:
END:VEVENT
BEGIN:VEVENT
DTSTART;TZID=Europe/Rome:20160225T080000
DTEND;TZID=Europe/Rome:20160228T170000
DTSTAMP:20260425T114611
CREATED:20160225T230540Z
LAST-MODIFIED:20160225T230540Z
UID:42316-1456387200-1456678800@radioterapiaitalia.it
SUMMARY:2016 febbraio 25/28 Congresso nazionale SIFM
DESCRIPTION:2016 febbraio 25:28 Congresso nazionale SIFM
URL:https://radioterapiaitalia.it/event/2016-febbraio-2528-congresso-nazionale-sifm-2/
CATEGORIES:CORSI E CONGRESSI PATROCINATI AIRO
ATTACH;FMTTYPE=:
END:VEVENT
BEGIN:VEVENT
DTSTART;TZID=Europe/Rome:20160225T080000
DTEND;TZID=Europe/Rome:20160228T170000
DTSTAMP:20260425T114611
CREATED:20160225T230540Z
LAST-MODIFIED:20160225T230540Z
UID:3705-1456387200-1456678800@radioterapiaitalia.it
SUMMARY:2016 febbraio 25/28 Congresso nazionale SIFM
DESCRIPTION:2016 febbraio 25:28 Congresso nazionale SIFM
URL:https://radioterapiaitalia.it/event/2016-febbraio-2528-congresso-nazionale-sifm/
CATEGORIES:CORSI E CONGRESSI PATROCINATI AIRO
ATTACH;FMTTYPE=:
END:VEVENT
BEGIN:VEVENT
DTSTART;TZID=Europe/Rome:20160208T080000
DTEND;TZID=Europe/Rome:20160208T170000
DTSTAMP:20260425T114611
CREATED:20160626T231809Z
LAST-MODIFIED:20160626T231809Z
UID:3711-1454918400-1454950800@radioterapiaitalia.it
SUMMARY:2016 February 6 THINK TANK MEETING ON RESEARCH CHALLENGES IN BREAST CANCER
DESCRIPTION:2016 February 6 THINK TANK MEETING ON RESEARCH CHALLENGES IN BREAST CANCER
URL:https://radioterapiaitalia.it/event/2016-february-6-think-tank-meeting-research-challenges-breast-cancer/
CATEGORIES:CORSI E CONGRESSI PATROCINATI AIRO
ATTACH;FMTTYPE=:
END:VEVENT
BEGIN:VEVENT
DTSTART;TZID=Europe/Rome:20160208T080000
DTEND;TZID=Europe/Rome:20160208T170000
DTSTAMP:20260425T114611
CREATED:20160626T231809Z
LAST-MODIFIED:20160626T231809Z
UID:42358-1454918400-1454950800@radioterapiaitalia.it
SUMMARY:2016 February 6 THINK TANK MEETING ON RESEARCH CHALLENGES IN BREAST CANCER
DESCRIPTION:2016 February 6 THINK TANK MEETING ON RESEARCH CHALLENGES IN BREAST CANCER
URL:https://radioterapiaitalia.it/event/2016-february-6-think-tank-meeting-research-challenges-breast-cancer-2/
CATEGORIES:CORSI E CONGRESSI PATROCINATI AIRO
ATTACH;FMTTYPE=:
END:VEVENT
END:VCALENDAR