BEGIN:VCALENDAR
VERSION:2.0
PRODID:-//AIRO - ECPv6.15.11//NONSGML v1.0//EN
CALSCALE:GREGORIAN
METHOD:PUBLISH
X-WR-CALNAME:AIRO
X-ORIGINAL-URL:https://radioterapiaitalia.it
X-WR-CALDESC:Eventi per AIRO
REFRESH-INTERVAL;VALUE=DURATION:PT1H
X-Robots-Tag:noindex
X-PUBLISHED-TTL:PT1H
BEGIN:VTIMEZONE
TZID:Europe/Rome
BEGIN:DAYLIGHT
TZOFFSETFROM:+0100
TZOFFSETTO:+0200
TZNAME:CEST
DTSTART:20160327T010000
END:DAYLIGHT
BEGIN:STANDARD
TZOFFSETFROM:+0200
TZOFFSETTO:+0100
TZNAME:CET
DTSTART:20161030T010000
END:STANDARD
BEGIN:DAYLIGHT
TZOFFSETFROM:+0100
TZOFFSETTO:+0200
TZNAME:CEST
DTSTART:20170326T010000
END:DAYLIGHT
BEGIN:STANDARD
TZOFFSETFROM:+0200
TZOFFSETTO:+0100
TZNAME:CET
DTSTART:20171029T010000
END:STANDARD
BEGIN:DAYLIGHT
TZOFFSETFROM:+0100
TZOFFSETTO:+0200
TZNAME:CEST
DTSTART:20180325T010000
END:DAYLIGHT
BEGIN:STANDARD
TZOFFSETFROM:+0200
TZOFFSETTO:+0100
TZNAME:CET
DTSTART:20181028T010000
END:STANDARD
END:VTIMEZONE
BEGIN:VEVENT
DTSTART;TZID=Europe/Rome:20171026T150000
DTEND;TZID=Europe/Rome:20171027T170000
DTSTAMP:20260424T135012
CREATED:20170919T162639Z
LAST-MODIFIED:20170919T162639Z
UID:13283-1509030000-1509123600@radioterapiaitalia.it
SUMMARY:2017 ottobre 26-27 - Il trattamento della neoplasia polmonare I stadio: chirurghi toracici e radioterapisti a confronto - Bergamo
DESCRIPTION:PROGRAMMA
URL:https://radioterapiaitalia.it/event/2017-ottobre-26-27-trattamento-della-neoplasia-polmonare-stadio-chirurghi-toracici-radioterapisti-confronto-bergamo/
CATEGORIES:CORSI E CONGRESSI PATROCINATI AIRO
ATTACH;FMTTYPE=:
END:VEVENT
BEGIN:VEVENT
DTSTART;TZID=Europe/Rome:20171013T083000
DTEND;TZID=Europe/Rome:20171014T130000
DTSTAMP:20260424T135012
CREATED:20170911T164750Z
LAST-MODIFIED:20170911T164750Z
UID:13263-1507883400-1507986000@radioterapiaitalia.it
SUMMARY:2017 Ottobre 13-14 - Expert meeting. From surgery to radiosurgery. New horizons. Ameglia - La Spezia
DESCRIPTION:Programma
URL:https://radioterapiaitalia.it/event/2017-ottobre-13-14-expert-meeting-from-surgery-to-radiosurgery-new-horizons-ameglia-la-spezia/
CATEGORIES:CORSI E CONGRESSI PATROCINATI AIRO
ATTACH;FMTTYPE=:
END:VEVENT
BEGIN:VEVENT
DTSTART;TZID=Europe/Rome:20171013T083000
DTEND;TZID=Europe/Rome:20171014T130000
DTSTAMP:20260424T135012
CREATED:20170911T164750Z
LAST-MODIFIED:20170911T164750Z
UID:42500-1507883400-1507986000@radioterapiaitalia.it
SUMMARY:2017 Ottobre 13-14 - Expert meeting. From surgery to radiosurgery. New horizons. Ameglia - La Spezia
DESCRIPTION:Programma
URL:https://radioterapiaitalia.it/event/2017-ottobre-13-14-expert-meeting-from-surgery-to-radiosurgery-new-horizons-ameglia-la-spezia-2/
CATEGORIES:CORSI E CONGRESSI PATROCINATI AIRO
ATTACH;FMTTYPE=:
END:VEVENT
BEGIN:VEVENT
DTSTART;TZID=Europe/Rome:20171006T123000
DTEND;TZID=Europe/Rome:20171006T190000
DTSTAMP:20260424T135012
CREATED:20170906T210204Z
LAST-MODIFIED:20170906T210204Z
UID:13238-1507293000-1507316400@radioterapiaitalia.it
SUMMARY:2017 ottobre 6 - Il carcinoma della prostata localmente avanzato\, Roma
DESCRIPTION:Locandina \nBrochure
URL:https://radioterapiaitalia.it/event/2017-ottobre-6-carcinoma-della-prostata-localmente-avanzato-roma/
CATEGORIES:CORSI E CONGRESSI PATROCINATI AIRO
ATTACH;FMTTYPE=:
END:VEVENT
BEGIN:VEVENT
DTSTART;TZID=Europe/Rome:20171006T123000
DTEND;TZID=Europe/Rome:20171006T190000
DTSTAMP:20260424T135012
CREATED:20170906T210204Z
LAST-MODIFIED:20170906T210204Z
UID:42499-1507293000-1507316400@radioterapiaitalia.it
SUMMARY:2017 ottobre 6 - Il carcinoma della prostata localmente avanzato\, Roma
DESCRIPTION:Locandina \nBrochure
URL:https://radioterapiaitalia.it/event/2017-ottobre-6-carcinoma-della-prostata-localmente-avanzato-roma-2/
CATEGORIES:CORSI E CONGRESSI PATROCINATI AIRO
ATTACH;FMTTYPE=:
END:VEVENT
BEGIN:VEVENT
DTSTART;TZID=Europe/Rome:20170921T023000
DTEND;TZID=Europe/Rome:20170922T050000
DTSTAMP:20260424T135012
CREATED:20170709T224244Z
LAST-MODIFIED:20170709T224244Z
UID:42492-1505961000-1506056400@radioterapiaitalia.it
SUMMARY:2017 settembre 21-22 - Brescia meetings in radiation oncology - The other side of uro-oncology: the role of the radiation oncologist in the management of bladder\, kidney and testis cancer.
DESCRIPTION:PROGRAMME and REGISTRATION FORM \n  \nP R E S E N T A Z I O N E  d e l  C O N V E G N O\nIl trattamento delle neoplasie uro-oncologiche\, in particolare vescica rene e testicolo\, è molto cambiato negli ultimi 15 anni e questo soprattutto grazie all’introduzione di nuovi farmaci a bersaglio molecolare.\nLa radioterapia fa da sempre parte del trattamento integrato di queste neoplasie\, anche se nel tempo può essere cambiata la modalità d’integrazione di tale tempo terapeutico con gli altri trattamenti (chirurgia e terapia medica).\nObiettivo del convegno\, rivolto soprattutto a Oncologi Radioterapisti\, ma anche a tutti coloro che vogliano un aggiornamento in merito al trattamento delle neoplasie uro-oncologiche\, è quello di descrivere nel dettaglio i recenti progressi ed il loro razionale\, in ambito di terapia medica e radioterapica focalizzandosi poi in particolare\, sulla loro integrazione.\nPer il trattamento medico\, particolare attenzione sarà rivolta al razionale biologico dell’uso di farmaci a target biologico/molecolare sia singolarmente che in integrazione con la radioterapia; per il trattamento radioterapico saranno analizzate e approfondite le possibilità di utilizzo delle moderne tecniche (4D-planning\, IMRT\, VMAT\, SBRT\, IGRT)\, da sole o in integrazione con la terapia medica.\nSempre nell’ambito di un’ottimale integrazione dei trattamenti a disposizione\, una sessione verrà anche dedicata all’analisi della migliore sequenza da adottare per l’uso dei nuovi farmaci attualmente a disposizione nel trattamento della prostata.\nLa discussione finale di casi clinici con esperti nell’ambito delle patologie in oggetto contribuirà a contestualizzare al meglio le discussioni teoriche del resto delle giornate e a rendere così più concreto l’apprendimento.
URL:https://radioterapiaitalia.it/event/2017-settembre-21-22-brescia-meetings-radiation-oncology-the-other-side-of-uro-oncology-the-role-of-the-radiation-oncologist-the-management-of-bladder-kidney-and-testis-cancer-2/
CATEGORIES:CORSI E CONGRESSI PATROCINATI AIRO
ATTACH;FMTTYPE=:
END:VEVENT
BEGIN:VEVENT
DTSTART;TZID=Europe/Rome:20170921T023000
DTEND;TZID=Europe/Rome:20170922T050000
DTSTAMP:20260424T135012
CREATED:20170709T224244Z
LAST-MODIFIED:20170709T224244Z
UID:12580-1505961000-1506056400@radioterapiaitalia.it
SUMMARY:2017 settembre 21-22 - Brescia meetings in radiation oncology - The other side of uro-oncology: the role of the radiation oncologist in the management of bladder\, kidney and testis cancer.
DESCRIPTION:PROGRAMME and REGISTRATION FORM \n  \nP R E S E N T A Z I O N E  d e l  C O N V E G N O\nIl trattamento delle neoplasie uro-oncologiche\, in particolare vescica rene e testicolo\, è molto cambiato negli ultimi 15 anni e questo soprattutto grazie all’introduzione di nuovi farmaci a bersaglio molecolare.\nLa radioterapia fa da sempre parte del trattamento integrato di queste neoplasie\, anche se nel tempo può essere cambiata la modalità d’integrazione di tale tempo terapeutico con gli altri trattamenti (chirurgia e terapia medica).\nObiettivo del convegno\, rivolto soprattutto a Oncologi Radioterapisti\, ma anche a tutti coloro che vogliano un aggiornamento in merito al trattamento delle neoplasie uro-oncologiche\, è quello di descrivere nel dettaglio i recenti progressi ed il loro razionale\, in ambito di terapia medica e radioterapica focalizzandosi poi in particolare\, sulla loro integrazione.\nPer il trattamento medico\, particolare attenzione sarà rivolta al razionale biologico dell’uso di farmaci a target biologico/molecolare sia singolarmente che in integrazione con la radioterapia; per il trattamento radioterapico saranno analizzate e approfondite le possibilità di utilizzo delle moderne tecniche (4D-planning\, IMRT\, VMAT\, SBRT\, IGRT)\, da sole o in integrazione con la terapia medica.\nSempre nell’ambito di un’ottimale integrazione dei trattamenti a disposizione\, una sessione verrà anche dedicata all’analisi della migliore sequenza da adottare per l’uso dei nuovi farmaci attualmente a disposizione nel trattamento della prostata.\nLa discussione finale di casi clinici con esperti nell’ambito delle patologie in oggetto contribuirà a contestualizzare al meglio le discussioni teoriche del resto delle giornate e a rendere così più concreto l’apprendimento.
URL:https://radioterapiaitalia.it/event/2017-settembre-21-22-brescia-meetings-radiation-oncology-the-other-side-of-uro-oncology-the-role-of-the-radiation-oncologist-the-management-of-bladder-kidney-and-testis-cancer/
CATEGORIES:CORSI E CONGRESSI PATROCINATI AIRO
ATTACH;FMTTYPE=:
END:VEVENT
BEGIN:VEVENT
DTSTART;TZID=Europe/Rome:20170920T093000
DTEND;TZID=Europe/Rome:20170921T130000
DTSTAMP:20260424T135012
CREATED:20161208T113107Z
LAST-MODIFIED:20161208T113107Z
UID:42423-1505899800-1505998800@radioterapiaitalia.it
SUMMARY:2017 settmbre 20-21 Modulo 4 REVISIONI SISTEMATICHE E META-ANALISI NEGRAR
DESCRIPTION:Iscrizione gratuita per i soci AIRO \nDEPLIANT 20-21 SETTEMBRE
URL:https://radioterapiaitalia.it/event/2017-settmbre-20-21-modulo-4-revisioni-sistematiche-meta-analisi-negrar-2/
CATEGORIES:CORSI E CONGRESSI PATROCINATI AIRO
ATTACH;FMTTYPE=:
END:VEVENT
BEGIN:VEVENT
DTSTART;TZID=Europe/Rome:20170920T093000
DTEND;TZID=Europe/Rome:20170921T130000
DTSTAMP:20260424T135012
CREATED:20161208T113107Z
LAST-MODIFIED:20161208T113107Z
UID:7192-1505899800-1505998800@radioterapiaitalia.it
SUMMARY:2017 settmbre 20-21 Modulo 4 REVISIONI SISTEMATICHE E META-ANALISI NEGRAR
DESCRIPTION:Iscrizione gratuita per i soci AIRO \nDEPLIANT 20-21 SETTEMBRE
URL:https://radioterapiaitalia.it/event/2017-settmbre-20-21-modulo-4-revisioni-sistematiche-meta-analisi-negrar/
CATEGORIES:CORSI E CONGRESSI PATROCINATI AIRO
ATTACH;FMTTYPE=:
END:VEVENT
BEGIN:VEVENT
DTSTART;TZID=Europe/Rome:20170914T083000
DTEND;TZID=Europe/Rome:20170916T170000
DTSTAMP:20260424T135012
CREATED:20170719T220028Z
LAST-MODIFIED:20170719T220028Z
UID:42496-1505377800-1505581200@radioterapiaitalia.it
SUMMARY:2017 settembre 14-16 Il counselling IN RADIOTERAPIA\, Siracusa
DESCRIPTION:All’equipe di radioterapia sono richieste elevate competenze tecniche da applicare ad un contesto relazionale critico\, in cui vi sono grandi coinvolgimenti emozionali. Di fatto la formazione di questa equipe punta sullo sviluppo delle abilità tecniche: ma la gigantesca fetta di lavoro in cui entrano in gioco competenze di comunicazione\, capacità di gestione della crisi\, abilità di facilitazione e supporto\, ecc… è di fatto lasciata “all’istinto” e alle attitudini del singolo. Ciò è oggi anacronistico in ragione della possibilità di attingere a strategie formative e applicative di Counselling. Con questo Evento si propone una formazione al counselling in radioterapia che integri momenti di aggiornamento sulle “news” di maggiore rilievo in radioterapia\, ad ampi spazi di formazione al counselling e alla relazione efficace. \n  \nBrochure
URL:https://radioterapiaitalia.it/event/2017-settembre-14-16-counselling-radioterapia-siracusa-2/
CATEGORIES:CORSI E CONGRESSI PATROCINATI AIRO
ATTACH;FMTTYPE=:
END:VEVENT
BEGIN:VEVENT
DTSTART;TZID=Europe/Rome:20170914T083000
DTEND;TZID=Europe/Rome:20170916T170000
DTSTAMP:20260424T135012
CREATED:20170719T220028Z
LAST-MODIFIED:20170719T220028Z
UID:12844-1505377800-1505581200@radioterapiaitalia.it
SUMMARY:2017 settembre 14-16 Il counselling IN RADIOTERAPIA\, Siracusa
DESCRIPTION:All’equipe di radioterapia sono richieste elevate competenze tecniche da applicare ad un contesto relazionale critico\, in cui vi sono grandi coinvolgimenti emozionali. Di fatto la formazione di questa equipe punta sullo sviluppo delle abilità tecniche: ma la gigantesca fetta di lavoro in cui entrano in gioco competenze di comunicazione\, capacità di gestione della crisi\, abilità di facilitazione e supporto\, ecc… è di fatto lasciata “all’istinto” e alle attitudini del singolo. Ciò è oggi anacronistico in ragione della possibilità di attingere a strategie formative e applicative di Counselling. Con questo Evento si propone una formazione al counselling in radioterapia che integri momenti di aggiornamento sulle “news” di maggiore rilievo in radioterapia\, ad ampi spazi di formazione al counselling e alla relazione efficace. \n  \nBrochure
URL:https://radioterapiaitalia.it/event/2017-settembre-14-16-counselling-radioterapia-siracusa/
CATEGORIES:CORSI E CONGRESSI PATROCINATI AIRO
ATTACH;FMTTYPE=:
END:VEVENT
BEGIN:VEVENT
DTSTART;TZID=Europe/Rome:20170908T094000
DTEND;TZID=Europe/Rome:20170909T132000
DTSTAMP:20260424T135012
CREATED:20161208T112736Z
LAST-MODIFIED:20161208T112736Z
UID:42422-1504863600-1504963200@radioterapiaitalia.it
SUMMARY:2017 settembre 8-9 Corso teorico pratico: “Come si scrive un protocollo di ricerca clinica”
DESCRIPTION:Depliant 8 9 settembre
URL:https://radioterapiaitalia.it/event/2017-settembre-8-9-corso-teorico-pratico-si-scrive-un-protocollo-ricerca-clinica-2/
CATEGORIES:CORSI E CONGRESSI PATROCINATI AIRO
ATTACH;FMTTYPE=:
END:VEVENT
BEGIN:VEVENT
DTSTART;TZID=Europe/Rome:20170908T094000
DTEND;TZID=Europe/Rome:20170909T132000
DTSTAMP:20260424T135012
CREATED:20161208T112736Z
LAST-MODIFIED:20161208T112736Z
UID:7188-1504863600-1504963200@radioterapiaitalia.it
SUMMARY:2017 settembre 8-9 Corso teorico pratico: “Come si scrive un protocollo di ricerca clinica”
DESCRIPTION:Depliant 8 9 settembre
URL:https://radioterapiaitalia.it/event/2017-settembre-8-9-corso-teorico-pratico-si-scrive-un-protocollo-ricerca-clinica/
CATEGORIES:CORSI E CONGRESSI PATROCINATI AIRO
ATTACH;FMTTYPE=:
END:VEVENT
BEGIN:VEVENT
DTSTART;TZID=Europe/Rome:20170623T140000
DTEND;TZID=Europe/Rome:20170624T140000
DTSTAMP:20260424T135012
CREATED:20170531T004538Z
LAST-MODIFIED:20170531T004538Z
UID:42487-1498226400-1498312800@radioterapiaitalia.it
SUMMARY:8th	ROME INTER-MEETING Interventional and Metabolic Radiotherapy Multidisciplinary Meeting 23-24June 2017\, Rome		 an	INTERACTS	event
DESCRIPTION:INTER-MEETING
URL:https://radioterapiaitalia.it/event/8throme-inter-meeting-interventional-and-metabolic-radiotherapy-multidisciplinary-meeting-23-24june-2017-rome-aninteractsevent-2/
CATEGORIES:CORSI E CONGRESSI PATROCINATI AIRO
END:VEVENT
BEGIN:VEVENT
DTSTART;TZID=Europe/Rome:20170623T140000
DTEND;TZID=Europe/Rome:20170624T140000
DTSTAMP:20260424T135012
CREATED:20170531T004538Z
LAST-MODIFIED:20170531T004538Z
UID:11902-1498226400-1498312800@radioterapiaitalia.it
SUMMARY:8th	ROME INTER-MEETING Interventional and Metabolic Radiotherapy Multidisciplinary Meeting 23-24June 2017\, Rome		 an	INTERACTS	event
DESCRIPTION:INTER-MEETING
URL:https://radioterapiaitalia.it/event/8throme-inter-meeting-interventional-and-metabolic-radiotherapy-multidisciplinary-meeting-23-24june-2017-rome-aninteractsevent/
CATEGORIES:CORSI E CONGRESSI PATROCINATI AIRO
END:VEVENT
BEGIN:VEVENT
DTSTART;TZID=Europe/Rome:20170622T140000
DTEND;TZID=Europe/Rome:20170623T173000
DTSTAMP:20260424T135012
CREATED:20170507T221715Z
LAST-MODIFIED:20170507T221715Z
UID:11732-1498140000-1498239000@radioterapiaitalia.it
SUMMARY:2017 giugno 22-23\, RE-IRRADIATION: radiobiological\, technological and clinical conditions. ROMA
DESCRIPTION:Programma 22 23 giugno roma \nSCHEDA ISCRIZIONE
URL:https://radioterapiaitalia.it/event/2017-giugno-22-23-re-irradiation-radiobiological-technological-and-clinical-conditions-roma/
CATEGORIES:CORSI E CONGRESSI PATROCINATI AIRO
ATTACH;FMTTYPE=:
END:VEVENT
BEGIN:VEVENT
DTSTART;TZID=Europe/Rome:20170622T140000
DTEND;TZID=Europe/Rome:20170623T173000
DTSTAMP:20260424T135012
CREATED:20170507T221715Z
LAST-MODIFIED:20170507T221715Z
UID:42484-1498140000-1498239000@radioterapiaitalia.it
SUMMARY:2017 giugno 22-23\, RE-IRRADIATION: radiobiological\, technological and clinical conditions. ROMA
DESCRIPTION:Programma 22 23 giugno roma \nSCHEDA ISCRIZIONE
URL:https://radioterapiaitalia.it/event/2017-giugno-22-23-re-irradiation-radiobiological-technological-and-clinical-conditions-roma-2/
CATEGORIES:CORSI E CONGRESSI PATROCINATI AIRO
ATTACH;FMTTYPE=:
END:VEVENT
BEGIN:VEVENT
DTSTART;TZID=Europe/Rome:20170608T080000
DTEND;TZID=Europe/Rome:20170609T170000
DTSTAMP:20260424T135012
CREATED:20160927T204426Z
LAST-MODIFIED:20160927T204426Z
UID:42390-1496908800-1497027600@radioterapiaitalia.it
SUMMARY:2017 Giugno 8-9 Disfagia e Malnutrizione
DESCRIPTION:Programma – Pisa 8-9 giugno 2017
URL:https://radioterapiaitalia.it/event/2017-giugno-8-9-disfagia-malnutrizione-2/
CATEGORIES:CORSI E CONGRESSI PATROCINATI AIRO
ATTACH;FMTTYPE=:
END:VEVENT
BEGIN:VEVENT
DTSTART;TZID=Europe/Rome:20170608T080000
DTEND;TZID=Europe/Rome:20170609T170000
DTSTAMP:20260424T135012
CREATED:20160927T204426Z
LAST-MODIFIED:20160927T204426Z
UID:6513-1496908800-1497027600@radioterapiaitalia.it
SUMMARY:2017 Giugno 8-9 Disfagia e Malnutrizione
DESCRIPTION:Programma – Pisa 8-9 giugno 2017
URL:https://radioterapiaitalia.it/event/2017-giugno-8-9-disfagia-malnutrizione/
CATEGORIES:CORSI E CONGRESSI PATROCINATI AIRO
ATTACH;FMTTYPE=:
END:VEVENT
BEGIN:VEVENT
DTSTART;TZID=Europe/Rome:20170520T083000
DTEND;TZID=Europe/Rome:20170520T180000
DTSTAMP:20260424T135012
CREATED:20170412T213837Z
LAST-MODIFIED:20170412T213837Z
UID:11175-1495269000-1495303200@radioterapiaitalia.it
SUMMARY:2017 maggio 20\, Salerno-Chasing Lung Cancer: La sfida della radioterapia stereotassica ablativa con sinergie multidisciplinari
DESCRIPTION:Programma \nScheda Iscrizione
URL:https://radioterapiaitalia.it/event/2017-maggio-20-salerno-chasing-lung-cancer-la-sfida-della-radioterapia-stereotassica-ablativa-sinergie-multidisciplinari/
CATEGORIES:CORSI E CONGRESSI PATROCINATI AIRO
ATTACH;FMTTYPE=:
END:VEVENT
BEGIN:VEVENT
DTSTART;TZID=Europe/Rome:20170520T083000
DTEND;TZID=Europe/Rome:20170520T180000
DTSTAMP:20260424T135012
CREATED:20170412T213837Z
LAST-MODIFIED:20170412T213837Z
UID:42479-1495269000-1495303200@radioterapiaitalia.it
SUMMARY:2017 maggio 20\, Salerno-Chasing Lung Cancer: La sfida della radioterapia stereotassica ablativa con sinergie multidisciplinari
DESCRIPTION:Programma \nScheda Iscrizione
URL:https://radioterapiaitalia.it/event/2017-maggio-20-salerno-chasing-lung-cancer-la-sfida-della-radioterapia-stereotassica-ablativa-sinergie-multidisciplinari-2/
CATEGORIES:CORSI E CONGRESSI PATROCINATI AIRO
ATTACH;FMTTYPE=:
END:VEVENT
BEGIN:VEVENT
DTSTART;TZID=Europe/Rome:20170516T083000
DTEND;TZID=Europe/Rome:20170517T193000
DTSTAMP:20260424T135012
CREATED:20170402T223108Z
LAST-MODIFIED:20170402T223108Z
UID:42476-1494923400-1495049400@radioterapiaitalia.it
SUMMARY:2017 maggio 16-17\, MILANO - Forum on Cancer patients Empowerment
DESCRIPTION:Il programma è disponibile sul sito: www.forumcpe.it \nLocandina
URL:https://radioterapiaitalia.it/event/2017-maggio-16-17-milano-forum-cancer-patients-empowerment-2/
CATEGORIES:CORSI E CONGRESSI PATROCINATI AIRO
ATTACH;FMTTYPE=:
END:VEVENT
BEGIN:VEVENT
DTSTART;TZID=Europe/Rome:20170516T083000
DTEND;TZID=Europe/Rome:20170517T193000
DTSTAMP:20260424T135012
CREATED:20170402T223108Z
LAST-MODIFIED:20170402T223108Z
UID:10681-1494923400-1495049400@radioterapiaitalia.it
SUMMARY:2017 maggio 16-17\, MILANO - Forum on Cancer patients Empowerment
DESCRIPTION:Il programma è disponibile sul sito: www.forumcpe.it \nLocandina
URL:https://radioterapiaitalia.it/event/2017-maggio-16-17-milano-forum-cancer-patients-empowerment/
CATEGORIES:CORSI E CONGRESSI PATROCINATI AIRO
ATTACH;FMTTYPE=:
END:VEVENT
BEGIN:VEVENT
DTSTART;TZID=Europe/Rome:20170512T093000
DTEND;TZID=Europe/Rome:20170512T180000
DTSTAMP:20260424T135012
CREATED:20170402T224536Z
LAST-MODIFIED:20170402T224536Z
UID:10688-1494581400-1494612000@radioterapiaitalia.it
SUMMARY:2017 maggio 12\, OLIENA - III Focus on head and neck cancer: neck metastasis on unknown primary
DESCRIPTION:Programma
URL:https://radioterapiaitalia.it/event/2017-maggio-12-nuoro-iii-focus-head-and-neck-cancer-neck-metastasis-unknown-primary/
CATEGORIES:CORSI E CONGRESSI PATROCINATI AIRO
ATTACH;FMTTYPE=:
END:VEVENT
BEGIN:VEVENT
DTSTART;TZID=Europe/Rome:20170512T093000
DTEND;TZID=Europe/Rome:20170512T180000
DTSTAMP:20260424T135012
CREATED:20170402T224536Z
LAST-MODIFIED:20170402T224536Z
UID:42477-1494581400-1494612000@radioterapiaitalia.it
SUMMARY:2017 maggio 12\, OLIENA - III Focus on head and neck cancer: neck metastasis on unknown primary
DESCRIPTION:Programma
URL:https://radioterapiaitalia.it/event/2017-maggio-12-nuoro-iii-focus-head-and-neck-cancer-neck-metastasis-unknown-primary-2/
CATEGORIES:CORSI E CONGRESSI PATROCINATI AIRO
ATTACH;FMTTYPE=:
END:VEVENT
BEGIN:VEVENT
DTSTART;TZID=Europe/Rome:20170420T130000
DTEND;TZID=Europe/Rome:20170420T190000
DTSTAMP:20260424T135012
CREATED:20170323T183411Z
LAST-MODIFIED:20170323T183411Z
UID:42470-1492693200-1492714800@radioterapiaitalia.it
SUMMARY:20 Aprile 2017 Brescia - Convegno MODERNA RADIOTERAPIA NELLA NEOPLASIA POLMONARE: INDICAZIONI\, TRATTAMENTI COMBINATI E VISIONE MULTIDISCIPLINARE
DESCRIPTION:Programma preliminare \nScheda di iscrizione
URL:https://radioterapiaitalia.it/event/20-aprile-2017-brescia-convegno-moderna-radioterapia-nella-neoplasia-polmonare-indicazioni-trattamenti-combinati-visione-multidisciplinare-2/
CATEGORIES:CORSI E CONGRESSI PATROCINATI AIRO
ATTACH;FMTTYPE=:
END:VEVENT
BEGIN:VEVENT
DTSTART;TZID=Europe/Rome:20170420T130000
DTEND;TZID=Europe/Rome:20170420T190000
DTSTAMP:20260424T135012
CREATED:20170323T183411Z
LAST-MODIFIED:20170323T183411Z
UID:10329-1492693200-1492714800@radioterapiaitalia.it
SUMMARY:20 Aprile 2017 Brescia - Convegno MODERNA RADIOTERAPIA NELLA NEOPLASIA POLMONARE: INDICAZIONI\, TRATTAMENTI COMBINATI E VISIONE MULTIDISCIPLINARE
DESCRIPTION:Programma preliminare \nScheda di iscrizione
URL:https://radioterapiaitalia.it/event/20-aprile-2017-brescia-convegno-moderna-radioterapia-nella-neoplasia-polmonare-indicazioni-trattamenti-combinati-visione-multidisciplinare/
CATEGORIES:CORSI E CONGRESSI PATROCINATI AIRO
ATTACH;FMTTYPE=:
END:VEVENT
BEGIN:VEVENT
DTSTART;TZID=Europe/Rome:20170407T093000
DTEND;TZID=Europe/Rome:20170407T173000
DTSTAMP:20260424T135012
CREATED:20170216T193751Z
LAST-MODIFIED:20170216T193751Z
UID:9292-1491557400-1491586200@radioterapiaitalia.it
SUMMARY:2017 APR 7 - Neoplasia della mammella un unico problema molteplici soluzioni - MACERATA
DESCRIPTION:Congresso Macerata 7 aprile 2017
URL:https://radioterapiaitalia.it/event/2017-apr-7-neoplasia-mammaria-un-unico-problema-molteplici-soluzioni-macerata/
CATEGORIES:CORSI E CONGRESSI PATROCINATI AIRO
ATTACH;FMTTYPE=:
END:VEVENT
BEGIN:VEVENT
DTSTART;TZID=Europe/Rome:20170407T093000
DTEND;TZID=Europe/Rome:20170407T173000
DTSTAMP:20260424T135012
CREATED:20170216T193751Z
LAST-MODIFIED:20170216T193751Z
UID:42464-1491557400-1491586200@radioterapiaitalia.it
SUMMARY:2017 APR 7 - Neoplasia della mammella un unico problema molteplici soluzioni - MACERATA
DESCRIPTION:Congresso Macerata 7 aprile 2017
URL:https://radioterapiaitalia.it/event/2017-apr-7-neoplasia-mammaria-un-unico-problema-molteplici-soluzioni-macerata-2/
CATEGORIES:CORSI E CONGRESSI PATROCINATI AIRO
ATTACH;FMTTYPE=:
END:VEVENT
BEGIN:VEVENT
DTSTART;TZID=Europe/Rome:20170403T080000
DTEND;TZID=Europe/Rome:20170405T170000
DTSTAMP:20260424T135012
CREATED:20170207T172815Z
LAST-MODIFIED:20170207T172815Z
UID:9146-1491206400-1491411600@radioterapiaitalia.it
SUMMARY:2017 Apr 3-5 Corso Teorico Pratico Multidisciplinare in Oncologia Cervico-Facciale 2a Edizione Tumori dell'Orofaringe
DESCRIPTION:I354_IEO pieg 3-5 aprile 2017 \nPer l’iscrizione:\nhttp://www.ieo.it/it/FORMAZIONE/IEO-Education/Corsi-e-congressi/.
URL:https://radioterapiaitalia.it/event/2017-apr-3-5-corso-teorico-pratico-multidisciplinare-oncologia-cervico-facciale-2a-edizione-tumori-dellorofaringe/
CATEGORIES:CORSI E CONGRESSI PATROCINATI AIRO
ATTACH;FMTTYPE=:
END:VEVENT
END:VCALENDAR