BEGIN:VCALENDAR
VERSION:2.0
PRODID:-//AIRO - ECPv6.15.11//NONSGML v1.0//EN
CALSCALE:GREGORIAN
METHOD:PUBLISH
X-ORIGINAL-URL:https://radioterapiaitalia.it
X-WR-CALDESC:Eventi per AIRO
REFRESH-INTERVAL;VALUE=DURATION:PT1H
X-Robots-Tag:noindex
X-PUBLISHED-TTL:PT1H
BEGIN:VTIMEZONE
TZID:Europe/Rome
BEGIN:DAYLIGHT
TZOFFSETFROM:+0100
TZOFFSETTO:+0200
TZNAME:CEST
DTSTART:20200329T010000
END:DAYLIGHT
BEGIN:STANDARD
TZOFFSETFROM:+0200
TZOFFSETTO:+0100
TZNAME:CET
DTSTART:20201025T010000
END:STANDARD
BEGIN:DAYLIGHT
TZOFFSETFROM:+0100
TZOFFSETTO:+0200
TZNAME:CEST
DTSTART:20210328T010000
END:DAYLIGHT
BEGIN:STANDARD
TZOFFSETFROM:+0200
TZOFFSETTO:+0100
TZNAME:CET
DTSTART:20211031T010000
END:STANDARD
BEGIN:DAYLIGHT
TZOFFSETFROM:+0100
TZOFFSETTO:+0200
TZNAME:CEST
DTSTART:20220327T010000
END:DAYLIGHT
BEGIN:STANDARD
TZOFFSETFROM:+0200
TZOFFSETTO:+0100
TZNAME:CET
DTSTART:20221030T010000
END:STANDARD
BEGIN:DAYLIGHT
TZOFFSETFROM:+0100
TZOFFSETTO:+0200
TZNAME:CEST
DTSTART:20230326T010000
END:DAYLIGHT
BEGIN:STANDARD
TZOFFSETFROM:+0200
TZOFFSETTO:+0100
TZNAME:CET
DTSTART:20231029T010000
END:STANDARD
END:VTIMEZONE
BEGIN:VEVENT
DTSTART;TZID=Europe/Rome:20210901T080000
DTEND;TZID=Europe/Rome:20220930T170000
DTSTAMP:20260421T210107
CREATED:20220128T153202Z
LAST-MODIFIED:20220128T153202Z
UID:24091-1630483200-1664557200@radioterapiaitalia.it
SUMMARY:FAD Asincrona - Gestione Multidisciplinare delle Neoplasie Ginecologiche: nuovi trattamenti farmacologici e radioterapici - Settembre 2021/Settembre 2022
DESCRIPTION:Visualizza Programma
URL:https://radioterapiaitalia.it/event/fad-asincrona-gestione-multidisciplinare-delle-neoplasie-ginecologiche-nuovi-trattamenti-farmacologici-e-radioterapici-settembre-2021-settembre-2022/
CATEGORIES:CORSI E CONGRESSI PATROCINATI AIRO
ATTACH;FMTTYPE=:
END:VEVENT
BEGIN:VEVENT
DTSTART;TZID=Europe/Rome:20210901T080000
DTEND;TZID=Europe/Rome:20220930T170000
DTSTAMP:20260421T210107
CREATED:20220128T153202Z
LAST-MODIFIED:20220128T153202Z
UID:42700-1630483200-1664557200@radioterapiaitalia.it
SUMMARY:FAD Asincrona - Gestione Multidisciplinare delle Neoplasie Ginecologiche: nuovi trattamenti farmacologici e radioterapici - Settembre 2021/Settembre 2022
DESCRIPTION:Visualizza Programma
URL:https://radioterapiaitalia.it/event/fad-asincrona-gestione-multidisciplinare-delle-neoplasie-ginecologiche-nuovi-trattamenti-farmacologici-e-radioterapici-settembre-2021-settembre-2022-2/
CATEGORIES:CORSI E CONGRESSI PATROCINATI AIRO
ATTACH;FMTTYPE=:
END:VEVENT
BEGIN:VEVENT
DTSTART;TZID=Europe/Rome:20210924T153000
DTEND;TZID=Europe/Rome:20210924T173000
DTSTAMP:20260421T210107
CREATED:20210917T002939Z
LAST-MODIFIED:20210917T002939Z
UID:42679-1632497400-1632504600@radioterapiaitalia.it
SUMMARY:WEBINAR ECM – I VENERDI’ DI NEURO-ONCOLOGIA. Immunoterapia e RADIOTERAPIA nel trattamento delle metastasi da melanoma - 24 Settembre 2021
DESCRIPTION:I VENERDI’ DI NEURO-ONCOLOGIA\nIMMUNOTERAPIA E RADIOTERAPIA NEL TRATTAMENTO DELLE METASTASI DA MELANOMA\nWebinar ECM\nDescrizione del Corso:\nIl corso è gratuito per i Soci AIRO in regola con la quota associativa 2021. \nRadiotherapy is a mainstay of efficient treatment of brain metastases from solid tumors. Immunotherapy has improved the survival of metastatic cancer patients across many tumor types. However\, targeted therapy is a feasible alternative for patients unable to continue immunotherapy or with poor outcomes of immunotherapy. The combination of radiotherapy and targeted therapy for the treatment of brain metastases has a strong theoretical underpinning\, but data on the efficacy and safety of this combination is still limited. \nThe aim of this course is to explore pros and cons\, scientific data and future perspective on this issue. \nVisualizza Programma \nIscrizione al Webinar \nPer iscriversi al webinar è necessario: \n\nEffettuare la registrazione alla Piattaforma ECM (una tantum e se non già fatta per webinar precedenti). Si precisa che si tratta della registrazione alla Piattaforma ECM e non al sito AIRO\, pertanto deve essere fatta ex novo la prima volta che si desidera iscriversi ad un primo webinar.\nInviare la richiesta di iscrizione all’evento mediante il pulsante ACCEDI presente nella pagina del corso. L’iscrizione verrà approvata dopo verifica da parte della Segreteria della corretta iscrizione ad AIRO per l’anno in corso.
URL:https://radioterapiaitalia.it/event/webinar-ecm-i-venerdi-di-neuro-oncologia-immunoterapia-e-radioterapia-nel-trattamento-delle-metastasi-da-melanoma-24-settembre-2021-2/
CATEGORIES:CORSI E CONGRESSI PATROCINATI AIRO
ATTACH;FMTTYPE=:
END:VEVENT
BEGIN:VEVENT
DTSTART;TZID=Europe/Rome:20210924T153000
DTEND;TZID=Europe/Rome:20210924T173000
DTSTAMP:20260421T210107
CREATED:20210917T002939Z
LAST-MODIFIED:20210917T002939Z
UID:22670-1632497400-1632504600@radioterapiaitalia.it
SUMMARY:WEBINAR ECM – I VENERDI’ DI NEURO-ONCOLOGIA. Immunoterapia e RADIOTERAPIA nel trattamento delle metastasi da melanoma - 24 Settembre 2021
DESCRIPTION:I VENERDI’ DI NEURO-ONCOLOGIA\nIMMUNOTERAPIA E RADIOTERAPIA NEL TRATTAMENTO DELLE METASTASI DA MELANOMA\nWebinar ECM\nDescrizione del Corso:\nIl corso è gratuito per i Soci AIRO in regola con la quota associativa 2021. \nRadiotherapy is a mainstay of efficient treatment of brain metastases from solid tumors. Immunotherapy has improved the survival of metastatic cancer patients across many tumor types. However\, targeted therapy is a feasible alternative for patients unable to continue immunotherapy or with poor outcomes of immunotherapy. The combination of radiotherapy and targeted therapy for the treatment of brain metastases has a strong theoretical underpinning\, but data on the efficacy and safety of this combination is still limited. \nThe aim of this course is to explore pros and cons\, scientific data and future perspective on this issue. \nVisualizza Programma \nIscrizione al Webinar \nPer iscriversi al webinar è necessario: \n\nEffettuare la registrazione alla Piattaforma ECM (una tantum e se non già fatta per webinar precedenti). Si precisa che si tratta della registrazione alla Piattaforma ECM e non al sito AIRO\, pertanto deve essere fatta ex novo la prima volta che si desidera iscriversi ad un primo webinar.\nInviare la richiesta di iscrizione all’evento mediante il pulsante ACCEDI presente nella pagina del corso. L’iscrizione verrà approvata dopo verifica da parte della Segreteria della corretta iscrizione ad AIRO per l’anno in corso.
URL:https://radioterapiaitalia.it/event/webinar-ecm-i-venerdi-di-neuro-oncologia-immunoterapia-e-radioterapia-nel-trattamento-delle-metastasi-da-melanoma-24-settembre-2021/
CATEGORIES:CORSI E CONGRESSI PATROCINATI AIRO
ATTACH;FMTTYPE=:
END:VEVENT
BEGIN:VEVENT
DTSTART;TZID=Europe/Rome:20210924T153000
DTEND;TZID=Europe/Rome:20210924T183000
DTSTAMP:20260421T210107
CREATED:20210907T112457Z
LAST-MODIFIED:20210907T112457Z
UID:42675-1632497400-1632508200@radioterapiaitalia.it
SUMMARY:FAD Sincrona - Tumore tiroideo in stadio avanzato nell’era della medicina di precisione - 24 Settembre 2021
DESCRIPTION:Visualizza Programma
URL:https://radioterapiaitalia.it/event/fad-sincrona-tumore-tiroideo-in-stadio-avanzato-nellera-della-medicina-di-precisione-24-settembre-2021-2/
CATEGORIES:CORSI E CONGRESSI PATROCINATI AIRO
ATTACH;FMTTYPE=:
END:VEVENT
BEGIN:VEVENT
DTSTART;TZID=Europe/Rome:20210924T153000
DTEND;TZID=Europe/Rome:20210924T183000
DTSTAMP:20260421T210107
CREATED:20210907T112457Z
LAST-MODIFIED:20210907T112457Z
UID:22584-1632497400-1632508200@radioterapiaitalia.it
SUMMARY:FAD Sincrona - Tumore tiroideo in stadio avanzato nell’era della medicina di precisione - 24 Settembre 2021
DESCRIPTION:Visualizza Programma
URL:https://radioterapiaitalia.it/event/fad-sincrona-tumore-tiroideo-in-stadio-avanzato-nellera-della-medicina-di-precisione-24-settembre-2021/
CATEGORIES:CORSI E CONGRESSI PATROCINATI AIRO
ATTACH;FMTTYPE=:
END:VEVENT
END:VCALENDAR