BEGIN:VCALENDAR
VERSION:2.0
PRODID:-//AIRO - ECPv6.15.11//NONSGML v1.0//EN
CALSCALE:GREGORIAN
METHOD:PUBLISH
X-WR-CALNAME:AIRO
X-ORIGINAL-URL:https://radioterapiaitalia.it
X-WR-CALDESC:Eventi per AIRO
REFRESH-INTERVAL;VALUE=DURATION:PT1H
X-Robots-Tag:noindex
X-PUBLISHED-TTL:PT1H
BEGIN:VTIMEZONE
TZID:Europe/Rome
BEGIN:DAYLIGHT
TZOFFSETFROM:+0100
TZOFFSETTO:+0200
TZNAME:CEST
DTSTART:20200329T010000
END:DAYLIGHT
BEGIN:STANDARD
TZOFFSETFROM:+0200
TZOFFSETTO:+0100
TZNAME:CET
DTSTART:20201025T010000
END:STANDARD
BEGIN:DAYLIGHT
TZOFFSETFROM:+0100
TZOFFSETTO:+0200
TZNAME:CEST
DTSTART:20210328T010000
END:DAYLIGHT
BEGIN:STANDARD
TZOFFSETFROM:+0200
TZOFFSETTO:+0100
TZNAME:CET
DTSTART:20211031T010000
END:STANDARD
BEGIN:DAYLIGHT
TZOFFSETFROM:+0100
TZOFFSETTO:+0200
TZNAME:CEST
DTSTART:20220327T010000
END:DAYLIGHT
BEGIN:STANDARD
TZOFFSETFROM:+0200
TZOFFSETTO:+0100
TZNAME:CET
DTSTART:20221030T010000
END:STANDARD
BEGIN:DAYLIGHT
TZOFFSETFROM:+0100
TZOFFSETTO:+0200
TZNAME:CEST
DTSTART:20230326T010000
END:DAYLIGHT
BEGIN:STANDARD
TZOFFSETFROM:+0200
TZOFFSETTO:+0100
TZNAME:CET
DTSTART:20231029T010000
END:STANDARD
END:VTIMEZONE
BEGIN:VEVENT
DTSTART;TZID=Europe/Rome:20210901T080000
DTEND;TZID=Europe/Rome:20220930T170000
DTSTAMP:20260422T004944
CREATED:20220128T153202Z
LAST-MODIFIED:20220128T153202Z
UID:24091-1630483200-1664557200@radioterapiaitalia.it
SUMMARY:FAD Asincrona - Gestione Multidisciplinare delle Neoplasie Ginecologiche: nuovi trattamenti farmacologici e radioterapici - Settembre 2021/Settembre 2022
DESCRIPTION:Visualizza Programma
URL:https://radioterapiaitalia.it/event/fad-asincrona-gestione-multidisciplinare-delle-neoplasie-ginecologiche-nuovi-trattamenti-farmacologici-e-radioterapici-settembre-2021-settembre-2022/
CATEGORIES:CORSI E CONGRESSI PATROCINATI AIRO
ATTACH;FMTTYPE=:
END:VEVENT
BEGIN:VEVENT
DTSTART;TZID=Europe/Rome:20210901T080000
DTEND;TZID=Europe/Rome:20220930T170000
DTSTAMP:20260422T004944
CREATED:20220128T153202Z
LAST-MODIFIED:20220128T153202Z
UID:42700-1630483200-1664557200@radioterapiaitalia.it
SUMMARY:FAD Asincrona - Gestione Multidisciplinare delle Neoplasie Ginecologiche: nuovi trattamenti farmacologici e radioterapici - Settembre 2021/Settembre 2022
DESCRIPTION:Visualizza Programma
URL:https://radioterapiaitalia.it/event/fad-asincrona-gestione-multidisciplinare-delle-neoplasie-ginecologiche-nuovi-trattamenti-farmacologici-e-radioterapici-settembre-2021-settembre-2022-2/
CATEGORIES:CORSI E CONGRESSI PATROCINATI AIRO
ATTACH;FMTTYPE=:
END:VEVENT
BEGIN:VEVENT
DTSTART;TZID=Europe/Rome:20210908T083000
DTEND;TZID=Europe/Rome:20210910T170000
DTSTAMP:20260422T004944
CREATED:20210409T143454Z
LAST-MODIFIED:20210409T143454Z
UID:42654-1631089800-1631293200@radioterapiaitalia.it
SUMMARY:RADIOMICS TOOLBOX:  WORKFLOW & QUALITY MANAGEMENT  - Pavia - 8-9-10 Settembre 2021
DESCRIPTION:Visualizza Programma
URL:https://radioterapiaitalia.it/event/radiomics-toolbox-workflow-quality-management-pavia-8-9-10-settembre-2021-2/
CATEGORIES:CORSI E CONGRESSI PATROCINATI AIRO
ATTACH;FMTTYPE=:
END:VEVENT
BEGIN:VEVENT
DTSTART;TZID=Europe/Rome:20210908T083000
DTEND;TZID=Europe/Rome:20210910T170000
DTSTAMP:20260422T004944
CREATED:20210409T143454Z
LAST-MODIFIED:20210409T143454Z
UID:21943-1631089800-1631293200@radioterapiaitalia.it
SUMMARY:RADIOMICS TOOLBOX:  WORKFLOW & QUALITY MANAGEMENT  - Pavia - 8-9-10 Settembre 2021
DESCRIPTION:Visualizza Programma
URL:https://radioterapiaitalia.it/event/radiomics-toolbox-workflow-quality-management-pavia-8-9-10-settembre-2021/
CATEGORIES:CORSI E CONGRESSI PATROCINATI AIRO
ATTACH;FMTTYPE=:
END:VEVENT
BEGIN:VEVENT
DTSTART;TZID=Europe/Rome:20210910T083000
DTEND;TZID=Europe/Rome:20210910T180000
DTSTAMP:20260422T004944
CREATED:20210729T135446Z
LAST-MODIFIED:20210729T135446Z
UID:42672-1631262600-1631296800@radioterapiaitalia.it
SUMMARY:Improvement Tecnologico in Radioterapia nella Gestione Multidisciplinare del Paziente Oncologico - Ancona 10 Settembre 2021
DESCRIPTION:Visualizza Programma \nLink per Iscrizioni
URL:https://radioterapiaitalia.it/event/improvement-tecnologico-in-radioterapia-nella-gestione-multidisciplinare-del-paziente-oncologico-ancona-10-settembre-2021-2/
CATEGORIES:CORSI E CONGRESSI PATROCINATI AIRO
ATTACH;FMTTYPE=:
END:VEVENT
BEGIN:VEVENT
DTSTART;TZID=Europe/Rome:20210910T083000
DTEND;TZID=Europe/Rome:20210910T180000
DTSTAMP:20260422T004944
CREATED:20210729T135446Z
LAST-MODIFIED:20210729T135446Z
UID:22513-1631262600-1631296800@radioterapiaitalia.it
SUMMARY:Improvement Tecnologico in Radioterapia nella Gestione Multidisciplinare del Paziente Oncologico - Ancona 10 Settembre 2021
DESCRIPTION:Visualizza Programma \nLink per Iscrizioni
URL:https://radioterapiaitalia.it/event/improvement-tecnologico-in-radioterapia-nella-gestione-multidisciplinare-del-paziente-oncologico-ancona-10-settembre-2021/
CATEGORIES:CORSI E CONGRESSI PATROCINATI AIRO
ATTACH;FMTTYPE=:
END:VEVENT
BEGIN:VEVENT
DTSTART;TZID=Europe/Rome:20210910T153000
DTEND;TZID=Europe/Rome:20210910T173000
DTSTAMP:20260422T004944
CREATED:20210810T102856Z
LAST-MODIFIED:20210810T102856Z
UID:42673-1631287800-1631295000@radioterapiaitalia.it
SUMMARY:WEBINAR ECM – I VENERDI’ DI NEURO-ONCOLOGIA. PROBLEMATICHE CLINICHE NEL 2021 – RADIONECROSI: DIAGNOSI E TERAPIA – 10 SETTEMBRE 2021
DESCRIPTION:I VENERDI’ DI NEURO-ONCOLOGIA\nPROBLEMATICHE CLINICHE NEL 2021 – RADIONECROSI: DIAGNOSI E TERAPIA\nWebinar ECM\nDescrizione del Corso:\nIl corso è gratuito per i Soci AIRO in regola con la quota associativa 2021. \nNowadays most neuro-oncological patients are treated with a combination of systemic therapies and radiotherapy\, frequently with radiosurgery (SRS). One of the shortcomings of SRS is an increased risk of radionecrosis (RN) in up to 24% patients. The mean time to RN onset is 6 months and can lead to significant mass effect and neurological dysfunction with up to 50% of patients becoming symptomatic. RN is diagnosed definitively by pathological confirmation on biopsy/resection or by inference from clinical confirmation and radiographical findings over serial imaging. Moreover\, misdiagnosing tumour recurrence as RN can lead to significant delay in treatment with detrimental effect to patients. Therefore\, the diagnosis of RN versus local failure is crucial as there is an impact upon quality of life. However\, most RN diagnoses rely on imaging\, with poor sensitivity and specificity rates ranging between 44–97% and 19–75%\, respectively. Hence\, both accurate diagnosis and treatment can change patient’s quality of life and prognosis. \nVisualizza Programma \nIscrizione al Webinar \nPer iscriversi al webinar è necessario: \n\nEffettuare la registrazione alla Piattaforma ECM (una tantum e se non già fatta per webinar precedenti). Si precisa che si tratta della registrazione alla Piattaforma ECM e non al sito AIRO\, pertanto deve essere fatta ex novo la prima volta che si desidera iscriversi ad un primo webinar.\nInviare la richiesta di iscrizione all’evento mediante il pulsante ACCEDI presente nella pagina del corso. L’iscrizione verrà approvata dopo verifica da parte della Segreteria della corretta iscrizione ad AIRO per l’anno in corso.
URL:https://radioterapiaitalia.it/event/webinar-ecm-i-venerdi-di-neuro-oncologia-problematiche-cliniche-nel-2021-radionecrosi-diagnosi-e-terapia-10-settembre-2021-2/
CATEGORIES:CORSI E CONGRESSI PATROCINATI AIRO
ATTACH;FMTTYPE=:
END:VEVENT
BEGIN:VEVENT
DTSTART;TZID=Europe/Rome:20210910T153000
DTEND;TZID=Europe/Rome:20210910T173000
DTSTAMP:20260422T004944
CREATED:20210810T102856Z
LAST-MODIFIED:20210810T102856Z
UID:22542-1631287800-1631295000@radioterapiaitalia.it
SUMMARY:WEBINAR ECM – I VENERDI’ DI NEURO-ONCOLOGIA. PROBLEMATICHE CLINICHE NEL 2021 – RADIONECROSI: DIAGNOSI E TERAPIA – 10 SETTEMBRE 2021
DESCRIPTION:I VENERDI’ DI NEURO-ONCOLOGIA\nPROBLEMATICHE CLINICHE NEL 2021 – RADIONECROSI: DIAGNOSI E TERAPIA\nWebinar ECM\nDescrizione del Corso:\nIl corso è gratuito per i Soci AIRO in regola con la quota associativa 2021. \nNowadays most neuro-oncological patients are treated with a combination of systemic therapies and radiotherapy\, frequently with radiosurgery (SRS). One of the shortcomings of SRS is an increased risk of radionecrosis (RN) in up to 24% patients. The mean time to RN onset is 6 months and can lead to significant mass effect and neurological dysfunction with up to 50% of patients becoming symptomatic. RN is diagnosed definitively by pathological confirmation on biopsy/resection or by inference from clinical confirmation and radiographical findings over serial imaging. Moreover\, misdiagnosing tumour recurrence as RN can lead to significant delay in treatment with detrimental effect to patients. Therefore\, the diagnosis of RN versus local failure is crucial as there is an impact upon quality of life. However\, most RN diagnoses rely on imaging\, with poor sensitivity and specificity rates ranging between 44–97% and 19–75%\, respectively. Hence\, both accurate diagnosis and treatment can change patient’s quality of life and prognosis. \nVisualizza Programma \nIscrizione al Webinar \nPer iscriversi al webinar è necessario: \n\nEffettuare la registrazione alla Piattaforma ECM (una tantum e se non già fatta per webinar precedenti). Si precisa che si tratta della registrazione alla Piattaforma ECM e non al sito AIRO\, pertanto deve essere fatta ex novo la prima volta che si desidera iscriversi ad un primo webinar.\nInviare la richiesta di iscrizione all’evento mediante il pulsante ACCEDI presente nella pagina del corso. L’iscrizione verrà approvata dopo verifica da parte della Segreteria della corretta iscrizione ad AIRO per l’anno in corso.
URL:https://radioterapiaitalia.it/event/webinar-ecm-i-venerdi-di-neuro-oncologia-problematiche-cliniche-nel-2021-radionecrosi-diagnosi-e-terapia-10-settembre-2021/
CATEGORIES:CORSI E CONGRESSI PATROCINATI AIRO
ATTACH;FMTTYPE=:
END:VEVENT
END:VCALENDAR