BEGIN:VCALENDAR
VERSION:2.0
PRODID:-//AIRO - ECPv6.15.11//NONSGML v1.0//EN
CALSCALE:GREGORIAN
METHOD:PUBLISH
X-WR-CALNAME:AIRO
X-ORIGINAL-URL:https://radioterapiaitalia.it
X-WR-CALDESC:Eventi per AIRO
REFRESH-INTERVAL;VALUE=DURATION:PT1H
X-Robots-Tag:noindex
X-PUBLISHED-TTL:PT1H
BEGIN:VTIMEZONE
TZID:Europe/Rome
BEGIN:DAYLIGHT
TZOFFSETFROM:+0100
TZOFFSETTO:+0200
TZNAME:CEST
DTSTART:20200329T010000
END:DAYLIGHT
BEGIN:STANDARD
TZOFFSETFROM:+0200
TZOFFSETTO:+0100
TZNAME:CET
DTSTART:20201025T010000
END:STANDARD
BEGIN:DAYLIGHT
TZOFFSETFROM:+0100
TZOFFSETTO:+0200
TZNAME:CEST
DTSTART:20210328T010000
END:DAYLIGHT
BEGIN:STANDARD
TZOFFSETFROM:+0200
TZOFFSETTO:+0100
TZNAME:CET
DTSTART:20211031T010000
END:STANDARD
BEGIN:DAYLIGHT
TZOFFSETFROM:+0100
TZOFFSETTO:+0200
TZNAME:CEST
DTSTART:20220327T010000
END:DAYLIGHT
BEGIN:STANDARD
TZOFFSETFROM:+0200
TZOFFSETTO:+0100
TZNAME:CET
DTSTART:20221030T010000
END:STANDARD
END:VTIMEZONE
BEGIN:VEVENT
DTSTART;TZID=Europe/Rome:20210225T145500
DTEND;TZID=Europe/Rome:20210225T190000
DTSTAMP:20260422T215223
CREATED:20210128T172506Z
LAST-MODIFIED:20210128T172506Z
UID:21461-1614264900-1614279600@radioterapiaitalia.it
SUMMARY:Congresso Virtuale Highlights in Radioterapia Settima Edizione - 25 Febbraio 2021
DESCRIPTION:Update degli Studi Practice Changing 2020\nQuali novità da Congressi Internazionali 2020 \nVisualizza Programma
URL:https://radioterapiaitalia.it/event/congresso-virtuale-highlights-in-radioterapia-settima-edizione-25-febbraio-2021/
CATEGORIES:CORSI E CONGRESSI PATROCINATI AIRO
ATTACH;FMTTYPE=:
END:VEVENT
BEGIN:VEVENT
DTSTART;TZID=Europe/Rome:20210225T145500
DTEND;TZID=Europe/Rome:20210225T190000
DTSTAMP:20260422T215223
CREATED:20210128T172506Z
LAST-MODIFIED:20210128T172506Z
UID:42646-1614264900-1614279600@radioterapiaitalia.it
SUMMARY:Congresso Virtuale Highlights in Radioterapia Settima Edizione - 25 Febbraio 2021
DESCRIPTION:Update degli Studi Practice Changing 2020\nQuali novità da Congressi Internazionali 2020 \nVisualizza Programma
URL:https://radioterapiaitalia.it/event/congresso-virtuale-highlights-in-radioterapia-settima-edizione-25-febbraio-2021-2/
CATEGORIES:CORSI E CONGRESSI PATROCINATI AIRO
ATTACH;FMTTYPE=:
END:VEVENT
END:VCALENDAR