BEGIN:VCALENDAR
VERSION:2.0
PRODID:-//AIRO - ECPv6.15.11//NONSGML v1.0//EN
CALSCALE:GREGORIAN
METHOD:PUBLISH
X-ORIGINAL-URL:https://radioterapiaitalia.it
X-WR-CALDESC:Eventi per AIRO
REFRESH-INTERVAL;VALUE=DURATION:PT1H
X-Robots-Tag:noindex
X-PUBLISHED-TTL:PT1H
BEGIN:VTIMEZONE
TZID:Europe/Rome
BEGIN:DAYLIGHT
TZOFFSETFROM:+0100
TZOFFSETTO:+0200
TZNAME:CEST
DTSTART:20190331T010000
END:DAYLIGHT
BEGIN:STANDARD
TZOFFSETFROM:+0200
TZOFFSETTO:+0100
TZNAME:CET
DTSTART:20191027T010000
END:STANDARD
BEGIN:DAYLIGHT
TZOFFSETFROM:+0100
TZOFFSETTO:+0200
TZNAME:CEST
DTSTART:20200329T010000
END:DAYLIGHT
BEGIN:STANDARD
TZOFFSETFROM:+0200
TZOFFSETTO:+0100
TZNAME:CET
DTSTART:20201025T010000
END:STANDARD
BEGIN:DAYLIGHT
TZOFFSETFROM:+0100
TZOFFSETTO:+0200
TZNAME:CEST
DTSTART:20210328T010000
END:DAYLIGHT
BEGIN:STANDARD
TZOFFSETFROM:+0200
TZOFFSETTO:+0100
TZNAME:CET
DTSTART:20211031T010000
END:STANDARD
END:VTIMEZONE
BEGIN:VEVENT
DTSTART;TZID=Europe/Rome:20201120T090000
DTEND;TZID=Europe/Rome:20201120T143000
DTSTAMP:20260423T023919
CREATED:20200928T110810Z
LAST-MODIFIED:20200928T110810Z
UID:20283-1605862800-1605882600@radioterapiaitalia.it
SUMMARY:Convegno AIRO TRIVENETO         "I.R. ON.M.A.N. 2020" - Virtual Meeting - 20 Novembre 2020
DESCRIPTION:Visualizza Programma \nPer info ed iscrizioni: http://www.events-communication.com/event/ironman-2020/ \nVideo di presentazione dell’evento del Dott. Renzo Mazzarotto – Coordinatore del Gruppo Regionale AIRO Triveneto:  https://www.youtube.com/watch?v=CwCsHFXLsII&t=9s
URL:https://radioterapiaitalia.it/event/convegno-airo-triveneto-i-r-on-m-a-n-2020-20-novembre-2020/
CATEGORIES:CORSI E CONGRESSI AIRO,CORSI E CONGRESSI PATROCINATI AIRO
ATTACH;FMTTYPE=:
END:VEVENT
BEGIN:VEVENT
DTSTART;TZID=Europe/Rome:20201120T090000
DTEND;TZID=Europe/Rome:20201120T143000
DTSTAMP:20260423T023919
CREATED:20200928T110810Z
LAST-MODIFIED:20200928T110810Z
UID:42629-1605862800-1605882600@radioterapiaitalia.it
SUMMARY:Convegno AIRO TRIVENETO         "I.R. ON.M.A.N. 2020" - Virtual Meeting - 20 Novembre 2020
DESCRIPTION:Visualizza Programma \nPer info ed iscrizioni: http://www.events-communication.com/event/ironman-2020/ \nVideo di presentazione dell’evento del Dott. Renzo Mazzarotto – Coordinatore del Gruppo Regionale AIRO Triveneto:  https://www.youtube.com/watch?v=CwCsHFXLsII&t=9s
URL:https://radioterapiaitalia.it/event/convegno-airo-triveneto-i-r-on-m-a-n-2020-20-novembre-2020-2/
CATEGORIES:CORSI E CONGRESSI AIRO,CORSI E CONGRESSI PATROCINATI AIRO
ATTACH;FMTTYPE=:
END:VEVENT
END:VCALENDAR