BEGIN:VCALENDAR
VERSION:2.0
PRODID:-//AIRO - ECPv6.15.11//NONSGML v1.0//EN
CALSCALE:GREGORIAN
METHOD:PUBLISH
X-ORIGINAL-URL:https://radioterapiaitalia.it
X-WR-CALDESC:Eventi per AIRO
REFRESH-INTERVAL;VALUE=DURATION:PT1H
X-Robots-Tag:noindex
X-PUBLISHED-TTL:PT1H
BEGIN:VTIMEZONE
TZID:Europe/Rome
BEGIN:DAYLIGHT
TZOFFSETFROM:+0100
TZOFFSETTO:+0200
TZNAME:CEST
DTSTART:20180325T010000
END:DAYLIGHT
BEGIN:STANDARD
TZOFFSETFROM:+0200
TZOFFSETTO:+0100
TZNAME:CET
DTSTART:20181028T010000
END:STANDARD
BEGIN:DAYLIGHT
TZOFFSETFROM:+0100
TZOFFSETTO:+0200
TZNAME:CEST
DTSTART:20190331T010000
END:DAYLIGHT
BEGIN:STANDARD
TZOFFSETFROM:+0200
TZOFFSETTO:+0100
TZNAME:CET
DTSTART:20191027T010000
END:STANDARD
BEGIN:DAYLIGHT
TZOFFSETFROM:+0100
TZOFFSETTO:+0200
TZNAME:CEST
DTSTART:20200329T010000
END:DAYLIGHT
BEGIN:STANDARD
TZOFFSETFROM:+0200
TZOFFSETTO:+0100
TZNAME:CET
DTSTART:20201025T010000
END:STANDARD
END:VTIMEZONE
BEGIN:VEVENT
DTSTART;TZID=Europe/Rome:20191210T094500
DTEND;TZID=Europe/Rome:20191210T170000
DTSTAMP:20260424T001536
CREATED:20191118T171318Z
LAST-MODIFIED:20191118T171318Z
UID:18646-1575971100-1575997200@radioterapiaitalia.it
SUMMARY:INTEGRATE 2.0… ON THE ROAD STRATEGIE TERAPEUTICHE NEL TRATTAMENTO DEL NSCLC IN STADIO III NON RESECABILE – MODENA 10 DICEMBRE 2019 – ANCORA ALCUNI POSTI DISPONIBILI
DESCRIPTION:Visualizza Programma \nAlcuni posti ancora disponibili
URL:https://radioterapiaitalia.it/event/integrate-2-0-on-the-road-strategie-terapeutiche-nel-trattamento-del-nsclc-in-stadio-iii-non-resecabile-modena-10-dicembre-2019-ancora-alcuni-posti-disponibili/
CATEGORIES:CORSI E CONGRESSI PATROCINATI AIRO
ATTACH;FMTTYPE=:
END:VEVENT
BEGIN:VEVENT
DTSTART;TZID=Europe/Rome:20191210T094500
DTEND;TZID=Europe/Rome:20191210T170000
DTSTAMP:20260424T001536
CREATED:20191118T171318Z
LAST-MODIFIED:20191118T171318Z
UID:42613-1575971100-1575997200@radioterapiaitalia.it
SUMMARY:INTEGRATE 2.0… ON THE ROAD STRATEGIE TERAPEUTICHE NEL TRATTAMENTO DEL NSCLC IN STADIO III NON RESECABILE – MODENA 10 DICEMBRE 2019 – ANCORA ALCUNI POSTI DISPONIBILI
DESCRIPTION:Visualizza Programma \nAlcuni posti ancora disponibili
URL:https://radioterapiaitalia.it/event/integrate-2-0-on-the-road-strategie-terapeutiche-nel-trattamento-del-nsclc-in-stadio-iii-non-resecabile-modena-10-dicembre-2019-ancora-alcuni-posti-disponibili-2/
CATEGORIES:CORSI E CONGRESSI PATROCINATI AIRO
ATTACH;FMTTYPE=:
END:VEVENT
END:VCALENDAR