BEGIN:VCALENDAR
VERSION:2.0
PRODID:-//AIRO - ECPv6.15.11//NONSGML v1.0//EN
CALSCALE:GREGORIAN
METHOD:PUBLISH
X-WR-CALNAME:AIRO
X-ORIGINAL-URL:https://radioterapiaitalia.it
X-WR-CALDESC:Eventi per AIRO
REFRESH-INTERVAL;VALUE=DURATION:PT1H
X-Robots-Tag:noindex
X-PUBLISHED-TTL:PT1H
BEGIN:VTIMEZONE
TZID:Europe/Rome
BEGIN:DAYLIGHT
TZOFFSETFROM:+0100
TZOFFSETTO:+0200
TZNAME:CEST
DTSTART:20180325T010000
END:DAYLIGHT
BEGIN:STANDARD
TZOFFSETFROM:+0200
TZOFFSETTO:+0100
TZNAME:CET
DTSTART:20181028T010000
END:STANDARD
BEGIN:DAYLIGHT
TZOFFSETFROM:+0100
TZOFFSETTO:+0200
TZNAME:CEST
DTSTART:20190331T010000
END:DAYLIGHT
BEGIN:STANDARD
TZOFFSETFROM:+0200
TZOFFSETTO:+0100
TZNAME:CET
DTSTART:20191027T010000
END:STANDARD
BEGIN:DAYLIGHT
TZOFFSETFROM:+0100
TZOFFSETTO:+0200
TZNAME:CEST
DTSTART:20200329T010000
END:DAYLIGHT
BEGIN:STANDARD
TZOFFSETFROM:+0200
TZOFFSETTO:+0100
TZNAME:CET
DTSTART:20201025T010000
END:STANDARD
END:VTIMEZONE
BEGIN:VEVENT
DTSTART;TZID=Europe/Rome:20191201T140000
DTEND;TZID=Europe/Rome:20191203T130000
DTSTAMP:20260424T001309
CREATED:20191125T114302Z
LAST-MODIFIED:20191125T114302Z
UID:18664-1575208800-1575378000@radioterapiaitalia.it
SUMMARY:INTERDISCIPLINARY TEACHING COURSE ON HEAD & NECK BRACHYTHERAPY - Roma - 1-3 Dicembre 2019
DESCRIPTION:Visualizza Programma
URL:https://radioterapiaitalia.it/event/interdisciplinary-teaching-course-on-head-neck-brachytherapy-roma-1-3-dicembre-2019/
CATEGORIES:CORSI E CONGRESSI PATROCINATI AIRO
ATTACH;FMTTYPE=:
END:VEVENT
BEGIN:VEVENT
DTSTART;TZID=Europe/Rome:20191201T140000
DTEND;TZID=Europe/Rome:20191203T130000
DTSTAMP:20260424T001309
CREATED:20191125T114302Z
LAST-MODIFIED:20191125T114302Z
UID:42615-1575208800-1575378000@radioterapiaitalia.it
SUMMARY:INTERDISCIPLINARY TEACHING COURSE ON HEAD & NECK BRACHYTHERAPY - Roma - 1-3 Dicembre 2019
DESCRIPTION:Visualizza Programma
URL:https://radioterapiaitalia.it/event/interdisciplinary-teaching-course-on-head-neck-brachytherapy-roma-1-3-dicembre-2019-2/
CATEGORIES:CORSI E CONGRESSI PATROCINATI AIRO
ATTACH;FMTTYPE=:
END:VEVENT
END:VCALENDAR