BEGIN:VCALENDAR
VERSION:2.0
PRODID:-//AIRO - ECPv6.15.11//NONSGML v1.0//EN
CALSCALE:GREGORIAN
METHOD:PUBLISH
X-ORIGINAL-URL:https://radioterapiaitalia.it
X-WR-CALDESC:Eventi per AIRO
REFRESH-INTERVAL;VALUE=DURATION:PT1H
X-Robots-Tag:noindex
X-PUBLISHED-TTL:PT1H
BEGIN:VTIMEZONE
TZID:Europe/Rome
BEGIN:DAYLIGHT
TZOFFSETFROM:+0100
TZOFFSETTO:+0200
TZNAME:CEST
DTSTART:20180325T010000
END:DAYLIGHT
BEGIN:STANDARD
TZOFFSETFROM:+0200
TZOFFSETTO:+0100
TZNAME:CET
DTSTART:20181028T010000
END:STANDARD
BEGIN:DAYLIGHT
TZOFFSETFROM:+0100
TZOFFSETTO:+0200
TZNAME:CEST
DTSTART:20190331T010000
END:DAYLIGHT
BEGIN:STANDARD
TZOFFSETFROM:+0200
TZOFFSETTO:+0100
TZNAME:CET
DTSTART:20191027T010000
END:STANDARD
BEGIN:DAYLIGHT
TZOFFSETFROM:+0100
TZOFFSETTO:+0200
TZNAME:CEST
DTSTART:20200329T010000
END:DAYLIGHT
BEGIN:STANDARD
TZOFFSETFROM:+0200
TZOFFSETTO:+0100
TZNAME:CET
DTSTART:20201025T010000
END:STANDARD
END:VTIMEZONE
BEGIN:VEVENT
DTSTART;VALUE=DATE:20190405
DTEND;VALUE=DATE:20190406
DTSTAMP:20260424T230544
CREATED:20190220T235332Z
LAST-MODIFIED:20190220T235332Z
UID:17218-1554422400-1554508799@radioterapiaitalia.it
SUMMARY:Secondo incontro nazionale sul trattamento del paziente anziano affetto da carcinoma della prostata - Aviano (PN) 5 aprile
DESCRIPTION:programma \nScheda di iscrizione
URL:https://radioterapiaitalia.it/event/secondo-incontro-nazionale-sul-trattamento-del-paziente-anziano-affetto-da-carcinoma-della-prostata-aviano-pn-5-aprile/
CATEGORIES:CORSI E CONGRESSI PATROCINATI AIRO
ATTACH;FMTTYPE=:
END:VEVENT
BEGIN:VEVENT
DTSTART;TZID=Europe/Rome:20190405T000000
DTEND;TZID=Europe/Rome:20190405T235959
DTSTAMP:20260424T230544
CREATED:20190220T235332Z
LAST-MODIFIED:20190220T235332Z
UID:42580-1554422400-1554508799@radioterapiaitalia.it
SUMMARY:Secondo incontro nazionale sul trattamento del paziente anziano affetto da carcinoma della prostata - Aviano (PN) 5 aprile
DESCRIPTION:programma \nScheda di iscrizione
URL:https://radioterapiaitalia.it/event/secondo-incontro-nazionale-sul-trattamento-del-paziente-anziano-affetto-da-carcinoma-della-prostata-aviano-pn-5-aprile-2/
CATEGORIES:CORSI E CONGRESSI PATROCINATI AIRO
ATTACH;FMTTYPE=:
END:VEVENT
END:VCALENDAR