BEGIN:VCALENDAR
VERSION:2.0
PRODID:-//AIRO - ECPv6.15.11//NONSGML v1.0//EN
CALSCALE:GREGORIAN
METHOD:PUBLISH
X-ORIGINAL-URL:https://radioterapiaitalia.it
X-WR-CALDESC:Eventi per AIRO
REFRESH-INTERVAL;VALUE=DURATION:PT1H
X-Robots-Tag:noindex
X-PUBLISHED-TTL:PT1H
BEGIN:VTIMEZONE
TZID:Europe/Rome
BEGIN:DAYLIGHT
TZOFFSETFROM:+0100
TZOFFSETTO:+0200
TZNAME:CEST
DTSTART:20180325T010000
END:DAYLIGHT
BEGIN:STANDARD
TZOFFSETFROM:+0200
TZOFFSETTO:+0100
TZNAME:CET
DTSTART:20181028T010000
END:STANDARD
BEGIN:DAYLIGHT
TZOFFSETFROM:+0100
TZOFFSETTO:+0200
TZNAME:CEST
DTSTART:20190331T010000
END:DAYLIGHT
BEGIN:STANDARD
TZOFFSETFROM:+0200
TZOFFSETTO:+0100
TZNAME:CET
DTSTART:20191027T010000
END:STANDARD
BEGIN:DAYLIGHT
TZOFFSETFROM:+0100
TZOFFSETTO:+0200
TZNAME:CEST
DTSTART:20200329T010000
END:DAYLIGHT
BEGIN:STANDARD
TZOFFSETFROM:+0200
TZOFFSETTO:+0100
TZNAME:CET
DTSTART:20201025T010000
END:STANDARD
END:VTIMEZONE
BEGIN:VEVENT
DTSTART;TZID=Europe/Rome:20190329T080000
DTEND;TZID=Europe/Rome:20190330T170000
DTSTAMP:20260424T223926
CREATED:20190322T124427Z
LAST-MODIFIED:20190322T124427Z
UID:17440-1553846400-1553965200@radioterapiaitalia.it
SUMMARY:La Radioterapia Oncologica: quando la radiazione diventa "amica" - I Convegno Nazionale Ettore Castronovo - 29-30 Marzo 2019 - Messina
DESCRIPTION:Programma \nIscrizione
URL:https://radioterapiaitalia.it/event/la-radioterapia-oncologica-quando-la-radiazione-diventa-amica-i-convegno-nazionale-ettore-castronovo/
CATEGORIES:CORSI E CONGRESSI PATROCINATI AIRO
ATTACH;FMTTYPE=:
END:VEVENT
BEGIN:VEVENT
DTSTART;TZID=Europe/Rome:20190329T080000
DTEND;TZID=Europe/Rome:20190330T170000
DTSTAMP:20260424T223926
CREATED:20190322T124427Z
LAST-MODIFIED:20190322T124427Z
UID:42587-1553846400-1553965200@radioterapiaitalia.it
SUMMARY:La Radioterapia Oncologica: quando la radiazione diventa "amica" - I Convegno Nazionale Ettore Castronovo - 29-30 Marzo 2019 - Messina
DESCRIPTION:Programma \nIscrizione
URL:https://radioterapiaitalia.it/event/la-radioterapia-oncologica-quando-la-radiazione-diventa-amica-i-convegno-nazionale-ettore-castronovo-2/
CATEGORIES:CORSI E CONGRESSI PATROCINATI AIRO
ATTACH;FMTTYPE=:
END:VEVENT
BEGIN:VEVENT
DTSTART;TZID=Europe/Rome:20190329T130000
DTEND;TZID=Europe/Rome:20190330T150000
DTSTAMP:20260424T223926
CREATED:20190314T152830Z
LAST-MODIFIED:20190314T152830Z
UID:17400-1553864400-1553958000@radioterapiaitalia.it
SUMMARY:URO ONCOLOGIA 2019: STATO dell'ARTE dei TRATTAMENTI SISTEMICI - Padova 29-30 Marzo 2019
DESCRIPTION:Scarica Programma
URL:https://radioterapiaitalia.it/event/uro-oncologia-2019-stato-dellarte-dei-trattamenti-sistemici-padova-29-30-marzo-2019/
CATEGORIES:CORSI E CONGRESSI PATROCINATI AIRO
ATTACH;FMTTYPE=:
END:VEVENT
BEGIN:VEVENT
DTSTART;TZID=Europe/Rome:20190329T130000
DTEND;TZID=Europe/Rome:20190330T150000
DTSTAMP:20260424T223926
CREATED:20190314T152830Z
LAST-MODIFIED:20190314T152830Z
UID:42586-1553864400-1553958000@radioterapiaitalia.it
SUMMARY:URO ONCOLOGIA 2019: STATO dell'ARTE dei TRATTAMENTI SISTEMICI - Padova 29-30 Marzo 2019
DESCRIPTION:Scarica Programma
URL:https://radioterapiaitalia.it/event/uro-oncologia-2019-stato-dellarte-dei-trattamenti-sistemici-padova-29-30-marzo-2019-2/
CATEGORIES:CORSI E CONGRESSI PATROCINATI AIRO
ATTACH;FMTTYPE=:
END:VEVENT
END:VCALENDAR