BEGIN:VCALENDAR
VERSION:2.0
PRODID:-//AIRO - ECPv6.15.11//NONSGML v1.0//EN
CALSCALE:GREGORIAN
METHOD:PUBLISH
X-WR-CALNAME:AIRO
X-ORIGINAL-URL:https://radioterapiaitalia.it
X-WR-CALDESC:Eventi per AIRO
REFRESH-INTERVAL;VALUE=DURATION:PT1H
X-Robots-Tag:noindex
X-PUBLISHED-TTL:PT1H
BEGIN:VTIMEZONE
TZID:Europe/Rome
BEGIN:DAYLIGHT
TZOFFSETFROM:+0100
TZOFFSETTO:+0200
TZNAME:CEST
DTSTART:20180325T010000
END:DAYLIGHT
BEGIN:STANDARD
TZOFFSETFROM:+0200
TZOFFSETTO:+0100
TZNAME:CET
DTSTART:20181028T010000
END:STANDARD
BEGIN:DAYLIGHT
TZOFFSETFROM:+0100
TZOFFSETTO:+0200
TZNAME:CEST
DTSTART:20190331T010000
END:DAYLIGHT
BEGIN:STANDARD
TZOFFSETFROM:+0200
TZOFFSETTO:+0100
TZNAME:CET
DTSTART:20191027T010000
END:STANDARD
BEGIN:DAYLIGHT
TZOFFSETFROM:+0100
TZOFFSETTO:+0200
TZNAME:CEST
DTSTART:20200329T010000
END:DAYLIGHT
BEGIN:STANDARD
TZOFFSETFROM:+0200
TZOFFSETTO:+0100
TZNAME:CET
DTSTART:20201025T010000
END:STANDARD
END:VTIMEZONE
BEGIN:VEVENT
DTSTART;TZID=Europe/Rome:20190315T000000
DTEND;TZID=Europe/Rome:20190315T235959
DTSTAMP:20260424T192633
CREATED:20190220T233846Z
LAST-MODIFIED:20190220T233846Z
UID:42579-1552608000-1552694399@radioterapiaitalia.it
SUMMARY:ZOOM 2018-2019 VIII Edizione LA RADIOTERAPIA DELLA MAMMELLA TRA CLINICA E NUOVE TECNICHE       Roma\, 15 Marzo 2019
DESCRIPTION:programma \nscheda iscrizione \nscheda prenotazione alberghiera
URL:https://radioterapiaitalia.it/event/zoom-2018-2019-viii-edizione-la-radioterapia-della-mammella-tra-clinica-e-nuove-tecniche-roma-15-marzo-2019-2/
CATEGORIES:CORSI E CONGRESSI PATROCINATI AIRO
ATTACH;FMTTYPE=:
END:VEVENT
BEGIN:VEVENT
DTSTART;VALUE=DATE:20190315
DTEND;VALUE=DATE:20190316
DTSTAMP:20260424T192633
CREATED:20190220T233846Z
LAST-MODIFIED:20190220T233846Z
UID:17211-1552608000-1552694399@radioterapiaitalia.it
SUMMARY:ZOOM 2018-2019 VIII Edizione LA RADIOTERAPIA DELLA MAMMELLA TRA CLINICA E NUOVE TECNICHE       Roma\, 15 Marzo 2019
DESCRIPTION:programma \nscheda iscrizione \nscheda prenotazione alberghiera
URL:https://radioterapiaitalia.it/event/zoom-2018-2019-viii-edizione-la-radioterapia-della-mammella-tra-clinica-e-nuove-tecniche-roma-15-marzo-2019/
CATEGORIES:CORSI E CONGRESSI PATROCINATI AIRO
ATTACH;FMTTYPE=:
END:VEVENT
END:VCALENDAR