BEGIN:VCALENDAR
VERSION:2.0
PRODID:-//AIRO - ECPv6.15.11//NONSGML v1.0//EN
CALSCALE:GREGORIAN
METHOD:PUBLISH
X-ORIGINAL-URL:https://radioterapiaitalia.it
X-WR-CALDESC:Eventi per AIRO
REFRESH-INTERVAL;VALUE=DURATION:PT1H
X-Robots-Tag:noindex
X-PUBLISHED-TTL:PT1H
BEGIN:VTIMEZONE
TZID:Europe/Rome
BEGIN:DAYLIGHT
TZOFFSETFROM:+0100
TZOFFSETTO:+0200
TZNAME:CEST
DTSTART:20170326T010000
END:DAYLIGHT
BEGIN:STANDARD
TZOFFSETFROM:+0200
TZOFFSETTO:+0100
TZNAME:CET
DTSTART:20171029T010000
END:STANDARD
BEGIN:DAYLIGHT
TZOFFSETFROM:+0100
TZOFFSETTO:+0200
TZNAME:CEST
DTSTART:20180325T010000
END:DAYLIGHT
BEGIN:STANDARD
TZOFFSETFROM:+0200
TZOFFSETTO:+0100
TZNAME:CET
DTSTART:20181028T010000
END:STANDARD
BEGIN:DAYLIGHT
TZOFFSETFROM:+0100
TZOFFSETTO:+0200
TZNAME:CEST
DTSTART:20190331T010000
END:DAYLIGHT
BEGIN:STANDARD
TZOFFSETFROM:+0200
TZOFFSETTO:+0100
TZNAME:CET
DTSTART:20191027T010000
END:STANDARD
END:VTIMEZONE
BEGIN:VEVENT
DTSTART;TZID=Europe/Rome:20181113T100000
DTEND;TZID=Europe/Rome:20181113T170000
DTSTAMP:20260425T155047
CREATED:20181002T163918Z
LAST-MODIFIED:20181002T163918Z
UID:15969-1542103200-1542128400@radioterapiaitalia.it
SUMMARY:2018 novembre 13 - Convegno “RADIOTERAPIA E ORMONOTERAPIA NEL CARCINOMA PROSTATICO:  STANDARD TERAPEUTICI E NUOVE PROSPETTIVE”\, Perugia
DESCRIPTION:Programma
URL:https://radioterapiaitalia.it/event/2018-novembre-13-convegno-radioterapia-e-ormonoterapia-nel-carcinoma-prostatico-standard-terapeutici-e-nuove-prospettive-perugia/
CATEGORIES:CORSI E CONGRESSI PATROCINATI AIRO
ATTACH;FMTTYPE=:
END:VEVENT
BEGIN:VEVENT
DTSTART;TZID=Europe/Rome:20181113T100000
DTEND;TZID=Europe/Rome:20181113T170000
DTSTAMP:20260425T155047
CREATED:20181002T163918Z
LAST-MODIFIED:20181002T163918Z
UID:42561-1542103200-1542128400@radioterapiaitalia.it
SUMMARY:2018 novembre 13 - Convegno “RADIOTERAPIA E ORMONOTERAPIA NEL CARCINOMA PROSTATICO:  STANDARD TERAPEUTICI E NUOVE PROSPETTIVE”\, Perugia
DESCRIPTION:Programma
URL:https://radioterapiaitalia.it/event/2018-novembre-13-convegno-radioterapia-e-ormonoterapia-nel-carcinoma-prostatico-standard-terapeutici-e-nuove-prospettive-perugia-2/
CATEGORIES:CORSI E CONGRESSI PATROCINATI AIRO
ATTACH;FMTTYPE=:
END:VEVENT
END:VCALENDAR