BEGIN:VCALENDAR
VERSION:2.0
PRODID:-//AIRO - ECPv6.15.11//NONSGML v1.0//EN
CALSCALE:GREGORIAN
METHOD:PUBLISH
X-WR-CALNAME:AIRO
X-ORIGINAL-URL:https://radioterapiaitalia.it
X-WR-CALDESC:Eventi per AIRO
REFRESH-INTERVAL;VALUE=DURATION:PT1H
X-Robots-Tag:noindex
X-PUBLISHED-TTL:PT1H
BEGIN:VTIMEZONE
TZID:Europe/Rome
BEGIN:DAYLIGHT
TZOFFSETFROM:+0100
TZOFFSETTO:+0200
TZNAME:CEST
DTSTART:20170326T010000
END:DAYLIGHT
BEGIN:STANDARD
TZOFFSETFROM:+0200
TZOFFSETTO:+0100
TZNAME:CET
DTSTART:20171029T010000
END:STANDARD
BEGIN:DAYLIGHT
TZOFFSETFROM:+0100
TZOFFSETTO:+0200
TZNAME:CEST
DTSTART:20180325T010000
END:DAYLIGHT
BEGIN:STANDARD
TZOFFSETFROM:+0200
TZOFFSETTO:+0100
TZNAME:CET
DTSTART:20181028T010000
END:STANDARD
BEGIN:DAYLIGHT
TZOFFSETFROM:+0100
TZOFFSETTO:+0200
TZNAME:CEST
DTSTART:20190331T010000
END:DAYLIGHT
BEGIN:STANDARD
TZOFFSETFROM:+0200
TZOFFSETTO:+0100
TZNAME:CET
DTSTART:20191027T010000
END:STANDARD
END:VTIMEZONE
BEGIN:VEVENT
DTSTART;TZID=Europe/Rome:20181004T080000
DTEND;TZID=Europe/Rome:20181005T170000
DTSTAMP:20260425T225823
CREATED:20180521T081437Z
LAST-MODIFIED:20180521T081437Z
UID:15351-1538640000-1538758800@radioterapiaitalia.it
SUMMARY:2018 ottobre 4-5 Giornata di studio AIOCC "Nuovi orizzonti in oncologia cervico-cefalica"\, Modena
DESCRIPTION:Cartolina \nLocandina \nProgramma
URL:https://radioterapiaitalia.it/event/2018-ottobre-4-5-giornata-studio-aiocc-nuovi-orizzonti-oncologia-cervico-cefalica-modena/
CATEGORIES:CORSI E CONGRESSI PATROCINATI AIRO
ATTACH;FMTTYPE=:
END:VEVENT
BEGIN:VEVENT
DTSTART;TZID=Europe/Rome:20181004T080000
DTEND;TZID=Europe/Rome:20181005T170000
DTSTAMP:20260425T225823
CREATED:20180521T081437Z
LAST-MODIFIED:20180521T081437Z
UID:42551-1538640000-1538758800@radioterapiaitalia.it
SUMMARY:2018 ottobre 4-5 Giornata di studio AIOCC "Nuovi orizzonti in oncologia cervico-cefalica"\, Modena
DESCRIPTION:Cartolina \nLocandina \nProgramma
URL:https://radioterapiaitalia.it/event/2018-ottobre-4-5-giornata-studio-aiocc-nuovi-orizzonti-oncologia-cervico-cefalica-modena-2/
CATEGORIES:CORSI E CONGRESSI PATROCINATI AIRO
ATTACH;FMTTYPE=:
END:VEVENT
BEGIN:VEVENT
DTSTART;TZID=Europe/Rome:20181005T083000
DTEND;TZID=Europe/Rome:20181005T180000
DTSTAMP:20260425T225823
CREATED:20180919T232552Z
LAST-MODIFIED:20180919T232552Z
UID:42560-1538728200-1538762400@radioterapiaitalia.it
SUMMARY:2018 ottobre 5 - CONGRESSO "Il CARCINOMA DELLA PROSTATA PRIMITIVO E METASTATICO"\, Roma
DESCRIPTION:Programma \n 
URL:https://radioterapiaitalia.it/event/2018-ottobre-5-congresso-il-carcinoma-della-prostata-primitivo-e-metastatico-roma-2/
CATEGORIES:CORSI E CONGRESSI PATROCINATI AIRO
ATTACH;FMTTYPE=:
END:VEVENT
BEGIN:VEVENT
DTSTART;TZID=Europe/Rome:20181005T083000
DTEND;TZID=Europe/Rome:20181005T180000
DTSTAMP:20260425T225823
CREATED:20180919T232552Z
LAST-MODIFIED:20180919T232552Z
UID:15848-1538728200-1538762400@radioterapiaitalia.it
SUMMARY:2018 ottobre 5 - CONGRESSO "Il CARCINOMA DELLA PROSTATA PRIMITIVO E METASTATICO"\, Roma
DESCRIPTION:Programma \n 
URL:https://radioterapiaitalia.it/event/2018-ottobre-5-congresso-il-carcinoma-della-prostata-primitivo-e-metastatico-roma/
CATEGORIES:CORSI E CONGRESSI PATROCINATI AIRO
ATTACH;FMTTYPE=:
END:VEVENT
END:VCALENDAR