BEGIN:VCALENDAR
VERSION:2.0
PRODID:-//AIRO - ECPv6.15.11//NONSGML v1.0//EN
CALSCALE:GREGORIAN
METHOD:PUBLISH
X-ORIGINAL-URL:https://radioterapiaitalia.it
X-WR-CALDESC:Eventi per AIRO
REFRESH-INTERVAL;VALUE=DURATION:PT1H
X-Robots-Tag:noindex
X-PUBLISHED-TTL:PT1H
BEGIN:VTIMEZONE
TZID:Europe/Rome
BEGIN:DAYLIGHT
TZOFFSETFROM:+0100
TZOFFSETTO:+0200
TZNAME:CEST
DTSTART:20170326T010000
END:DAYLIGHT
BEGIN:STANDARD
TZOFFSETFROM:+0200
TZOFFSETTO:+0100
TZNAME:CET
DTSTART:20171029T010000
END:STANDARD
BEGIN:DAYLIGHT
TZOFFSETFROM:+0100
TZOFFSETTO:+0200
TZNAME:CEST
DTSTART:20180325T010000
END:DAYLIGHT
BEGIN:STANDARD
TZOFFSETFROM:+0200
TZOFFSETTO:+0100
TZNAME:CET
DTSTART:20181028T010000
END:STANDARD
BEGIN:DAYLIGHT
TZOFFSETFROM:+0100
TZOFFSETTO:+0200
TZNAME:CEST
DTSTART:20190331T010000
END:DAYLIGHT
BEGIN:STANDARD
TZOFFSETFROM:+0200
TZOFFSETTO:+0100
TZNAME:CET
DTSTART:20191027T010000
END:STANDARD
END:VTIMEZONE
BEGIN:VEVENT
DTSTART;TZID=Europe/Rome:20180614T133000
DTEND;TZID=Europe/Rome:20180615T193000
DTSTAMP:20260426T023339
CREATED:20180410T174028Z
LAST-MODIFIED:20180410T174028Z
UID:15048-1528983000-1529091000@radioterapiaitalia.it
SUMMARY:2018 giugno 14-15 - LA RADIOTERAPIA NEL REGNO DELLE DUE SICILIE (II Edizione) - Taranto
DESCRIPTION:Programma scientifico \nScheda di iscrizione
URL:https://radioterapiaitalia.it/event/2018-giugno-14-15-la-radioterapia-nel-regno-delle-due-sicilie-ii-edizione-taranto/
CATEGORIES:CORSI E CONGRESSI PATROCINATI AIRO
ATTACH;FMTTYPE=:
END:VEVENT
BEGIN:VEVENT
DTSTART;TZID=Europe/Rome:20180614T133000
DTEND;TZID=Europe/Rome:20180615T193000
DTSTAMP:20260426T023339
CREATED:20180410T174028Z
LAST-MODIFIED:20180410T174028Z
UID:42544-1528983000-1529091000@radioterapiaitalia.it
SUMMARY:2018 giugno 14-15 - LA RADIOTERAPIA NEL REGNO DELLE DUE SICILIE (II Edizione) - Taranto
DESCRIPTION:Programma scientifico \nScheda di iscrizione
URL:https://radioterapiaitalia.it/event/2018-giugno-14-15-la-radioterapia-nel-regno-delle-due-sicilie-ii-edizione-taranto-2/
CATEGORIES:CORSI E CONGRESSI PATROCINATI AIRO
ATTACH;FMTTYPE=:
END:VEVENT
END:VCALENDAR