BEGIN:VCALENDAR
VERSION:2.0
PRODID:-//AIRO - ECPv6.15.11//NONSGML v1.0//EN
CALSCALE:GREGORIAN
METHOD:PUBLISH
X-ORIGINAL-URL:https://radioterapiaitalia.it
X-WR-CALDESC:Eventi per AIRO
REFRESH-INTERVAL;VALUE=DURATION:PT1H
X-Robots-Tag:noindex
X-PUBLISHED-TTL:PT1H
BEGIN:VTIMEZONE
TZID:Europe/Rome
BEGIN:DAYLIGHT
TZOFFSETFROM:+0100
TZOFFSETTO:+0200
TZNAME:CEST
DTSTART:20170326T010000
END:DAYLIGHT
BEGIN:STANDARD
TZOFFSETFROM:+0200
TZOFFSETTO:+0100
TZNAME:CET
DTSTART:20171029T010000
END:STANDARD
BEGIN:DAYLIGHT
TZOFFSETFROM:+0100
TZOFFSETTO:+0200
TZNAME:CEST
DTSTART:20180325T010000
END:DAYLIGHT
BEGIN:STANDARD
TZOFFSETFROM:+0200
TZOFFSETTO:+0100
TZNAME:CET
DTSTART:20181028T010000
END:STANDARD
BEGIN:DAYLIGHT
TZOFFSETFROM:+0100
TZOFFSETTO:+0200
TZNAME:CEST
DTSTART:20190331T010000
END:DAYLIGHT
BEGIN:STANDARD
TZOFFSETFROM:+0200
TZOFFSETTO:+0100
TZNAME:CET
DTSTART:20191027T010000
END:STANDARD
END:VTIMEZONE
BEGIN:VEVENT
DTSTART;TZID=Europe/Rome:20180517T080000
DTEND;TZID=Europe/Rome:20180518T171500
DTSTAMP:20260426T042033
CREATED:20180504T222631Z
LAST-MODIFIED:20180504T222631Z
UID:15258-1526544000-1526663700@radioterapiaitalia.it
SUMMARY:2018 maggio 17-18\, 7º Master in Neuro-Oncologia\, Roma
DESCRIPTION:Programma
URL:https://radioterapiaitalia.it/event/2018-maggio-17-18-7o-master-neuro-oncologia-roma/
CATEGORIES:CORSI E CONGRESSI PATROCINATI AIRO
ATTACH;FMTTYPE=:
END:VEVENT
BEGIN:VEVENT
DTSTART;TZID=Europe/Rome:20180517T080000
DTEND;TZID=Europe/Rome:20180518T171500
DTSTAMP:20260426T042033
CREATED:20180504T222631Z
LAST-MODIFIED:20180504T222631Z
UID:42548-1526544000-1526663700@radioterapiaitalia.it
SUMMARY:2018 maggio 17-18\, 7º Master in Neuro-Oncologia\, Roma
DESCRIPTION:Programma
URL:https://radioterapiaitalia.it/event/2018-maggio-17-18-7o-master-neuro-oncologia-roma-2/
CATEGORIES:CORSI E CONGRESSI PATROCINATI AIRO
ATTACH;FMTTYPE=:
END:VEVENT
BEGIN:VEVENT
DTSTART;TZID=Europe/Rome:20180518T133000
DTEND;TZID=Europe/Rome:20180519T123000
DTSTAMP:20260426T042033
CREATED:20180318T221345Z
LAST-MODIFIED:20180318T221345Z
UID:42541-1526650200-1526733000@radioterapiaitalia.it
SUMMARY:2018 maggio 18-19\, 1°FORUM ALTOATESINO DI RADIOTERAPIA ONCOLOGICA-La qualità e la sicurezza intra-fraction nel trattamento radioterapico\, Bolzano
DESCRIPTION:Degustazione_Tiefenbrunner (1) \nKongress_Radioterapia_18_19_05_2018_IT-2 (1) \nKongress_Radioterapia_18_19_05_2018_IT_WEB (1) \nModulo_Iscrizione_IT-1 (1)
URL:https://radioterapiaitalia.it/event/2018-maggio-18-19-1forum-altoatesino-radioterapia-oncologica-la-qualita-la-sicurezza-intra-fraction-nel-trattamento-radioterapico-bolzano-2/
CATEGORIES:CORSI E CONGRESSI PATROCINATI AIRO
ATTACH;FMTTYPE=:
END:VEVENT
BEGIN:VEVENT
DTSTART;TZID=Europe/Rome:20180518T133000
DTEND;TZID=Europe/Rome:20180519T123000
DTSTAMP:20260426T042033
CREATED:20180318T221345Z
LAST-MODIFIED:20180318T221345Z
UID:14904-1526650200-1526733000@radioterapiaitalia.it
SUMMARY:2018 maggio 18-19\, 1°FORUM ALTOATESINO DI RADIOTERAPIA ONCOLOGICA-La qualità e la sicurezza intra-fraction nel trattamento radioterapico\, Bolzano
DESCRIPTION:Degustazione_Tiefenbrunner (1) \nKongress_Radioterapia_18_19_05_2018_IT-2 (1) \nKongress_Radioterapia_18_19_05_2018_IT_WEB (1) \nModulo_Iscrizione_IT-1 (1)
URL:https://radioterapiaitalia.it/event/2018-maggio-18-19-1forum-altoatesino-radioterapia-oncologica-la-qualita-la-sicurezza-intra-fraction-nel-trattamento-radioterapico-bolzano/
CATEGORIES:CORSI E CONGRESSI PATROCINATI AIRO
ATTACH;FMTTYPE=:
END:VEVENT
END:VCALENDAR