BEGIN:VCALENDAR
VERSION:2.0
PRODID:-//AIRO - ECPv6.15.11//NONSGML v1.0//EN
CALSCALE:GREGORIAN
METHOD:PUBLISH
X-ORIGINAL-URL:https://radioterapiaitalia.it
X-WR-CALDESC:Eventi per AIRO
REFRESH-INTERVAL;VALUE=DURATION:PT1H
X-Robots-Tag:noindex
X-PUBLISHED-TTL:PT1H
BEGIN:VTIMEZONE
TZID:Europe/Rome
BEGIN:DAYLIGHT
TZOFFSETFROM:+0100
TZOFFSETTO:+0200
TZNAME:CEST
DTSTART:20200329T010000
END:DAYLIGHT
BEGIN:STANDARD
TZOFFSETFROM:+0200
TZOFFSETTO:+0100
TZNAME:CET
DTSTART:20201025T010000
END:STANDARD
BEGIN:DAYLIGHT
TZOFFSETFROM:+0100
TZOFFSETTO:+0200
TZNAME:CEST
DTSTART:20210328T010000
END:DAYLIGHT
BEGIN:STANDARD
TZOFFSETFROM:+0200
TZOFFSETTO:+0100
TZNAME:CET
DTSTART:20211031T010000
END:STANDARD
BEGIN:DAYLIGHT
TZOFFSETFROM:+0100
TZOFFSETTO:+0200
TZNAME:CEST
DTSTART:20220327T010000
END:DAYLIGHT
BEGIN:STANDARD
TZOFFSETFROM:+0200
TZOFFSETTO:+0100
TZNAME:CET
DTSTART:20221030T010000
END:STANDARD
BEGIN:DAYLIGHT
TZOFFSETFROM:+0100
TZOFFSETTO:+0200
TZNAME:CEST
DTSTART:20230326T010000
END:DAYLIGHT
BEGIN:STANDARD
TZOFFSETFROM:+0200
TZOFFSETTO:+0100
TZNAME:CET
DTSTART:20231029T010000
END:STANDARD
END:VTIMEZONE
BEGIN:VEVENT
DTSTART;TZID=Europe/Rome:20210901T080000
DTEND;TZID=Europe/Rome:20220930T170000
DTSTAMP:20260421T172350
CREATED:20220128T153202Z
LAST-MODIFIED:20220128T153202Z
UID:24091-1630483200-1664557200@radioterapiaitalia.it
SUMMARY:FAD Asincrona - Gestione Multidisciplinare delle Neoplasie Ginecologiche: nuovi trattamenti farmacologici e radioterapici - Settembre 2021/Settembre 2022
DESCRIPTION:Visualizza Programma
URL:https://radioterapiaitalia.it/event/fad-asincrona-gestione-multidisciplinare-delle-neoplasie-ginecologiche-nuovi-trattamenti-farmacologici-e-radioterapici-settembre-2021-settembre-2022/
CATEGORIES:CORSI E CONGRESSI PATROCINATI AIRO
ATTACH;FMTTYPE=:
END:VEVENT
BEGIN:VEVENT
DTSTART;TZID=Europe/Rome:20210901T080000
DTEND;TZID=Europe/Rome:20220930T170000
DTSTAMP:20260421T172350
CREATED:20220128T153202Z
LAST-MODIFIED:20220128T153202Z
UID:42700-1630483200-1664557200@radioterapiaitalia.it
SUMMARY:FAD Asincrona - Gestione Multidisciplinare delle Neoplasie Ginecologiche: nuovi trattamenti farmacologici e radioterapici - Settembre 2021/Settembre 2022
DESCRIPTION:Visualizza Programma
URL:https://radioterapiaitalia.it/event/fad-asincrona-gestione-multidisciplinare-delle-neoplasie-ginecologiche-nuovi-trattamenti-farmacologici-e-radioterapici-settembre-2021-settembre-2022-2/
CATEGORIES:CORSI E CONGRESSI PATROCINATI AIRO
ATTACH;FMTTYPE=:
END:VEVENT
BEGIN:VEVENT
DTSTART;TZID=Europe/Rome:20210930T150000
DTEND;TZID=Europe/Rome:20211001T183000
DTSTAMP:20260421T172350
CREATED:20210902T093838Z
LAST-MODIFIED:20210902T093838Z
UID:22571-1633014000-1633113000@radioterapiaitalia.it
SUMMARY:Corso Webinar - 6° Master multidisciplinare in oncologia cervico-facciale Tumori della laringe - 30 Settembre\, 1 Ottobre 2021
DESCRIPTION:Visualizza Programma
URL:https://radioterapiaitalia.it/event/corso-webinar-6-master-multidisciplinare-in-oncologia-cervico-facciale-tumori-della-laringe-30-settembre-1-ottobre-2021/
CATEGORIES:CORSI E CONGRESSI PATROCINATI AIRO
ATTACH;FMTTYPE=:
END:VEVENT
BEGIN:VEVENT
DTSTART;TZID=Europe/Rome:20210930T150000
DTEND;TZID=Europe/Rome:20211001T183000
DTSTAMP:20260421T172350
CREATED:20210902T093838Z
LAST-MODIFIED:20210902T093838Z
UID:42674-1633014000-1633113000@radioterapiaitalia.it
SUMMARY:Corso Webinar - 6° Master multidisciplinare in oncologia cervico-facciale Tumori della laringe - 30 Settembre\, 1 Ottobre 2021
DESCRIPTION:Visualizza Programma
URL:https://radioterapiaitalia.it/event/corso-webinar-6-master-multidisciplinare-in-oncologia-cervico-facciale-tumori-della-laringe-30-settembre-1-ottobre-2021-2/
CATEGORIES:CORSI E CONGRESSI PATROCINATI AIRO
ATTACH;FMTTYPE=:
END:VEVENT
BEGIN:VEVENT
DTSTART;TZID=Europe/Rome:20211001T090000
DTEND;TZID=Europe/Rome:20211002T133000
DTSTAMP:20260421T172350
CREATED:20210930T155949Z
LAST-MODIFIED:20210930T155949Z
UID:42681-1633078800-1633181400@radioterapiaitalia.it
SUMMARY:Radioterapia di Precisione e Immunoterapia - Attualità e Prospettive Future - Pesaro - 1/2 Ottobre 2021
DESCRIPTION:Visualizza Programma
URL:https://radioterapiaitalia.it/event/radioterapia-di-precisione-e-immunoterapia-attualita-e-prospettive-future-pesaro-1-2-ottobre-2021-2/
CATEGORIES:CORSI E CONGRESSI PATROCINATI AIRO
ATTACH;FMTTYPE=:
END:VEVENT
BEGIN:VEVENT
DTSTART;TZID=Europe/Rome:20211001T090000
DTEND;TZID=Europe/Rome:20211002T133000
DTSTAMP:20260421T172350
CREATED:20210930T155949Z
LAST-MODIFIED:20210930T155949Z
UID:22811-1633078800-1633181400@radioterapiaitalia.it
SUMMARY:Radioterapia di Precisione e Immunoterapia - Attualità e Prospettive Future - Pesaro - 1/2 Ottobre 2021
DESCRIPTION:Visualizza Programma
URL:https://radioterapiaitalia.it/event/radioterapia-di-precisione-e-immunoterapia-attualita-e-prospettive-future-pesaro-1-2-ottobre-2021/
CATEGORIES:CORSI E CONGRESSI PATROCINATI AIRO
ATTACH;FMTTYPE=:
END:VEVENT
BEGIN:VEVENT
DTSTART;TZID=Europe/Rome:20211001T153000
DTEND;TZID=Europe/Rome:20211001T173000
DTSTAMP:20260421T172350
CREATED:20210927T161521Z
LAST-MODIFIED:20210927T161521Z
UID:22762-1633102200-1633109400@radioterapiaitalia.it
SUMMARY:WEBINAR ECM – I VENERDI’ DI NEURO-ONCOLOGIA. IMMUNOTERAPIA E RADIOTERAPIA NEL TRATTAMENTO DELLE METASTASI DA NSCLC - 1 Ottobre 2021
DESCRIPTION:I VENERDI’ DI NEURO-ONCOLOGIA\nIMMUNOTERAPIA E RADIOTERAPIA NEL TRATTAMENTO DELLE METASTASI DA NSCLC\nWebinar ECM\nDescrizione del Corso:\nIl corso è gratuito per i Soci AIRO in regola con la quota associativa 2021. \nBrain metastases (BMs) occur in 40% of patients with lung cancer. The management of BM is multimodal\, with the as- sociation of local therapies (stereotactic radiosurgery SRS\, whole-brain radiotherapy WBRT\, or surgical resection) to systemic treatments (chemotherapy\, targeted therapies\, and immunotherapy). RT remains a treatment of choice in many cases. However\, novel targeted and immune- therapies have improved CNS penetration and revealed potent intracerebral activity in patients with NSCLC with driver genes activating mutations and BM\, even without previous RT. In fact\, several retrospective trials have suggested that the combination of cerebral RT and immunotherapy provides increased intracranial local control (LC)\, but without any clear impact on overall survival. \nMany aspects remain unclear about multimodality treatment of brain metastases from NSCLC. In particular\, timing and doses of radiosurgery\, WBRT and immune and targeted therapies in both single and combined settings. The aim of this course is to highlight the main data on this topic. \nVisualizza Programma \nIscrizione al Webinar \nPer iscriversi al webinar è necessario: \n\nEffettuare la registrazione alla Piattaforma ECM (una tantum e se non già fatta per webinar precedenti). Si precisa che si tratta della registrazione alla Piattaforma ECM e non al sito AIRO\, pertanto deve essere fatta ex novo la prima volta che si desidera iscriversi ad un primo webinar.\nInviare la richiesta di iscrizione all’evento mediante il pulsante ACCEDI presente nella pagina del corso. L’iscrizione verrà approvata dopo verifica da parte della Segreteria della corretta iscrizione ad AIRO per l’anno in corso.
URL:https://radioterapiaitalia.it/event/webinar-ecm-i-venerdi-di-neuro-oncologia-immunoterapia-e-radioterapia-nel-trattamento-delle-metastasi-da-nsclc-1-ottobre-2021/
CATEGORIES:CORSI E CONGRESSI AIRO,CORSI E CONGRESSI PATROCINATI AIRO
ATTACH;FMTTYPE=:
END:VEVENT
BEGIN:VEVENT
DTSTART;TZID=Europe/Rome:20211001T153000
DTEND;TZID=Europe/Rome:20211001T173000
DTSTAMP:20260421T172350
CREATED:20210927T161521Z
LAST-MODIFIED:20210927T161521Z
UID:42680-1633102200-1633109400@radioterapiaitalia.it
SUMMARY:WEBINAR ECM – I VENERDI’ DI NEURO-ONCOLOGIA. IMMUNOTERAPIA E RADIOTERAPIA NEL TRATTAMENTO DELLE METASTASI DA NSCLC - 1 Ottobre 2021
DESCRIPTION:I VENERDI’ DI NEURO-ONCOLOGIA\nIMMUNOTERAPIA E RADIOTERAPIA NEL TRATTAMENTO DELLE METASTASI DA NSCLC\nWebinar ECM\nDescrizione del Corso:\nIl corso è gratuito per i Soci AIRO in regola con la quota associativa 2021. \nBrain metastases (BMs) occur in 40% of patients with lung cancer. The management of BM is multimodal\, with the as- sociation of local therapies (stereotactic radiosurgery SRS\, whole-brain radiotherapy WBRT\, or surgical resection) to systemic treatments (chemotherapy\, targeted therapies\, and immunotherapy). RT remains a treatment of choice in many cases. However\, novel targeted and immune- therapies have improved CNS penetration and revealed potent intracerebral activity in patients with NSCLC with driver genes activating mutations and BM\, even without previous RT. In fact\, several retrospective trials have suggested that the combination of cerebral RT and immunotherapy provides increased intracranial local control (LC)\, but without any clear impact on overall survival. \nMany aspects remain unclear about multimodality treatment of brain metastases from NSCLC. In particular\, timing and doses of radiosurgery\, WBRT and immune and targeted therapies in both single and combined settings. The aim of this course is to highlight the main data on this topic. \nVisualizza Programma \nIscrizione al Webinar \nPer iscriversi al webinar è necessario: \n\nEffettuare la registrazione alla Piattaforma ECM (una tantum e se non già fatta per webinar precedenti). Si precisa che si tratta della registrazione alla Piattaforma ECM e non al sito AIRO\, pertanto deve essere fatta ex novo la prima volta che si desidera iscriversi ad un primo webinar.\nInviare la richiesta di iscrizione all’evento mediante il pulsante ACCEDI presente nella pagina del corso. L’iscrizione verrà approvata dopo verifica da parte della Segreteria della corretta iscrizione ad AIRO per l’anno in corso.
URL:https://radioterapiaitalia.it/event/webinar-ecm-i-venerdi-di-neuro-oncologia-immunoterapia-e-radioterapia-nel-trattamento-delle-metastasi-da-nsclc-1-ottobre-2021-2/
CATEGORIES:CORSI E CONGRESSI AIRO,CORSI E CONGRESSI PATROCINATI AIRO
ATTACH;FMTTYPE=:
END:VEVENT
BEGIN:VEVENT
DTSTART;TZID=Europe/Rome:20211008T090000
DTEND;TZID=Europe/Rome:20211008T163000
DTSTAMP:20260421T172350
CREATED:20211006T092732Z
LAST-MODIFIED:20211006T092732Z
UID:22878-1633683600-1633710600@radioterapiaitalia.it
SUMMARY:WORKSHOP "WRITING THE FUTURE TOGETHER" - Bari 8 Ottobre 2021
DESCRIPTION:Visualizza ProgrammaVILLA ROMANAZZI CARDUCCI\nVia Giuseppe Capruzzi 326\,\nBari VILLA ROMANAZZI CARDUCCI\nVia Giuseppe Capruzzi 326\,\nBari
URL:https://radioterapiaitalia.it/event/workshop-writing-the-future-together-bari-8-ottobre-2021/
CATEGORIES:CORSI E CONGRESSI PATROCINATI AIRO
ATTACH;FMTTYPE=:
END:VEVENT
BEGIN:VEVENT
DTSTART;TZID=Europe/Rome:20211008T090000
DTEND;TZID=Europe/Rome:20211008T163000
DTSTAMP:20260421T172350
CREATED:20211006T092732Z
LAST-MODIFIED:20211006T092732Z
UID:42682-1633683600-1633710600@radioterapiaitalia.it
SUMMARY:WORKSHOP "WRITING THE FUTURE TOGETHER" - Bari 8 Ottobre 2021
DESCRIPTION:Visualizza ProgrammaVILLA ROMANAZZI CARDUCCI\nVia Giuseppe Capruzzi 326\,\nBari VILLA ROMANAZZI CARDUCCI\nVia Giuseppe Capruzzi 326\,\nBari
URL:https://radioterapiaitalia.it/event/workshop-writing-the-future-together-bari-8-ottobre-2021-2/
CATEGORIES:CORSI E CONGRESSI PATROCINATI AIRO
ATTACH;FMTTYPE=:
END:VEVENT
BEGIN:VEVENT
DTSTART;TZID=Europe/Rome:20211029T090000
DTEND;TZID=Europe/Rome:20211029T120000
DTSTAMP:20260421T172350
CREATED:20210913T174035Z
LAST-MODIFIED:20210913T174035Z
UID:22631-1635498000-1635508800@radioterapiaitalia.it
SUMMARY:Corso di Formazione a Distanza sul Contouring delle Neoplasie del Rinofaringe - 29 Ottobre\, 5 Novembre 2021
DESCRIPTION:I S C R I Z I O N I   C H I U S E\nRAGGIUNTO IL NUMERO MASSIMO DI CENTRI PARTECIPANTI\nDescrizione del Corso:\nIl corso è gratuito per i Soci AIRO in regola con la quota associativa 2021. \nLa radioterapia svolge un ruolo fondamentale nel trattamento dei tumori del rinofaringe; viene utilizzata con intento di guarigione in tutti gli stadi di malattia non metastatica. La peculiare sede anatomica del distretto con vicinanza di numerosi di organi a rischio\, la complessità e la dimensione dei volumi di trattamento\, l’avanzamento delle tecniche di pianificazione\, il rischio di sequele tardive severe che compromettono la qualità di vita nei pazienti guariti rendono il contouring di queste neoplasie un banco di prova allo stesso tempo impegnativo e stimolante per il radioterapista oncologo.\nQuesto corso teorico pratico prevede una parte di lezioni di aggiornamento condotte da esperti del settore sulle procedure diagnostiche e terapeutiche nel management delle neoplasie del rinofaringe\, sulle sedi più frequenti di ricaduta loco-regionale e una fase pratica di definizione dei volumi bersaglio tumorali su caso clinico\, con l’obiettivo di fornire linee guida di contouring che aiutino i partecipanti a migliorare le loro abilità in questo ambito. \nVisualizza Programma \nScheda Iscrizione\nL’iscrizione è gratuita con numero di posti limitato a 15 centri: nello stesso centro potranno partecipare alla fase di contouring e alla didattica online un numero massimo di 5 partecipanti. Il Corso è riservato esclusivamente ai Soci AIRO. Verranno prese in considerazione le iscrizioni in ordine cronologico di ricezione. Le iscrizioni devono essere inviate entro il 01-10-2021 ai contatti indicati nella scheda.\nDopo l’iscrizione i partecipanti riceveranno comunicazione circa le modalità di registrazione alla piattaforma FAD per ottenere i crediti ECM. \nProgramma\nFASE DI CONTOURING Pre-MEETING (4 ottobre – 26 ottobre):\nai centri iscritti verranno inviata documentazione (note cliniche\, imaging radiologico\, esami strumentali\, TAC di centratura) riguardante un caso clinico di un paziente affetto da tumore del rinofaringe. Verrà richiesta la contornazione dei volumi target e di alcuni organi a rischio\, da inviare alla segreteria scientifica entro il 26/10/21. \nPRIMO INCONTRO (29 ottobre 2021 9.00 – 12.00) \nFASE DI CONTOURING Post-MEETING (29 ottobre – 3 novembre)\nOgni centro partecipante potrà modificare\, alla luce della presentazioni degli esperti il contorno del caso precedentemente elaborato.\nI partecipanti di ogni centro dovranno rimandare le immagini DICOM del caso nuovamente contornato (1 solo contorno per centro) entro le ore 15 del 3/11/21 \nSECONDO INCONTRO (5 Novembre 2021 14.30 – 16.30)
URL:https://radioterapiaitalia.it/event/corso-di-formazione-a-distanza-sul-contouring-delle-neoplasie-del-rinofaringe-29-ottobre-5-novembre-2021/
CATEGORIES:CORSI E CONGRESSI PATROCINATI AIRO
ATTACH;FMTTYPE=:
END:VEVENT
BEGIN:VEVENT
DTSTART;TZID=Europe/Rome:20211029T090000
DTEND;TZID=Europe/Rome:20211029T120000
DTSTAMP:20260421T172350
CREATED:20210913T174035Z
LAST-MODIFIED:20210913T174035Z
UID:42677-1635498000-1635508800@radioterapiaitalia.it
SUMMARY:Corso di Formazione a Distanza sul Contouring delle Neoplasie del Rinofaringe - 29 Ottobre\, 5 Novembre 2021
DESCRIPTION:I S C R I Z I O N I   C H I U S E\nRAGGIUNTO IL NUMERO MASSIMO DI CENTRI PARTECIPANTI\nDescrizione del Corso:\nIl corso è gratuito per i Soci AIRO in regola con la quota associativa 2021. \nLa radioterapia svolge un ruolo fondamentale nel trattamento dei tumori del rinofaringe; viene utilizzata con intento di guarigione in tutti gli stadi di malattia non metastatica. La peculiare sede anatomica del distretto con vicinanza di numerosi di organi a rischio\, la complessità e la dimensione dei volumi di trattamento\, l’avanzamento delle tecniche di pianificazione\, il rischio di sequele tardive severe che compromettono la qualità di vita nei pazienti guariti rendono il contouring di queste neoplasie un banco di prova allo stesso tempo impegnativo e stimolante per il radioterapista oncologo.\nQuesto corso teorico pratico prevede una parte di lezioni di aggiornamento condotte da esperti del settore sulle procedure diagnostiche e terapeutiche nel management delle neoplasie del rinofaringe\, sulle sedi più frequenti di ricaduta loco-regionale e una fase pratica di definizione dei volumi bersaglio tumorali su caso clinico\, con l’obiettivo di fornire linee guida di contouring che aiutino i partecipanti a migliorare le loro abilità in questo ambito. \nVisualizza Programma \nScheda Iscrizione\nL’iscrizione è gratuita con numero di posti limitato a 15 centri: nello stesso centro potranno partecipare alla fase di contouring e alla didattica online un numero massimo di 5 partecipanti. Il Corso è riservato esclusivamente ai Soci AIRO. Verranno prese in considerazione le iscrizioni in ordine cronologico di ricezione. Le iscrizioni devono essere inviate entro il 01-10-2021 ai contatti indicati nella scheda.\nDopo l’iscrizione i partecipanti riceveranno comunicazione circa le modalità di registrazione alla piattaforma FAD per ottenere i crediti ECM. \nProgramma\nFASE DI CONTOURING Pre-MEETING (4 ottobre – 26 ottobre):\nai centri iscritti verranno inviata documentazione (note cliniche\, imaging radiologico\, esami strumentali\, TAC di centratura) riguardante un caso clinico di un paziente affetto da tumore del rinofaringe. Verrà richiesta la contornazione dei volumi target e di alcuni organi a rischio\, da inviare alla segreteria scientifica entro il 26/10/21. \nPRIMO INCONTRO (29 ottobre 2021 9.00 – 12.00) \nFASE DI CONTOURING Post-MEETING (29 ottobre – 3 novembre)\nOgni centro partecipante potrà modificare\, alla luce della presentazioni degli esperti il contorno del caso precedentemente elaborato.\nI partecipanti di ogni centro dovranno rimandare le immagini DICOM del caso nuovamente contornato (1 solo contorno per centro) entro le ore 15 del 3/11/21 \nSECONDO INCONTRO (5 Novembre 2021 14.30 – 16.30)
URL:https://radioterapiaitalia.it/event/corso-di-formazione-a-distanza-sul-contouring-delle-neoplasie-del-rinofaringe-29-ottobre-5-novembre-2021-3/
CATEGORIES:CORSI E CONGRESSI PATROCINATI AIRO
ATTACH;FMTTYPE=:
END:VEVENT
END:VCALENDAR