BEGIN:VCALENDAR
VERSION:2.0
PRODID:-//AIRO - ECPv6.15.11//NONSGML v1.0//EN
CALSCALE:GREGORIAN
METHOD:PUBLISH
X-WR-CALNAME:AIRO
X-ORIGINAL-URL:https://radioterapiaitalia.it
X-WR-CALDESC:Eventi per AIRO
REFRESH-INTERVAL;VALUE=DURATION:PT1H
X-Robots-Tag:noindex
X-PUBLISHED-TTL:PT1H
BEGIN:VTIMEZONE
TZID:Europe/Rome
BEGIN:DAYLIGHT
TZOFFSETFROM:+0100
TZOFFSETTO:+0200
TZNAME:CEST
DTSTART:20190331T010000
END:DAYLIGHT
BEGIN:STANDARD
TZOFFSETFROM:+0200
TZOFFSETTO:+0100
TZNAME:CET
DTSTART:20191027T010000
END:STANDARD
BEGIN:DAYLIGHT
TZOFFSETFROM:+0100
TZOFFSETTO:+0200
TZNAME:CEST
DTSTART:20200329T010000
END:DAYLIGHT
BEGIN:STANDARD
TZOFFSETFROM:+0200
TZOFFSETTO:+0100
TZNAME:CET
DTSTART:20201025T010000
END:STANDARD
BEGIN:DAYLIGHT
TZOFFSETFROM:+0100
TZOFFSETTO:+0200
TZNAME:CEST
DTSTART:20210328T010000
END:DAYLIGHT
BEGIN:STANDARD
TZOFFSETFROM:+0200
TZOFFSETTO:+0100
TZNAME:CET
DTSTART:20211031T010000
END:STANDARD
END:VTIMEZONE
BEGIN:VEVENT
DTSTART;TZID=Europe/Rome:20201203T140000
DTEND;TZID=Europe/Rome:20201203T170000
DTSTAMP:20260422T232329
CREATED:20201116T161533Z
LAST-MODIFIED:20201116T161533Z
UID:20558-1607004000-1607014800@radioterapiaitalia.it
SUMMARY:Webinar Gruppo di Studio AIRO Gastrointestinale: "Novità delle Linee Guida e della Letteratura Scientifica nel 2020 per i Tumori del Tratto Gastro-Enterico Superiore" - 3 Dicembre 2020
DESCRIPTION:Visualizza Programma e Modalità di Iscrizione
URL:https://radioterapiaitalia.it/event/webinar-gruppo-di-studio-airo-gastrointestinale-novita-delle-linee-guida-e-della-letteratura-scientifica-nel-2020-per-i-tumori-del-tratto-gastro-enterico-superiore-3-dicembre-2020/
CATEGORIES:CORSI E CONGRESSI AIRO,CORSI E CONGRESSI PATROCINATI AIRO
ATTACH;FMTTYPE=:
END:VEVENT
BEGIN:VEVENT
DTSTART;TZID=Europe/Rome:20201203T140000
DTEND;TZID=Europe/Rome:20201203T170000
DTSTAMP:20260422T232329
CREATED:20201116T161533Z
LAST-MODIFIED:20201116T161533Z
UID:42637-1607004000-1607014800@radioterapiaitalia.it
SUMMARY:Webinar Gruppo di Studio AIRO Gastrointestinale: "Novità delle Linee Guida e della Letteratura Scientifica nel 2020 per i Tumori del Tratto Gastro-Enterico Superiore" - 3 Dicembre 2020
DESCRIPTION:Visualizza Programma e Modalità di Iscrizione
URL:https://radioterapiaitalia.it/event/webinar-gruppo-di-studio-airo-gastrointestinale-novita-delle-linee-guida-e-della-letteratura-scientifica-nel-2020-per-i-tumori-del-tratto-gastro-enterico-superiore-3-dicembre-2020-2/
CATEGORIES:CORSI E CONGRESSI AIRO,CORSI E CONGRESSI PATROCINATI AIRO
ATTACH;FMTTYPE=:
END:VEVENT
BEGIN:VEVENT
DTSTART;TZID=Europe/Rome:20201209T150000
DTEND;TZID=Europe/Rome:20201209T190000
DTSTAMP:20260422T232329
CREATED:20201117T173534Z
LAST-MODIFIED:20201117T173534Z
UID:42638-1607526000-1607540400@radioterapiaitalia.it
SUMMARY:Webinar - SEX AND THE CANCER Quello che le donne non dicono - 9 Dicembre 2020
DESCRIPTION:Visualizza Programma
URL:https://radioterapiaitalia.it/event/webinar-sex-and-the-cancer-quello-che-le-donne-non-dicono-9-dicembre-2020-2/
CATEGORIES:CORSI E CONGRESSI PATROCINATI AIRO
ATTACH;FMTTYPE=:
END:VEVENT
BEGIN:VEVENT
DTSTART;TZID=Europe/Rome:20201209T150000
DTEND;TZID=Europe/Rome:20201209T190000
DTSTAMP:20260422T232329
CREATED:20201117T173534Z
LAST-MODIFIED:20201117T173534Z
UID:20571-1607526000-1607540400@radioterapiaitalia.it
SUMMARY:Webinar - SEX AND THE CANCER Quello che le donne non dicono - 9 Dicembre 2020
DESCRIPTION:Visualizza Programma
URL:https://radioterapiaitalia.it/event/webinar-sex-and-the-cancer-quello-che-le-donne-non-dicono-9-dicembre-2020/
CATEGORIES:CORSI E CONGRESSI PATROCINATI AIRO
ATTACH;FMTTYPE=:
END:VEVENT
BEGIN:VEVENT
DTSTART;TZID=Europe/Rome:20201214T160000
DTEND;TZID=Europe/Rome:20201214T190000
DTSTAMP:20260422T232329
CREATED:20201012T161043Z
LAST-MODIFIED:20201012T161043Z
UID:42632-1607961600-1607972400@radioterapiaitalia.it
SUMMARY:SHARING IDEAS: Confronto sul trattamento del tumore della prostata recidivo\, sensibile e resistente alla castrazione - 14-21 Dicembre 2020
DESCRIPTION:Evento Online \nVisualizza Locandina \nVisualizza Programma
URL:https://radioterapiaitalia.it/event/evento-formativo-fad-sharing-ideas-confronto-sul-trattamento-del-tumore-della-prostata-recidivo-sensibile-e-resistente-alla-castrazione-14-21-dicembre-2020-2/
CATEGORIES:CORSI E CONGRESSI PATROCINATI AIRO
ATTACH;FMTTYPE=:
END:VEVENT
BEGIN:VEVENT
DTSTART;TZID=Europe/Rome:20201214T160000
DTEND;TZID=Europe/Rome:20201214T190000
DTSTAMP:20260422T232329
CREATED:20201012T161043Z
LAST-MODIFIED:20201012T161043Z
UID:20369-1607961600-1607972400@radioterapiaitalia.it
SUMMARY:SHARING IDEAS: Confronto sul trattamento del tumore della prostata recidivo\, sensibile e resistente alla castrazione - 14-21 Dicembre 2020
DESCRIPTION:Evento Online \nVisualizza Locandina \nVisualizza Programma
URL:https://radioterapiaitalia.it/event/evento-formativo-fad-sharing-ideas-confronto-sul-trattamento-del-tumore-della-prostata-recidivo-sensibile-e-resistente-alla-castrazione-14-21-dicembre-2020/
CATEGORIES:CORSI E CONGRESSI PATROCINATI AIRO
ATTACH;FMTTYPE=:
END:VEVENT
BEGIN:VEVENT
DTSTART;TZID=Europe/Rome:20201221T160000
DTEND;TZID=Europe/Rome:20201221T190000
DTSTAMP:20260422T232329
CREATED:20201116T155718Z
LAST-MODIFIED:20201116T155718Z
UID:42636-1608566400-1608577200@radioterapiaitalia.it
SUMMARY:SHARING IDEAS: Confronto sul trattamento del tumore della prostata recidivo\, sensibile e resistente alla castrazione – 14-21 Dicembre 2020
DESCRIPTION:Visualizza Locandina \nVisualizza Programma
URL:https://radioterapiaitalia.it/event/sharing-ideas-confronto-sul-trattamento-del-tumore-della-prostata-recidivo-sensibile-e-resistente-alla-castrazione-14-21-dicembre-2020-2/
CATEGORIES:CORSI E CONGRESSI PATROCINATI AIRO
ATTACH;FMTTYPE=:
END:VEVENT
BEGIN:VEVENT
DTSTART;TZID=Europe/Rome:20201221T160000
DTEND;TZID=Europe/Rome:20201221T190000
DTSTAMP:20260422T232329
CREATED:20201116T155718Z
LAST-MODIFIED:20201116T155718Z
UID:20555-1608566400-1608577200@radioterapiaitalia.it
SUMMARY:SHARING IDEAS: Confronto sul trattamento del tumore della prostata recidivo\, sensibile e resistente alla castrazione – 14-21 Dicembre 2020
DESCRIPTION:Visualizza Locandina \nVisualizza Programma
URL:https://radioterapiaitalia.it/event/sharing-ideas-confronto-sul-trattamento-del-tumore-della-prostata-recidivo-sensibile-e-resistente-alla-castrazione-14-21-dicembre-2020/
CATEGORIES:CORSI E CONGRESSI PATROCINATI AIRO
ATTACH;FMTTYPE=:
END:VEVENT
END:VCALENDAR