BEGIN:VCALENDAR
VERSION:2.0
PRODID:-//AIRO - ECPv6.15.11//NONSGML v1.0//EN
CALSCALE:GREGORIAN
METHOD:PUBLISH
X-ORIGINAL-URL:https://radioterapiaitalia.it
X-WR-CALDESC:Eventi per AIRO
REFRESH-INTERVAL;VALUE=DURATION:PT1H
X-Robots-Tag:noindex
X-PUBLISHED-TTL:PT1H
BEGIN:VTIMEZONE
TZID:Europe/Rome
BEGIN:DAYLIGHT
TZOFFSETFROM:+0100
TZOFFSETTO:+0200
TZNAME:CEST
DTSTART:20190331T010000
END:DAYLIGHT
BEGIN:STANDARD
TZOFFSETFROM:+0200
TZOFFSETTO:+0100
TZNAME:CET
DTSTART:20191027T010000
END:STANDARD
BEGIN:DAYLIGHT
TZOFFSETFROM:+0100
TZOFFSETTO:+0200
TZNAME:CEST
DTSTART:20200329T010000
END:DAYLIGHT
BEGIN:STANDARD
TZOFFSETFROM:+0200
TZOFFSETTO:+0100
TZNAME:CET
DTSTART:20201025T010000
END:STANDARD
BEGIN:DAYLIGHT
TZOFFSETFROM:+0100
TZOFFSETTO:+0200
TZNAME:CEST
DTSTART:20210328T010000
END:DAYLIGHT
BEGIN:STANDARD
TZOFFSETFROM:+0200
TZOFFSETTO:+0100
TZNAME:CET
DTSTART:20211031T010000
END:STANDARD
END:VTIMEZONE
BEGIN:VEVENT
DTSTART;TZID=Europe/Rome:20201110T090000
DTEND;TZID=Europe/Rome:20201111T160000
DTSTAMP:20260423T010616
CREATED:20200703T115732Z
LAST-MODIFIED:20200703T115732Z
UID:20106-1604998800-1605110400@radioterapiaitalia.it
SUMMARY:Corso di formazione a distanza sul contouring delle neoplasie dell’Ipofaringe - 10-11 Novembre 2020
DESCRIPTION:Visualizza Programma e Scheda di Iscrizione \nUO di Radioterapia Ospedale del Mare\, ASL Napoli 1 Centro\, Napoli
URL:https://radioterapiaitalia.it/event/corso-di-formazione-a-distanza-sul-contouring-delle-neoplasie-dellipofaringe-10-11-novembre-2020/
CATEGORIES:CORSI E CONGRESSI AIRO,CORSI E CONGRESSI PATROCINATI AIRO
ATTACH;FMTTYPE=:
END:VEVENT
BEGIN:VEVENT
DTSTART;TZID=Europe/Rome:20201110T090000
DTEND;TZID=Europe/Rome:20201111T160000
DTSTAMP:20260423T010616
CREATED:20200703T115732Z
LAST-MODIFIED:20200703T115732Z
UID:42627-1604998800-1605110400@radioterapiaitalia.it
SUMMARY:Corso di formazione a distanza sul contouring delle neoplasie dell’Ipofaringe - 10-11 Novembre 2020
DESCRIPTION:Visualizza Programma e Scheda di Iscrizione \nUO di Radioterapia Ospedale del Mare\, ASL Napoli 1 Centro\, Napoli
URL:https://radioterapiaitalia.it/event/corso-di-formazione-a-distanza-sul-contouring-delle-neoplasie-dellipofaringe-10-11-novembre-2020-2/
CATEGORIES:CORSI E CONGRESSI AIRO,CORSI E CONGRESSI PATROCINATI AIRO
ATTACH;FMTTYPE=:
END:VEVENT
BEGIN:VEVENT
DTSTART;TZID=Europe/Rome:20201113T140000
DTEND;TZID=Europe/Rome:20201113T180000
DTSTAMP:20260423T010616
CREATED:20201016T112520Z
LAST-MODIFIED:20201016T112520Z
UID:42633-1605276000-1605290400@radioterapiaitalia.it
SUMMARY:Hot Questions in Uro Oncologia: tumore prostatico ad alto rischio- Fad sincrona (webinar) - 13 Novembre 2020
DESCRIPTION:Evento organizzato dal Gruppo Regionale AIRO Piemonte Valled’Aosta Liguria \nVisualizza Programma
URL:https://radioterapiaitalia.it/event/hot-questions-in-uro-oncologia-tumore-prostatico-ad-alto-rischio-fad-sincrona-webinar-13-novembre-2020-2/
CATEGORIES:CORSI E CONGRESSI AIRO,CORSI E CONGRESSI PATROCINATI AIRO
ATTACH;FMTTYPE=:
END:VEVENT
BEGIN:VEVENT
DTSTART;TZID=Europe/Rome:20201113T140000
DTEND;TZID=Europe/Rome:20201113T180000
DTSTAMP:20260423T010616
CREATED:20201016T112520Z
LAST-MODIFIED:20201016T112520Z
UID:20384-1605276000-1605290400@radioterapiaitalia.it
SUMMARY:Hot Questions in Uro Oncologia: tumore prostatico ad alto rischio- Fad sincrona (webinar) - 13 Novembre 2020
DESCRIPTION:Evento organizzato dal Gruppo Regionale AIRO Piemonte Valled’Aosta Liguria \nVisualizza Programma
URL:https://radioterapiaitalia.it/event/hot-questions-in-uro-oncologia-tumore-prostatico-ad-alto-rischio-fad-sincrona-webinar-13-novembre-2020/
CATEGORIES:CORSI E CONGRESSI AIRO,CORSI E CONGRESSI PATROCINATI AIRO
ATTACH;FMTTYPE=:
END:VEVENT
BEGIN:VEVENT
DTSTART;TZID=Europe/Rome:20201114T090000
DTEND;TZID=Europe/Rome:20201114T140000
DTSTAMP:20260423T010616
CREATED:20201111T162512Z
LAST-MODIFIED:20201111T162512Z
UID:20489-1605344400-1605362400@radioterapiaitalia.it
SUMMARY:RICERCA CLINICA E PATIENT ENGAGEMENT dalla teoria alla pratica in URO-ONCOLOGIA 2020 - 14 Novembre 2020
DESCRIPTION:Associazione PALINURO \nCONGRESSO ON-LINE INTERATTIVO – MODALITÀ FAD SINCRONA \nVisualizza Programma
URL:https://radioterapiaitalia.it/event/ricerca-clinica-e-patient-engagement-dalla-teoria-alla-pratica-in-uro-oncologia-2020-14-novembre-2020/
CATEGORIES:CORSI E CONGRESSI PATROCINATI AIRO
ATTACH;FMTTYPE=:
END:VEVENT
BEGIN:VEVENT
DTSTART;TZID=Europe/Rome:20201114T090000
DTEND;TZID=Europe/Rome:20201114T140000
DTSTAMP:20260423T010616
CREATED:20201111T162512Z
LAST-MODIFIED:20201111T162512Z
UID:42635-1605344400-1605362400@radioterapiaitalia.it
SUMMARY:RICERCA CLINICA E PATIENT ENGAGEMENT dalla teoria alla pratica in URO-ONCOLOGIA 2020 - 14 Novembre 2020
DESCRIPTION:Associazione PALINURO \nCONGRESSO ON-LINE INTERATTIVO – MODALITÀ FAD SINCRONA \nVisualizza Programma
URL:https://radioterapiaitalia.it/event/ricerca-clinica-e-patient-engagement-dalla-teoria-alla-pratica-in-uro-oncologia-2020-14-novembre-2020-2/
CATEGORIES:CORSI E CONGRESSI PATROCINATI AIRO
ATTACH;FMTTYPE=:
END:VEVENT
BEGIN:VEVENT
DTSTART;TZID=Europe/Rome:20201120T090000
DTEND;TZID=Europe/Rome:20201120T143000
DTSTAMP:20260423T010616
CREATED:20200928T110810Z
LAST-MODIFIED:20200928T110810Z
UID:20283-1605862800-1605882600@radioterapiaitalia.it
SUMMARY:Convegno AIRO TRIVENETO         "I.R. ON.M.A.N. 2020" - Virtual Meeting - 20 Novembre 2020
DESCRIPTION:Visualizza Programma \nPer info ed iscrizioni: http://www.events-communication.com/event/ironman-2020/ \nVideo di presentazione dell’evento del Dott. Renzo Mazzarotto – Coordinatore del Gruppo Regionale AIRO Triveneto:  https://www.youtube.com/watch?v=CwCsHFXLsII&t=9s
URL:https://radioterapiaitalia.it/event/convegno-airo-triveneto-i-r-on-m-a-n-2020-20-novembre-2020/
CATEGORIES:CORSI E CONGRESSI AIRO,CORSI E CONGRESSI PATROCINATI AIRO
ATTACH;FMTTYPE=:
END:VEVENT
BEGIN:VEVENT
DTSTART;TZID=Europe/Rome:20201120T090000
DTEND;TZID=Europe/Rome:20201120T143000
DTSTAMP:20260423T010616
CREATED:20200928T110810Z
LAST-MODIFIED:20200928T110810Z
UID:42629-1605862800-1605882600@radioterapiaitalia.it
SUMMARY:Convegno AIRO TRIVENETO         "I.R. ON.M.A.N. 2020" - Virtual Meeting - 20 Novembre 2020
DESCRIPTION:Visualizza Programma \nPer info ed iscrizioni: http://www.events-communication.com/event/ironman-2020/ \nVideo di presentazione dell’evento del Dott. Renzo Mazzarotto – Coordinatore del Gruppo Regionale AIRO Triveneto:  https://www.youtube.com/watch?v=CwCsHFXLsII&t=9s
URL:https://radioterapiaitalia.it/event/convegno-airo-triveneto-i-r-on-m-a-n-2020-20-novembre-2020-2/
CATEGORIES:CORSI E CONGRESSI AIRO,CORSI E CONGRESSI PATROCINATI AIRO
ATTACH;FMTTYPE=:
END:VEVENT
BEGIN:VEVENT
DTSTART;TZID=Europe/Rome:20201121T083000
DTEND;TZID=Europe/Rome:20201121T140000
DTSTAMP:20260423T010616
CREATED:20201020T163602Z
LAST-MODIFIED:20201020T163602Z
UID:20417-1605947400-1605967200@radioterapiaitalia.it
SUMMARY:GESTIONE MULTIDISCIPLINARE DELLE NEOPLASIE GINECOLOGICHE: nuovi trattamenti farmacologici e radioterapici - 21 Novembre 2020
DESCRIPTION:Corso di formazione online \nVisualizza Programma
URL:https://radioterapiaitalia.it/event/gestione-multidisciplinare-delle-neoplasie-ginecologiche-nuovi-trattamenti-farmacologici-e-radioterapici-21-novembre-2020/
CATEGORIES:CORSI E CONGRESSI PATROCINATI AIRO
ATTACH;FMTTYPE=:
END:VEVENT
BEGIN:VEVENT
DTSTART;TZID=Europe/Rome:20201121T083000
DTEND;TZID=Europe/Rome:20201121T140000
DTSTAMP:20260423T010616
CREATED:20201020T163602Z
LAST-MODIFIED:20201020T163602Z
UID:42634-1605947400-1605967200@radioterapiaitalia.it
SUMMARY:GESTIONE MULTIDISCIPLINARE DELLE NEOPLASIE GINECOLOGICHE: nuovi trattamenti farmacologici e radioterapici - 21 Novembre 2020
DESCRIPTION:Corso di formazione online \nVisualizza Programma
URL:https://radioterapiaitalia.it/event/gestione-multidisciplinare-delle-neoplasie-ginecologiche-nuovi-trattamenti-farmacologici-e-radioterapici-21-novembre-2020-2/
CATEGORIES:CORSI E CONGRESSI PATROCINATI AIRO
ATTACH;FMTTYPE=:
END:VEVENT
BEGIN:VEVENT
DTSTART;TZID=Europe/Rome:20201123T080000
DTEND;TZID=Europe/Rome:20201124T173000
DTSTAMP:20260423T010616
CREATED:20200508T005026Z
LAST-MODIFIED:20200508T005026Z
UID:19524-1606118400-1606239000@radioterapiaitalia.it
SUMMARY:30° Residential Course - Modern Radiotherapy and Precision Oncology - Roma 23-24 Novembre 2020
DESCRIPTION:Visualizza Programma \n\nVisualizza invito del Prof. Valentini per i Soci AIRO \nPer iscrizioni: \nwww.unicatt.it\, \n http://fopecom-rm.unicatt.it/fopecomonline/default_eng.aspx?Edizione=1&IdEvento=7045
URL:https://radioterapiaitalia.it/event/30-residential-course-precision-oncology-dilemma-or-integration-between-technology-and-molecular-oncology-3-roma-23-25-novembre-2020/
CATEGORIES:CORSI E CONGRESSI PATROCINATI AIRO
ATTACH;FMTTYPE=:
END:VEVENT
BEGIN:VEVENT
DTSTART;TZID=Europe/Rome:20201123T080000
DTEND;TZID=Europe/Rome:20201124T173000
DTSTAMP:20260423T010616
CREATED:20200508T005026Z
LAST-MODIFIED:20200508T005026Z
UID:42625-1606118400-1606239000@radioterapiaitalia.it
SUMMARY:30° Residential Course - Modern Radiotherapy and Precision Oncology - Roma 23-24 Novembre 2020
DESCRIPTION:Visualizza Programma \n\nVisualizza invito del Prof. Valentini per i Soci AIRO \nPer iscrizioni: \nwww.unicatt.it\, \n http://fopecom-rm.unicatt.it/fopecomonline/default_eng.aspx?Edizione=1&IdEvento=7045
URL:https://radioterapiaitalia.it/event/30-residential-course-precision-oncology-dilemma-or-integration-between-technology-and-molecular-oncology-3-roma-23-25-novembre-2020-2/
CATEGORIES:CORSI E CONGRESSI PATROCINATI AIRO
ATTACH;FMTTYPE=:
END:VEVENT
BEGIN:VEVENT
DTSTART;TZID=Europe/Rome:20201123T083000
DTEND;TZID=Europe/Rome:20201123T183000
DTSTAMP:20260423T010616
CREATED:20201120T112623Z
LAST-MODIFIED:20201120T112623Z
UID:20621-1606120200-1606156200@radioterapiaitalia.it
SUMMARY:CORSO WEBINAR Corso Multidisciplinare online sulle controversie cliniche nella gestione delle neoplasie urogenitali 1° edizione Tumore del rene
DESCRIPTION:Visualizza Programma
URL:https://radioterapiaitalia.it/event/corso-webinar-corso-multidisciplinare-online-sulle-controversie-cliniche-nella-gestione-delle-neoplasie-urogenitali-1-edizione-tumore-del-rene/
CATEGORIES:CORSI E CONGRESSI PATROCINATI AIRO
ATTACH;FMTTYPE=:
END:VEVENT
BEGIN:VEVENT
DTSTART;TZID=Europe/Rome:20201123T083000
DTEND;TZID=Europe/Rome:20201123T183000
DTSTAMP:20260423T010616
CREATED:20201120T112623Z
LAST-MODIFIED:20201120T112623Z
UID:42640-1606120200-1606156200@radioterapiaitalia.it
SUMMARY:CORSO WEBINAR Corso Multidisciplinare online sulle controversie cliniche nella gestione delle neoplasie urogenitali 1° edizione Tumore del rene
DESCRIPTION:Visualizza Programma
URL:https://radioterapiaitalia.it/event/corso-webinar-corso-multidisciplinare-online-sulle-controversie-cliniche-nella-gestione-delle-neoplasie-urogenitali-1-edizione-tumore-del-rene-2/
CATEGORIES:CORSI E CONGRESSI PATROCINATI AIRO
ATTACH;FMTTYPE=:
END:VEVENT
BEGIN:VEVENT
DTSTART;TZID=Europe/Rome:20201130T084500
DTEND;TZID=Europe/Rome:20201130T150000
DTSTAMP:20260423T010616
CREATED:20201012T103101Z
LAST-MODIFIED:20201012T103101Z
UID:42631-1606725900-1606748400@radioterapiaitalia.it
SUMMARY:CORSO WEBINAR Gestione multidisciplinare delle metastasi laterocervicali da focus primitivo ignoto - 30 Novembre 2020
DESCRIPTION:Visualizza Programma
URL:https://radioterapiaitalia.it/event/corso-webinar-gestione-multidisciplinare-delle-metastasi-laterocervicali-da-focus-primitivo-ignoto-30-novembre-2020-2/
CATEGORIES:CORSI E CONGRESSI PATROCINATI AIRO
ATTACH;FMTTYPE=:
END:VEVENT
BEGIN:VEVENT
DTSTART;TZID=Europe/Rome:20201130T084500
DTEND;TZID=Europe/Rome:20201130T150000
DTSTAMP:20260423T010616
CREATED:20201012T103101Z
LAST-MODIFIED:20201012T103101Z
UID:20365-1606725900-1606748400@radioterapiaitalia.it
SUMMARY:CORSO WEBINAR Gestione multidisciplinare delle metastasi laterocervicali da focus primitivo ignoto - 30 Novembre 2020
DESCRIPTION:Visualizza Programma
URL:https://radioterapiaitalia.it/event/corso-webinar-gestione-multidisciplinare-delle-metastasi-laterocervicali-da-focus-primitivo-ignoto-30-novembre-2020/
CATEGORIES:CORSI E CONGRESSI PATROCINATI AIRO
ATTACH;FMTTYPE=:
END:VEVENT
END:VCALENDAR