BEGIN:VCALENDAR
VERSION:2.0
PRODID:-//AIRO - ECPv6.15.11//NONSGML v1.0//EN
CALSCALE:GREGORIAN
METHOD:PUBLISH
X-ORIGINAL-URL:https://radioterapiaitalia.it
X-WR-CALDESC:Eventi per AIRO
REFRESH-INTERVAL;VALUE=DURATION:PT1H
X-Robots-Tag:noindex
X-PUBLISHED-TTL:PT1H
BEGIN:VTIMEZONE
TZID:Europe/Rome
BEGIN:DAYLIGHT
TZOFFSETFROM:+0100
TZOFFSETTO:+0200
TZNAME:CEST
DTSTART:20190331T010000
END:DAYLIGHT
BEGIN:STANDARD
TZOFFSETFROM:+0200
TZOFFSETTO:+0100
TZNAME:CET
DTSTART:20191027T010000
END:STANDARD
BEGIN:DAYLIGHT
TZOFFSETFROM:+0100
TZOFFSETTO:+0200
TZNAME:CEST
DTSTART:20200329T010000
END:DAYLIGHT
BEGIN:STANDARD
TZOFFSETFROM:+0200
TZOFFSETTO:+0100
TZNAME:CET
DTSTART:20201025T010000
END:STANDARD
BEGIN:DAYLIGHT
TZOFFSETFROM:+0100
TZOFFSETTO:+0200
TZNAME:CEST
DTSTART:20210328T010000
END:DAYLIGHT
BEGIN:STANDARD
TZOFFSETFROM:+0200
TZOFFSETTO:+0100
TZNAME:CET
DTSTART:20211031T010000
END:STANDARD
END:VTIMEZONE
BEGIN:VEVENT
DTSTART;TZID=Europe/Rome:20200313T083000
DTEND;TZID=Europe/Rome:20200313T173000
DTSTAMP:20260423T191713
CREATED:20200210T114254Z
LAST-MODIFIED:20200210T114254Z
UID:42622-1584088200-1584120600@radioterapiaitalia.it
SUMMARY:ISRS EDUCATIONAL COURSE: SBRT for the treatment of liver and pancreatic cancer - Rozzano (MI) - 13 marzo 2020 --- ANNULLATO PER EMERGENZA CORONAVIRUS
DESCRIPTION:ANNULLATO PER EMERGENZA CORONAVIRUS – PUBBLICHEREMO NUOVA DATA APPENA POSSIBILE \nVisualizza Programma
URL:https://radioterapiaitalia.it/event/isrs-educational-course-sbrt-for-the-treatment-of-liver-and-pancreatic-cancer-rozzano-mi-13-marzo-2020-2/
CATEGORIES:CORSI E CONGRESSI PATROCINATI AIRO
ATTACH;FMTTYPE=:
END:VEVENT
BEGIN:VEVENT
DTSTART;TZID=Europe/Rome:20200313T083000
DTEND;TZID=Europe/Rome:20200313T173000
DTSTAMP:20260423T191713
CREATED:20200210T114254Z
LAST-MODIFIED:20200210T114254Z
UID:19295-1584088200-1584120600@radioterapiaitalia.it
SUMMARY:ISRS EDUCATIONAL COURSE: SBRT for the treatment of liver and pancreatic cancer - Rozzano (MI) - 13 marzo 2020 --- ANNULLATO PER EMERGENZA CORONAVIRUS
DESCRIPTION:ANNULLATO PER EMERGENZA CORONAVIRUS – PUBBLICHEREMO NUOVA DATA APPENA POSSIBILE \nVisualizza Programma
URL:https://radioterapiaitalia.it/event/isrs-educational-course-sbrt-for-the-treatment-of-liver-and-pancreatic-cancer-rozzano-mi-13-marzo-2020/
CATEGORIES:CORSI E CONGRESSI PATROCINATI AIRO
ATTACH;FMTTYPE=:
END:VEVENT
END:VCALENDAR