BEGIN:VCALENDAR
VERSION:2.0
PRODID:-//AIRO - ECPv6.15.11//NONSGML v1.0//EN
CALSCALE:GREGORIAN
METHOD:PUBLISH
X-ORIGINAL-URL:https://radioterapiaitalia.it
X-WR-CALDESC:Eventi per AIRO
REFRESH-INTERVAL;VALUE=DURATION:PT1H
X-Robots-Tag:noindex
X-PUBLISHED-TTL:PT1H
BEGIN:VTIMEZONE
TZID:Europe/Rome
BEGIN:DAYLIGHT
TZOFFSETFROM:+0100
TZOFFSETTO:+0200
TZNAME:CEST
DTSTART:20190331T010000
END:DAYLIGHT
BEGIN:STANDARD
TZOFFSETFROM:+0200
TZOFFSETTO:+0100
TZNAME:CET
DTSTART:20191027T010000
END:STANDARD
BEGIN:DAYLIGHT
TZOFFSETFROM:+0100
TZOFFSETTO:+0200
TZNAME:CEST
DTSTART:20200329T010000
END:DAYLIGHT
BEGIN:STANDARD
TZOFFSETFROM:+0200
TZOFFSETTO:+0100
TZNAME:CET
DTSTART:20201025T010000
END:STANDARD
BEGIN:DAYLIGHT
TZOFFSETFROM:+0100
TZOFFSETTO:+0200
TZNAME:CEST
DTSTART:20210328T010000
END:DAYLIGHT
BEGIN:STANDARD
TZOFFSETFROM:+0200
TZOFFSETTO:+0100
TZNAME:CET
DTSTART:20211031T010000
END:STANDARD
END:VTIMEZONE
BEGIN:VEVENT
DTSTART;TZID=Europe/Rome:20200115T080000
DTEND;TZID=Europe/Rome:20200115T170000
DTSTAMP:20260423T221842
CREATED:20191118T150818Z
LAST-MODIFIED:20191118T150818Z
UID:42611-1579075200-1579107600@radioterapiaitalia.it
SUMMARY:MASTER	II	LIVELLO	in	BRACHITERAPIA	GINECOLOGICA anno 2020
DESCRIPTION:Visualizza Locandina \nPer informazioni e iscrizioni https://www.uniroma1.it/it/pagina/elenco-dei-master entro 15-01-2020.
URL:https://radioterapiaitalia.it/event/masteriilivelloinbrachiterapiaginecologica-anno-2020-2/
CATEGORIES:CORSI E CONGRESSI PATROCINATI AIRO
ATTACH;FMTTYPE=:
END:VEVENT
BEGIN:VEVENT
DTSTART;TZID=Europe/Rome:20200115T080000
DTEND;TZID=Europe/Rome:20200115T170000
DTSTAMP:20260423T221842
CREATED:20191118T150818Z
LAST-MODIFIED:20191118T150818Z
UID:18633-1579075200-1579107600@radioterapiaitalia.it
SUMMARY:MASTER	II	LIVELLO	in	BRACHITERAPIA	GINECOLOGICA anno 2020
DESCRIPTION:Visualizza Locandina \nPer informazioni e iscrizioni https://www.uniroma1.it/it/pagina/elenco-dei-master entro 15-01-2020.
URL:https://radioterapiaitalia.it/event/masteriilivelloinbrachiterapiaginecologica-anno-2020/
CATEGORIES:CORSI E CONGRESSI PATROCINATI AIRO
ATTACH;FMTTYPE=:
END:VEVENT
BEGIN:VEVENT
DTSTART;TZID=Europe/Rome:20200123T094500
DTEND;TZID=Europe/Rome:20200123T170000
DTSTAMP:20260423T221842
CREATED:20191127T110641Z
LAST-MODIFIED:20191127T110641Z
UID:42616-1579772700-1579798800@radioterapiaitalia.it
SUMMARY:HIGHLIGHTS IN RADIOTERAPIA Gli studi del 2019 che modificano la pratica clinica in radioterapia esclusiva ed associazione farmacologica - Roma - 23 Gennaio 2020
DESCRIPTION:Visualizza Programma
URL:https://radioterapiaitalia.it/event/highlights-in-radioterapia-gli-studi-del-2019-che-modificano-la-pratica-clinica-in-radioterapia-esclusiva-ed-associazione-farmacologica-roma-23-gennaio-2020-2/
CATEGORIES:CORSI E CONGRESSI PATROCINATI AIRO
ATTACH;FMTTYPE=:
END:VEVENT
BEGIN:VEVENT
DTSTART;TZID=Europe/Rome:20200123T094500
DTEND;TZID=Europe/Rome:20200123T170000
DTSTAMP:20260423T221842
CREATED:20191127T110641Z
LAST-MODIFIED:20191127T110641Z
UID:18672-1579772700-1579798800@radioterapiaitalia.it
SUMMARY:HIGHLIGHTS IN RADIOTERAPIA Gli studi del 2019 che modificano la pratica clinica in radioterapia esclusiva ed associazione farmacologica - Roma - 23 Gennaio 2020
DESCRIPTION:Visualizza Programma
URL:https://radioterapiaitalia.it/event/highlights-in-radioterapia-gli-studi-del-2019-che-modificano-la-pratica-clinica-in-radioterapia-esclusiva-ed-associazione-farmacologica-roma-23-gennaio-2020/
CATEGORIES:CORSI E CONGRESSI PATROCINATI AIRO
ATTACH;FMTTYPE=:
END:VEVENT
END:VCALENDAR