BEGIN:VCALENDAR
VERSION:2.0
PRODID:-//AIRO - ECPv6.15.11//NONSGML v1.0//EN
CALSCALE:GREGORIAN
METHOD:PUBLISH
X-WR-CALNAME:AIRO
X-ORIGINAL-URL:https://radioterapiaitalia.it
X-WR-CALDESC:Eventi per AIRO
REFRESH-INTERVAL;VALUE=DURATION:PT1H
X-Robots-Tag:noindex
X-PUBLISHED-TTL:PT1H
BEGIN:VTIMEZONE
TZID:Europe/Rome
BEGIN:DAYLIGHT
TZOFFSETFROM:+0100
TZOFFSETTO:+0200
TZNAME:CEST
DTSTART:20180325T010000
END:DAYLIGHT
BEGIN:STANDARD
TZOFFSETFROM:+0200
TZOFFSETTO:+0100
TZNAME:CET
DTSTART:20181028T010000
END:STANDARD
BEGIN:DAYLIGHT
TZOFFSETFROM:+0100
TZOFFSETTO:+0200
TZNAME:CEST
DTSTART:20190331T010000
END:DAYLIGHT
BEGIN:STANDARD
TZOFFSETFROM:+0200
TZOFFSETTO:+0100
TZNAME:CET
DTSTART:20191027T010000
END:STANDARD
BEGIN:DAYLIGHT
TZOFFSETFROM:+0100
TZOFFSETTO:+0200
TZNAME:CEST
DTSTART:20200329T010000
END:DAYLIGHT
BEGIN:STANDARD
TZOFFSETFROM:+0200
TZOFFSETTO:+0100
TZNAME:CET
DTSTART:20201025T010000
END:STANDARD
END:VTIMEZONE
BEGIN:VEVENT
DTSTART;TZID=Europe/Rome:20191003T090000
DTEND;TZID=Europe/Rome:20191005T160000
DTSTAMP:20260424T013826
CREATED:20190802T164951Z
LAST-MODIFIED:20190802T164951Z
UID:42599-1570093200-1570291200@radioterapiaitalia.it
SUMMARY:Gliomi Maligni e nuove terapie terapeutiche - Brescia - 3-5 ottobre 2019
DESCRIPTION:Visualizza Programma
URL:https://radioterapiaitalia.it/event/gliomi-maligni-e-nuove-terapie-terapeutiche-brescia-3-5-ottobre-2019-2/
CATEGORIES:CORSI E CONGRESSI PATROCINATI AIRO
ATTACH;FMTTYPE=:
END:VEVENT
BEGIN:VEVENT
DTSTART;TZID=Europe/Rome:20191003T090000
DTEND;TZID=Europe/Rome:20191005T160000
DTSTAMP:20260424T013826
CREATED:20190802T164951Z
LAST-MODIFIED:20190802T164951Z
UID:18030-1570093200-1570291200@radioterapiaitalia.it
SUMMARY:Gliomi Maligni e nuove terapie terapeutiche - Brescia - 3-5 ottobre 2019
DESCRIPTION:Visualizza Programma
URL:https://radioterapiaitalia.it/event/gliomi-maligni-e-nuove-terapie-terapeutiche-brescia-3-5-ottobre-2019/
CATEGORIES:CORSI E CONGRESSI PATROCINATI AIRO
ATTACH;FMTTYPE=:
END:VEVENT
BEGIN:VEVENT
DTSTART;TZID=Europe/Rome:20191018T093000
DTEND;TZID=Europe/Rome:20191018T170000
DTSTAMP:20260424T013826
CREATED:20190802T094310Z
LAST-MODIFIED:20190802T094310Z
UID:42598-1571391000-1571418000@radioterapiaitalia.it
SUMMARY:INTEGRATE 2.0… ON THE ROAD Strategie terapeutiche nel trattamento del NSCLC in Stadio III non resecabile - Chieti 18 Ottobre 2019
DESCRIPTION:Visualizza Programma
URL:https://radioterapiaitalia.it/event/integrate-2-0-on-the-road-strategie-terapeutiche-nel-trattamento-del-nsclc-in-stadio-iii-non-resecabile-chieti-18-ottobre-2019-2/
CATEGORIES:CORSI E CONGRESSI PATROCINATI AIRO
ATTACH;FMTTYPE=:
END:VEVENT
BEGIN:VEVENT
DTSTART;TZID=Europe/Rome:20191018T093000
DTEND;TZID=Europe/Rome:20191018T170000
DTSTAMP:20260424T013826
CREATED:20190802T094310Z
LAST-MODIFIED:20190802T094310Z
UID:18019-1571391000-1571418000@radioterapiaitalia.it
SUMMARY:INTEGRATE 2.0… ON THE ROAD Strategie terapeutiche nel trattamento del NSCLC in Stadio III non resecabile - Chieti 18 Ottobre 2019
DESCRIPTION:Visualizza Programma
URL:https://radioterapiaitalia.it/event/integrate-2-0-on-the-road-strategie-terapeutiche-nel-trattamento-del-nsclc-in-stadio-iii-non-resecabile-chieti-18-ottobre-2019/
CATEGORIES:CORSI E CONGRESSI PATROCINATI AIRO
ATTACH;FMTTYPE=:
END:VEVENT
BEGIN:VEVENT
DTSTART;TZID=Europe/Rome:20191018T093000
DTEND;TZID=Europe/Rome:20191018T170000
DTSTAMP:20260424T013826
CREATED:20190924T124924Z
LAST-MODIFIED:20190924T124924Z
UID:42603-1571391000-1571418000@radioterapiaitalia.it
SUMMARY:Contouring delle neoplasie ghiandole salivari nel distretto testa collo - 18 Ottobre 2019
DESCRIPTION:Visualizza Brochure
URL:https://radioterapiaitalia.it/event/contouring-delle-neoplasie-ghiandole-salivari-nel-distretto-testa-collo-2/
CATEGORIES:CORSI E CONGRESSI PATROCINATI AIRO
ATTACH;FMTTYPE=:
END:VEVENT
BEGIN:VEVENT
DTSTART;TZID=Europe/Rome:20191018T093000
DTEND;TZID=Europe/Rome:20191018T170000
DTSTAMP:20260424T013826
CREATED:20190924T124924Z
LAST-MODIFIED:20190924T124924Z
UID:18325-1571391000-1571418000@radioterapiaitalia.it
SUMMARY:Contouring delle neoplasie ghiandole salivari nel distretto testa collo - 18 Ottobre 2019
DESCRIPTION:Visualizza Brochure
URL:https://radioterapiaitalia.it/event/contouring-delle-neoplasie-ghiandole-salivari-nel-distretto-testa-collo/
CATEGORIES:CORSI E CONGRESSI PATROCINATI AIRO
ATTACH;FMTTYPE=:
END:VEVENT
BEGIN:VEVENT
DTSTART;TZID=Europe/Rome:20191021T080000
DTEND;TZID=Europe/Rome:20191023T130000
DTSTAMP:20260424T013826
CREATED:20190618T084306Z
LAST-MODIFIED:20190618T084306Z
UID:42594-1571644800-1571835600@radioterapiaitalia.it
SUMMARY:29° Residential Course Modern Radiotherapy\, time issues and new drugs
DESCRIPTION:Visualizza Programma \n  \nPer l’iscrizione: \nwww.unicatt.it \nhttp://fopecom-rm.unicatt.it/fopecomonline/default_eng.aspx?Edizione=1&IdEvento=5823
URL:https://radioterapiaitalia.it/event/29-residential-course-modern-radiotherapy-time-issues-and-new-drugs-2/
CATEGORIES:CORSI E CONGRESSI PATROCINATI AIRO
ATTACH;FMTTYPE=:
END:VEVENT
BEGIN:VEVENT
DTSTART;TZID=Europe/Rome:20191021T080000
DTEND;TZID=Europe/Rome:20191023T130000
DTSTAMP:20260424T013826
CREATED:20190618T084306Z
LAST-MODIFIED:20190618T084306Z
UID:17871-1571644800-1571835600@radioterapiaitalia.it
SUMMARY:29° Residential Course Modern Radiotherapy\, time issues and new drugs
DESCRIPTION:Visualizza Programma \n  \nPer l’iscrizione: \nwww.unicatt.it \nhttp://fopecom-rm.unicatt.it/fopecomonline/default_eng.aspx?Edizione=1&IdEvento=5823
URL:https://radioterapiaitalia.it/event/29-residential-course-modern-radiotherapy-time-issues-and-new-drugs/
CATEGORIES:CORSI E CONGRESSI PATROCINATI AIRO
ATTACH;FMTTYPE=:
END:VEVENT
BEGIN:VEVENT
DTSTART;TZID=Europe/Rome:20191025T083000
DTEND;TZID=Europe/Rome:20191025T170000
DTSTAMP:20260424T013826
CREATED:20190924T164008Z
LAST-MODIFIED:20190924T164008Z
UID:42604-1571992200-1572022800@radioterapiaitalia.it
SUMMARY:Contouring delle neoplasie ghiandole salivari del distretto testa collo - Roma 25 Ottobre 2019
DESCRIPTION:Visualizza Brochure
URL:https://radioterapiaitalia.it/event/contouring-delle-neoplasie-ghiandole-salivari-del-distretto-testa-collo-roma-25-ottobre-2019-2/
CATEGORIES:CORSI E CONGRESSI PATROCINATI AIRO
ATTACH;FMTTYPE=:
END:VEVENT
BEGIN:VEVENT
DTSTART;TZID=Europe/Rome:20191025T083000
DTEND;TZID=Europe/Rome:20191025T170000
DTSTAMP:20260424T013826
CREATED:20190924T164008Z
LAST-MODIFIED:20190924T164008Z
UID:18336-1571992200-1572022800@radioterapiaitalia.it
SUMMARY:Contouring delle neoplasie ghiandole salivari del distretto testa collo - Roma 25 Ottobre 2019
DESCRIPTION:Visualizza Brochure
URL:https://radioterapiaitalia.it/event/contouring-delle-neoplasie-ghiandole-salivari-del-distretto-testa-collo-roma-25-ottobre-2019/
CATEGORIES:CORSI E CONGRESSI PATROCINATI AIRO
ATTACH;FMTTYPE=:
END:VEVENT
END:VCALENDAR