BEGIN:VCALENDAR
VERSION:2.0
PRODID:-//AIRO - ECPv6.15.11//NONSGML v1.0//EN
CALSCALE:GREGORIAN
METHOD:PUBLISH
X-ORIGINAL-URL:https://radioterapiaitalia.it
X-WR-CALDESC:Eventi per AIRO
REFRESH-INTERVAL;VALUE=DURATION:PT1H
X-Robots-Tag:noindex
X-PUBLISHED-TTL:PT1H
BEGIN:VTIMEZONE
TZID:Europe/Rome
BEGIN:DAYLIGHT
TZOFFSETFROM:+0100
TZOFFSETTO:+0200
TZNAME:CEST
DTSTART:20180325T010000
END:DAYLIGHT
BEGIN:STANDARD
TZOFFSETFROM:+0200
TZOFFSETTO:+0100
TZNAME:CET
DTSTART:20181028T010000
END:STANDARD
BEGIN:DAYLIGHT
TZOFFSETFROM:+0100
TZOFFSETTO:+0200
TZNAME:CEST
DTSTART:20190331T010000
END:DAYLIGHT
BEGIN:STANDARD
TZOFFSETFROM:+0200
TZOFFSETTO:+0100
TZNAME:CET
DTSTART:20191027T010000
END:STANDARD
BEGIN:DAYLIGHT
TZOFFSETFROM:+0100
TZOFFSETTO:+0200
TZNAME:CEST
DTSTART:20200329T010000
END:DAYLIGHT
BEGIN:STANDARD
TZOFFSETFROM:+0200
TZOFFSETTO:+0100
TZNAME:CET
DTSTART:20201025T010000
END:STANDARD
END:VTIMEZONE
BEGIN:VEVENT
DTSTART;TZID=Europe/Rome:20190621T150000
DTEND;TZID=Europe/Rome:20190621T180000
DTSTAMP:20260424T153619
CREATED:20190605T154249Z
LAST-MODIFIED:20190605T154249Z
UID:17833-1561129200-1561140000@radioterapiaitalia.it
SUMMARY:CORSO AIRO-LAM: LE SFIDE DELLA RADIOTERAPIA: PROBLEMATICHE\, NOVITÀ E TERAPIE INTEGRATE - Roma\, 21 Giugno 2019
DESCRIPTION:Programma \nModulo Iscrizione
URL:https://radioterapiaitalia.it/event/corso-airo-lam-le-sfide-della-radioterapia-problematiche-novita-e-terapie-integrate-roma-21-giugno-2019/
CATEGORIES:CORSI E CONGRESSI PATROCINATI AIRO
ATTACH;FMTTYPE=:
END:VEVENT
BEGIN:VEVENT
DTSTART;TZID=Europe/Rome:20190621T150000
DTEND;TZID=Europe/Rome:20190621T180000
DTSTAMP:20260424T153619
CREATED:20190605T154249Z
LAST-MODIFIED:20190605T154249Z
UID:42591-1561129200-1561140000@radioterapiaitalia.it
SUMMARY:CORSO AIRO-LAM: LE SFIDE DELLA RADIOTERAPIA: PROBLEMATICHE\, NOVITÀ E TERAPIE INTEGRATE - Roma\, 21 Giugno 2019
DESCRIPTION:Programma \nModulo Iscrizione
URL:https://radioterapiaitalia.it/event/corso-airo-lam-le-sfide-della-radioterapia-problematiche-novita-e-terapie-integrate-roma-21-giugno-2019-2/
CATEGORIES:CORSI E CONGRESSI PATROCINATI AIRO
ATTACH;FMTTYPE=:
END:VEVENT
BEGIN:VEVENT
DTSTART;TZID=Europe/Rome:20190628T100000
DTEND;TZID=Europe/Rome:20190629T123000
DTSTAMP:20260424T153619
CREATED:20190530T173635Z
LAST-MODIFIED:20190530T173635Z
UID:17804-1561716000-1561811400@radioterapiaitalia.it
SUMMARY:Corso New Advances in Neuroncology - Milano\, 28-29 giugno 2019
DESCRIPTION:Scarica Programma del Corso
URL:https://radioterapiaitalia.it/event/corso-new-advances-in-neuroncology-milano-28-29-giugno-2019/
CATEGORIES:CORSI E CONGRESSI PATROCINATI AIRO
ATTACH;FMTTYPE=:
END:VEVENT
BEGIN:VEVENT
DTSTART;TZID=Europe/Rome:20190628T100000
DTEND;TZID=Europe/Rome:20190629T123000
DTSTAMP:20260424T153619
CREATED:20190530T173635Z
LAST-MODIFIED:20190530T173635Z
UID:42590-1561716000-1561811400@radioterapiaitalia.it
SUMMARY:Corso New Advances in Neuroncology - Milano\, 28-29 giugno 2019
DESCRIPTION:Scarica Programma del Corso
URL:https://radioterapiaitalia.it/event/corso-new-advances-in-neuroncology-milano-28-29-giugno-2019-2/
CATEGORIES:CORSI E CONGRESSI PATROCINATI AIRO
ATTACH;FMTTYPE=:
END:VEVENT
END:VCALENDAR