BEGIN:VCALENDAR
VERSION:2.0
PRODID:-//AIRO - ECPv6.15.11//NONSGML v1.0//EN
CALSCALE:GREGORIAN
METHOD:PUBLISH
X-WR-CALNAME:AIRO
X-ORIGINAL-URL:https://radioterapiaitalia.it
X-WR-CALDESC:Eventi per AIRO
REFRESH-INTERVAL;VALUE=DURATION:PT1H
X-Robots-Tag:noindex
X-PUBLISHED-TTL:PT1H
BEGIN:VTIMEZONE
TZID:Europe/Rome
BEGIN:DAYLIGHT
TZOFFSETFROM:+0100
TZOFFSETTO:+0200
TZNAME:CEST
DTSTART:20170326T010000
END:DAYLIGHT
BEGIN:STANDARD
TZOFFSETFROM:+0200
TZOFFSETTO:+0100
TZNAME:CET
DTSTART:20171029T010000
END:STANDARD
BEGIN:DAYLIGHT
TZOFFSETFROM:+0100
TZOFFSETTO:+0200
TZNAME:CEST
DTSTART:20180325T010000
END:DAYLIGHT
BEGIN:STANDARD
TZOFFSETFROM:+0200
TZOFFSETTO:+0100
TZNAME:CET
DTSTART:20181028T010000
END:STANDARD
BEGIN:DAYLIGHT
TZOFFSETFROM:+0100
TZOFFSETTO:+0200
TZNAME:CEST
DTSTART:20190331T010000
END:DAYLIGHT
BEGIN:STANDARD
TZOFFSETFROM:+0200
TZOFFSETTO:+0100
TZNAME:CET
DTSTART:20191027T010000
END:STANDARD
END:VTIMEZONE
BEGIN:VEVENT
DTSTART;TZID=Europe/Rome:20181104T080000
DTEND;TZID=Europe/Rome:20181106T180000
DTSTAMP:20260425T134308
CREATED:20180318T214855Z
LAST-MODIFIED:20180318T214855Z
UID:42539-1541318400-1541527200@radioterapiaitalia.it
SUMMARY:2018 novembre 4-6\, IFHNOS WORLD TOUR - STEP IN MILAN
DESCRIPTION:SAVE THE DATE IFHNOS \nEARLY BIRD REGISTRATION scadenza al 30 giugno – prevista una quota ridotta per i Soci AIRO \nSito web dell’evento: http://www.ifhnosmilan2018.org
URL:https://radioterapiaitalia.it/event/2018-novembre-4-6-ifhnos-world-tour-step-milan-2/
CATEGORIES:CORSI E CONGRESSI PATROCINATI AIRO
ATTACH;FMTTYPE=:
END:VEVENT
BEGIN:VEVENT
DTSTART;TZID=Europe/Rome:20181104T080000
DTEND;TZID=Europe/Rome:20181106T180000
DTSTAMP:20260425T134308
CREATED:20180318T214855Z
LAST-MODIFIED:20180318T214855Z
UID:14886-1541318400-1541527200@radioterapiaitalia.it
SUMMARY:2018 novembre 4-6\, IFHNOS WORLD TOUR - STEP IN MILAN
DESCRIPTION:SAVE THE DATE IFHNOS \nEARLY BIRD REGISTRATION scadenza al 30 giugno – prevista una quota ridotta per i Soci AIRO \nSito web dell’evento: http://www.ifhnosmilan2018.org
URL:https://radioterapiaitalia.it/event/2018-novembre-4-6-ifhnos-world-tour-step-milan/
CATEGORIES:CORSI E CONGRESSI PATROCINATI AIRO
ATTACH;FMTTYPE=:
END:VEVENT
BEGIN:VEVENT
DTSTART;TZID=Europe/Rome:20181107T090000
DTEND;TZID=Europe/Rome:20181107T170000
DTSTAMP:20260425T134308
CREATED:20181011T174243Z
LAST-MODIFIED:20181011T174243Z
UID:16044-1541581200-1541610000@radioterapiaitalia.it
SUMMARY:2018 novembre 7 - 8º Meeting Imaging Metabolico PET per una moderna Radioterapia\, Reggio Emilia
DESCRIPTION:Programma
URL:https://radioterapiaitalia.it/event/2018-novembre-7-8o-meeting-imaging-metabolico-pet-per-una-moderna-radioterapia-reggio-emilia/
CATEGORIES:CORSI E CONGRESSI PATROCINATI AIRO
ATTACH;FMTTYPE=:
END:VEVENT
BEGIN:VEVENT
DTSTART;TZID=Europe/Rome:20181107T090000
DTEND;TZID=Europe/Rome:20181107T170000
DTSTAMP:20260425T134308
CREATED:20181011T174243Z
LAST-MODIFIED:20181011T174243Z
UID:42563-1541581200-1541610000@radioterapiaitalia.it
SUMMARY:2018 novembre 7 - 8º Meeting Imaging Metabolico PET per una moderna Radioterapia\, Reggio Emilia
DESCRIPTION:Programma
URL:https://radioterapiaitalia.it/event/2018-novembre-7-8o-meeting-imaging-metabolico-pet-per-una-moderna-radioterapia-reggio-emilia-2/
CATEGORIES:CORSI E CONGRESSI PATROCINATI AIRO
ATTACH;FMTTYPE=:
END:VEVENT
BEGIN:VEVENT
DTSTART;TZID=Europe/Rome:20181113T100000
DTEND;TZID=Europe/Rome:20181113T170000
DTSTAMP:20260425T134308
CREATED:20181002T163918Z
LAST-MODIFIED:20181002T163918Z
UID:15969-1542103200-1542128400@radioterapiaitalia.it
SUMMARY:2018 novembre 13 - Convegno “RADIOTERAPIA E ORMONOTERAPIA NEL CARCINOMA PROSTATICO:  STANDARD TERAPEUTICI E NUOVE PROSPETTIVE”\, Perugia
DESCRIPTION:Programma
URL:https://radioterapiaitalia.it/event/2018-novembre-13-convegno-radioterapia-e-ormonoterapia-nel-carcinoma-prostatico-standard-terapeutici-e-nuove-prospettive-perugia/
CATEGORIES:CORSI E CONGRESSI PATROCINATI AIRO
ATTACH;FMTTYPE=:
END:VEVENT
BEGIN:VEVENT
DTSTART;TZID=Europe/Rome:20181113T100000
DTEND;TZID=Europe/Rome:20181113T170000
DTSTAMP:20260425T134308
CREATED:20181002T163918Z
LAST-MODIFIED:20181002T163918Z
UID:42561-1542103200-1542128400@radioterapiaitalia.it
SUMMARY:2018 novembre 13 - Convegno “RADIOTERAPIA E ORMONOTERAPIA NEL CARCINOMA PROSTATICO:  STANDARD TERAPEUTICI E NUOVE PROSPETTIVE”\, Perugia
DESCRIPTION:Programma
URL:https://radioterapiaitalia.it/event/2018-novembre-13-convegno-radioterapia-e-ormonoterapia-nel-carcinoma-prostatico-standard-terapeutici-e-nuove-prospettive-perugia-2/
CATEGORIES:CORSI E CONGRESSI PATROCINATI AIRO
ATTACH;FMTTYPE=:
END:VEVENT
BEGIN:VEVENT
DTSTART;TZID=Europe/Rome:20181127T133000
DTEND;TZID=Europe/Rome:20181128T130000
DTSTAMP:20260425T134308
CREATED:20180801T135809Z
LAST-MODIFIED:20180801T135809Z
UID:15721-1543325400-1543410000@radioterapiaitalia.it
SUMMARY:2018 Novembre 27-28 Radiotherapy Now III Edizione\, Roma
DESCRIPTION:Programma Preliminare \nSito web dell’evento:\nhttps://www.radiotherapynow.it/
URL:https://radioterapiaitalia.it/event/2018-novembre-27-28-radiotherapy-now-iii-edizione-roma/
CATEGORIES:CORSI E CONGRESSI PATROCINATI AIRO
ATTACH;FMTTYPE=:
END:VEVENT
BEGIN:VEVENT
DTSTART;TZID=Europe/Rome:20181127T133000
DTEND;TZID=Europe/Rome:20181128T130000
DTSTAMP:20260425T134308
CREATED:20180801T135809Z
LAST-MODIFIED:20180801T135809Z
UID:42557-1543325400-1543410000@radioterapiaitalia.it
SUMMARY:2018 Novembre 27-28 Radiotherapy Now III Edizione\, Roma
DESCRIPTION:Programma Preliminare \nSito web dell’evento:\nhttps://www.radiotherapynow.it/
URL:https://radioterapiaitalia.it/event/2018-novembre-27-28-radiotherapy-now-iii-edizione-roma-2/
CATEGORIES:CORSI E CONGRESSI PATROCINATI AIRO
ATTACH;FMTTYPE=:
END:VEVENT
BEGIN:VEVENT
DTSTART;VALUE=DATE:20181128
DTEND;VALUE=DATE:20181129
DTSTAMP:20260425T134308
CREATED:20181114T192210Z
LAST-MODIFIED:20181114T192210Z
UID:16323-1543363200-1543449599@radioterapiaitalia.it
SUMMARY:Corso teorico pratico itinerante AIRO: il contouring nelle neoplasie dei eni Paranasali - Fondazione IRCCS Istituto Nazionale dei Tumori\, Milano
DESCRIPTION:Progamma \n\n\n\n\n\n\n\n\n 
URL:https://radioterapiaitalia.it/event/corso-teorico-pratico-itinerante-airo-il-contouring-nelle-neoplasie-dei-seni-para-nasali/
CATEGORIES:CORSI E CONGRESSI PATROCINATI AIRO
ATTACH;FMTTYPE=:
END:VEVENT
BEGIN:VEVENT
DTSTART;TZID=Europe/Rome:20181128T000000
DTEND;TZID=Europe/Rome:20181128T235959
DTSTAMP:20260425T134308
CREATED:20181114T192210Z
LAST-MODIFIED:20181114T192210Z
UID:42570-1543363200-1543449599@radioterapiaitalia.it
SUMMARY:Corso teorico pratico itinerante AIRO: il contouring nelle neoplasie dei eni Paranasali - Fondazione IRCCS Istituto Nazionale dei Tumori\, Milano
DESCRIPTION:Progamma \n\n\n\n\n\n\n\n\n 
URL:https://radioterapiaitalia.it/event/corso-teorico-pratico-itinerante-airo-il-contouring-nelle-neoplasie-dei-seni-para-nasali-2/
CATEGORIES:CORSI E CONGRESSI PATROCINATI AIRO
ATTACH;FMTTYPE=:
END:VEVENT
BEGIN:VEVENT
DTSTART;TZID=Europe/Rome:20181130T083000
DTEND;TZID=Europe/Rome:20181130T173000
DTSTAMP:20260425T134308
CREATED:20181019T070854Z
LAST-MODIFIED:20181019T070854Z
UID:16140-1543566600-1543599000@radioterapiaitalia.it
SUMMARY:2018 novembre 30 - Convegno AIRO Triveneto "Innovazioni in Radioterapia Oncologica e multidisciplinarietà nell'approccio alle neoplasie\, Padova
DESCRIPTION:Programma
URL:https://radioterapiaitalia.it/event/2018-novembre-30-convegno-airo-triveneto-innovazioni-in-radioterapia-oncologica-e-multidisciplinarieta-nellapproccio-alle-neoplasie/
CATEGORIES:CORSI E CONGRESSI PATROCINATI AIRO
ATTACH;FMTTYPE=:
END:VEVENT
BEGIN:VEVENT
DTSTART;TZID=Europe/Rome:20181130T083000
DTEND;TZID=Europe/Rome:20181130T173000
DTSTAMP:20260425T134308
CREATED:20181019T070854Z
LAST-MODIFIED:20181019T070854Z
UID:42566-1543566600-1543599000@radioterapiaitalia.it
SUMMARY:2018 novembre 30 - Convegno AIRO Triveneto "Innovazioni in Radioterapia Oncologica e multidisciplinarietà nell'approccio alle neoplasie\, Padova
DESCRIPTION:Programma
URL:https://radioterapiaitalia.it/event/2018-novembre-30-convegno-airo-triveneto-innovazioni-in-radioterapia-oncologica-e-multidisciplinarieta-nellapproccio-alle-neoplasie-2/
CATEGORIES:CORSI E CONGRESSI PATROCINATI AIRO
ATTACH;FMTTYPE=:
END:VEVENT
END:VCALENDAR