BEGIN:VCALENDAR
VERSION:2.0
PRODID:-//AIRO - ECPv6.15.11//NONSGML v1.0//EN
CALSCALE:GREGORIAN
METHOD:PUBLISH
X-WR-CALNAME:AIRO
X-ORIGINAL-URL:https://radioterapiaitalia.it
X-WR-CALDESC:Eventi per AIRO
REFRESH-INTERVAL;VALUE=DURATION:PT1H
X-Robots-Tag:noindex
X-PUBLISHED-TTL:PT1H
BEGIN:VTIMEZONE
TZID:Europe/Rome
BEGIN:DAYLIGHT
TZOFFSETFROM:+0100
TZOFFSETTO:+0200
TZNAME:CEST
DTSTART:20170326T010000
END:DAYLIGHT
BEGIN:STANDARD
TZOFFSETFROM:+0200
TZOFFSETTO:+0100
TZNAME:CET
DTSTART:20171029T010000
END:STANDARD
BEGIN:DAYLIGHT
TZOFFSETFROM:+0100
TZOFFSETTO:+0200
TZNAME:CEST
DTSTART:20180325T010000
END:DAYLIGHT
BEGIN:STANDARD
TZOFFSETFROM:+0200
TZOFFSETTO:+0100
TZNAME:CET
DTSTART:20181028T010000
END:STANDARD
BEGIN:DAYLIGHT
TZOFFSETFROM:+0100
TZOFFSETTO:+0200
TZNAME:CEST
DTSTART:20190331T010000
END:DAYLIGHT
BEGIN:STANDARD
TZOFFSETFROM:+0200
TZOFFSETTO:+0100
TZNAME:CET
DTSTART:20191027T010000
END:STANDARD
END:VTIMEZONE
BEGIN:VEVENT
DTSTART;TZID=Europe/Rome:20180920T143000
DTEND;TZID=Europe/Rome:20180921T170000
DTSTAMP:20260425T204449
CREATED:20180626T074848Z
LAST-MODIFIED:20180626T074848Z
UID:15520-1537453800-1537549200@radioterapiaitalia.it
SUMMARY:2018 settembre 20-21\, INCONTRI BRESCIANI DI RADIOTERAPIA ONCOLOGICA\, EDIZIONE 2018    “IMMUNITY\, DRUGS\, RADIATION:FROM BIOLOGY TO CONTEMPORARY CLINICAL ONCOLOGY”\, Brescia
DESCRIPTION:RADIATION ONCOLOGY 2018 – preliminary programme (August 2018)ĺ \nRADIATION ONCOLOGY September 2018 – registration
URL:https://radioterapiaitalia.it/event/2018-settembre-20-21-incontri-bresciani-radioterapia-oncologica-edizione-2018-immunity-drugs-radiationfrom-biology-to-contemporary-clinical-oncology-brescia/
CATEGORIES:CORSI E CONGRESSI PATROCINATI AIRO
ATTACH;FMTTYPE=:
END:VEVENT
BEGIN:VEVENT
DTSTART;TZID=Europe/Rome:20180920T143000
DTEND;TZID=Europe/Rome:20180921T170000
DTSTAMP:20260425T204449
CREATED:20180626T074848Z
LAST-MODIFIED:20180626T074848Z
UID:42554-1537453800-1537549200@radioterapiaitalia.it
SUMMARY:2018 settembre 20-21\, INCONTRI BRESCIANI DI RADIOTERAPIA ONCOLOGICA\, EDIZIONE 2018    “IMMUNITY\, DRUGS\, RADIATION:FROM BIOLOGY TO CONTEMPORARY CLINICAL ONCOLOGY”\, Brescia
DESCRIPTION:RADIATION ONCOLOGY 2018 – preliminary programme (August 2018)ĺ \nRADIATION ONCOLOGY September 2018 – registration
URL:https://radioterapiaitalia.it/event/2018-settembre-20-21-incontri-bresciani-radioterapia-oncologica-edizione-2018-immunity-drugs-radiationfrom-biology-to-contemporary-clinical-oncology-brescia-2/
CATEGORIES:CORSI E CONGRESSI PATROCINATI AIRO
ATTACH;FMTTYPE=:
END:VEVENT
BEGIN:VEVENT
DTSTART;TZID=Europe/Rome:20180924T130000
DTEND;TZID=Europe/Rome:20180925T130000
DTSTAMP:20260425T204449
CREATED:20180801T140459Z
LAST-MODIFIED:20180801T140459Z
UID:42558-1537794000-1537880400@radioterapiaitalia.it
SUMMARY:2018 Settembre 24-25\, The young side of Lymphoma"\, Roma
DESCRIPTION:Programma
URL:https://radioterapiaitalia.it/event/2018-settembre-24-25-the-young-side-of-lymphoma-roma-2/
CATEGORIES:CORSI E CONGRESSI PATROCINATI AIRO
ATTACH;FMTTYPE=:
END:VEVENT
BEGIN:VEVENT
DTSTART;TZID=Europe/Rome:20180924T130000
DTEND;TZID=Europe/Rome:20180925T130000
DTSTAMP:20260425T204449
CREATED:20180801T140459Z
LAST-MODIFIED:20180801T140459Z
UID:15726-1537794000-1537880400@radioterapiaitalia.it
SUMMARY:2018 Settembre 24-25\, The young side of Lymphoma"\, Roma
DESCRIPTION:Programma
URL:https://radioterapiaitalia.it/event/2018-settembre-24-25-the-young-side-of-lymphoma-roma/
CATEGORIES:CORSI E CONGRESSI PATROCINATI AIRO
ATTACH;FMTTYPE=:
END:VEVENT
BEGIN:VEVENT
DTSTART;TZID=Europe/Rome:20180928T080000
DTEND;TZID=Europe/Rome:20180929T173000
DTSTAMP:20260425T204449
CREATED:20180726T205951Z
LAST-MODIFIED:20180726T205951Z
UID:42556-1538121600-1538242200@radioterapiaitalia.it
SUMMARY:2018 Settembre 28-29 Prostate Cancer Unit MEETING 2018 Un obiettivo comune\, Bologna
DESCRIPTION:PROGRAMMA preliminare
URL:https://radioterapiaitalia.it/event/2018-settembre-28-29-prostate-cancer-unit-meeting-2018-un-obiettivo-comune-bologna-2/
CATEGORIES:CORSI E CONGRESSI PATROCINATI AIRO
ATTACH;FMTTYPE=:
END:VEVENT
BEGIN:VEVENT
DTSTART;TZID=Europe/Rome:20180928T080000
DTEND;TZID=Europe/Rome:20180929T173000
DTSTAMP:20260425T204449
CREATED:20180726T205951Z
LAST-MODIFIED:20180726T205951Z
UID:15704-1538121600-1538242200@radioterapiaitalia.it
SUMMARY:2018 Settembre 28-29 Prostate Cancer Unit MEETING 2018 Un obiettivo comune\, Bologna
DESCRIPTION:PROGRAMMA preliminare
URL:https://radioterapiaitalia.it/event/2018-settembre-28-29-prostate-cancer-unit-meeting-2018-un-obiettivo-comune-bologna/
CATEGORIES:CORSI E CONGRESSI PATROCINATI AIRO
ATTACH;FMTTYPE=:
END:VEVENT
BEGIN:VEVENT
DTSTART;TZID=Europe/Rome:20180928T100000
DTEND;TZID=Europe/Rome:20180929T150000
DTSTAMP:20260425T204449
CREATED:20180919T232027Z
LAST-MODIFIED:20180919T232027Z
UID:42559-1538128800-1538233200@radioterapiaitalia.it
SUMMARY:2018 settembre 28-29 - Congresso"Dall’Image-Guided all’Omics-Guided Radiotherapy: verso un nuovo orizzonte della Radioterapia sempre più tecnologica e robotizzata"\, Pisa
DESCRIPTION:Programma \nLINK DOVE EFFETTUARE LA REGISTRAZIONE:\nhttp://www.festivalinternazionaledellarobotica.it/it/portfolio/conference-radiotherapy/
URL:https://radioterapiaitalia.it/event/2018-settembre-28-29-congressodallimage-guided-allomics-guided-radiotherapy-verso-un-nuovo-orizzonte-della-radioterapia-sempre-piu-tecnologica-e-robotizzata-pisa-2/
CATEGORIES:CORSI E CONGRESSI PATROCINATI AIRO
ATTACH;FMTTYPE=:
END:VEVENT
BEGIN:VEVENT
DTSTART;TZID=Europe/Rome:20180928T100000
DTEND;TZID=Europe/Rome:20180929T150000
DTSTAMP:20260425T204449
CREATED:20180919T232027Z
LAST-MODIFIED:20180919T232027Z
UID:15843-1538128800-1538233200@radioterapiaitalia.it
SUMMARY:2018 settembre 28-29 - Congresso"Dall’Image-Guided all’Omics-Guided Radiotherapy: verso un nuovo orizzonte della Radioterapia sempre più tecnologica e robotizzata"\, Pisa
DESCRIPTION:Programma \nLINK DOVE EFFETTUARE LA REGISTRAZIONE:\nhttp://www.festivalinternazionaledellarobotica.it/it/portfolio/conference-radiotherapy/
URL:https://radioterapiaitalia.it/event/2018-settembre-28-29-congressodallimage-guided-allomics-guided-radiotherapy-verso-un-nuovo-orizzonte-della-radioterapia-sempre-piu-tecnologica-e-robotizzata-pisa/
CATEGORIES:CORSI E CONGRESSI PATROCINATI AIRO
ATTACH;FMTTYPE=:
END:VEVENT
END:VCALENDAR