BEGIN:VCALENDAR
VERSION:2.0
PRODID:-//AIRO - ECPv6.15.11//NONSGML v1.0//EN
CALSCALE:GREGORIAN
METHOD:PUBLISH
X-ORIGINAL-URL:https://radioterapiaitalia.it
X-WR-CALDESC:Eventi per AIRO
REFRESH-INTERVAL;VALUE=DURATION:PT1H
X-Robots-Tag:noindex
X-PUBLISHED-TTL:PT1H
BEGIN:VTIMEZONE
TZID:Europe/Rome
BEGIN:DAYLIGHT
TZOFFSETFROM:+0100
TZOFFSETTO:+0200
TZNAME:CEST
DTSTART:20170326T010000
END:DAYLIGHT
BEGIN:STANDARD
TZOFFSETFROM:+0200
TZOFFSETTO:+0100
TZNAME:CET
DTSTART:20171029T010000
END:STANDARD
BEGIN:DAYLIGHT
TZOFFSETFROM:+0100
TZOFFSETTO:+0200
TZNAME:CEST
DTSTART:20180325T010000
END:DAYLIGHT
BEGIN:STANDARD
TZOFFSETFROM:+0200
TZOFFSETTO:+0100
TZNAME:CET
DTSTART:20181028T010000
END:STANDARD
BEGIN:DAYLIGHT
TZOFFSETFROM:+0100
TZOFFSETTO:+0200
TZNAME:CEST
DTSTART:20190331T010000
END:DAYLIGHT
BEGIN:STANDARD
TZOFFSETFROM:+0200
TZOFFSETTO:+0100
TZNAME:CET
DTSTART:20191027T010000
END:STANDARD
END:VTIMEZONE
BEGIN:VEVENT
DTSTART;TZID=Europe/Rome:20181102T080000
DTEND;TZID=Europe/Rome:20181104T170000
DTSTAMP:20260422T003855
CREATED:20180109T130025Z
LAST-MODIFIED:20180109T130025Z
UID:14330-1541145600-1541350800@radioterapiaitalia.it
SUMMARY:2018 November 2-4 XXVIII CONGRESSO AIRO - XXXI AIRB E - X AIRO GIOVANI
DESCRIPTION:151 years Marie Curie Legacy\n\nCuring cancer using radiotherapy\n\n(Per motivi logistici è stato anticipato al 2 Novembre)\n\n\n 
URL:https://radioterapiaitalia.it/event/2018-xxviii-congresso-airo-xxxi-airb-x-airo-giovani/
CATEGORIES:CORSI E CONGRESSI AIRO
ATTACH;FMTTYPE=:
END:VEVENT
BEGIN:VEVENT
DTSTART;TZID=Europe/Rome:20181102T080000
DTEND;TZID=Europe/Rome:20181104T170000
DTSTAMP:20260422T003855
CREATED:20180109T130025Z
LAST-MODIFIED:20180109T130025Z
UID:42527-1541145600-1541350800@radioterapiaitalia.it
SUMMARY:2018 November 2-4 XXVIII CONGRESSO AIRO - XXXI AIRB E - X AIRO GIOVANI
DESCRIPTION:151 years Marie Curie Legacy\n\nCuring cancer using radiotherapy\n\n(Per motivi logistici è stato anticipato al 2 Novembre)\n\n\n 
URL:https://radioterapiaitalia.it/event/2018-xxviii-congresso-airo-xxxi-airb-x-airo-giovani-2/
CATEGORIES:CORSI E CONGRESSI AIRO
ATTACH;FMTTYPE=:
END:VEVENT
END:VCALENDAR