BEGIN:VCALENDAR
VERSION:2.0
PRODID:-//AIRO - ECPv6.15.11//NONSGML v1.0//EN
CALSCALE:GREGORIAN
METHOD:PUBLISH
X-WR-CALNAME:AIRO
X-ORIGINAL-URL:https://radioterapiaitalia.it
X-WR-CALDESC:Eventi per AIRO
REFRESH-INTERVAL;VALUE=DURATION:PT1H
X-Robots-Tag:noindex
X-PUBLISHED-TTL:PT1H
BEGIN:VTIMEZONE
TZID:Europe/Rome
BEGIN:DAYLIGHT
TZOFFSETFROM:+0100
TZOFFSETTO:+0200
TZNAME:CEST
DTSTART:20160327T010000
END:DAYLIGHT
BEGIN:STANDARD
TZOFFSETFROM:+0200
TZOFFSETTO:+0100
TZNAME:CET
DTSTART:20161030T010000
END:STANDARD
BEGIN:DAYLIGHT
TZOFFSETFROM:+0100
TZOFFSETTO:+0200
TZNAME:CEST
DTSTART:20170326T010000
END:DAYLIGHT
BEGIN:STANDARD
TZOFFSETFROM:+0200
TZOFFSETTO:+0100
TZNAME:CET
DTSTART:20171029T010000
END:STANDARD
BEGIN:DAYLIGHT
TZOFFSETFROM:+0100
TZOFFSETTO:+0200
TZNAME:CEST
DTSTART:20180325T010000
END:DAYLIGHT
BEGIN:STANDARD
TZOFFSETFROM:+0200
TZOFFSETTO:+0100
TZNAME:CET
DTSTART:20181028T010000
END:STANDARD
END:VTIMEZONE
BEGIN:VEVENT
DTSTART;TZID=Europe/Rome:20171201T080000
DTEND;TZID=Europe/Rome:20171202T170000
DTSTAMP:20260423T013518
CREATED:20170204T103304Z
LAST-MODIFIED:20170204T103304Z
UID:9014-1512115200-1512234000@radioterapiaitalia.it
SUMMARY:2017 Dicembre 1-2 Radiotherapy Now - Genova
DESCRIPTION:Programma \nScheda Iscrizione
URL:https://radioterapiaitalia.it/event/2017-dicembre-1-2-radiotherapy-now-genova/
CATEGORIES:CORSI E CONGRESSI AIRO
ATTACH;FMTTYPE=:
END:VEVENT
BEGIN:VEVENT
DTSTART;TZID=Europe/Rome:20171201T080000
DTEND;TZID=Europe/Rome:20171202T170000
DTSTAMP:20260423T013518
CREATED:20170204T103304Z
LAST-MODIFIED:20170204T103304Z
UID:42460-1512115200-1512234000@radioterapiaitalia.it
SUMMARY:2017 Dicembre 1-2 Radiotherapy Now - Genova
DESCRIPTION:Programma \nScheda Iscrizione
URL:https://radioterapiaitalia.it/event/2017-dicembre-1-2-radiotherapy-now-genova-2/
CATEGORIES:CORSI E CONGRESSI AIRO
ATTACH;FMTTYPE=:
END:VEVENT
BEGIN:VEVENT
DTSTART;TZID=Europe/Rome:20171201T083000
DTEND;TZID=Europe/Rome:20171201T173000
DTSTAMP:20260423T013518
CREATED:20171012T091602Z
LAST-MODIFIED:20171012T091602Z
UID:42508-1512117000-1512149400@radioterapiaitalia.it
SUMMARY:2017 dicembre 1\, Padova - Convegno Triveneto- Trattamento radiante del paziente oligometastatico. Dalla palliazione alla cura. Quali evidenze?
DESCRIPTION:Programma
URL:https://radioterapiaitalia.it/event/2017-dicembre-padova-convegno-triveneto-trattamento-radiante-del-paziente-oligometastatico-dalla-palliazione-alla-cura-quali-evidenze-2/
CATEGORIES:CORSI E CONGRESSI AIRO
ATTACH;FMTTYPE=:
END:VEVENT
BEGIN:VEVENT
DTSTART;TZID=Europe/Rome:20171201T083000
DTEND;TZID=Europe/Rome:20171201T173000
DTSTAMP:20260423T013518
CREATED:20171012T091602Z
LAST-MODIFIED:20171012T091602Z
UID:13383-1512117000-1512149400@radioterapiaitalia.it
SUMMARY:2017 dicembre 1\, Padova - Convegno Triveneto- Trattamento radiante del paziente oligometastatico. Dalla palliazione alla cura. Quali evidenze?
DESCRIPTION:Programma
URL:https://radioterapiaitalia.it/event/2017-dicembre-padova-convegno-triveneto-trattamento-radiante-del-paziente-oligometastatico-dalla-palliazione-alla-cura-quali-evidenze/
CATEGORIES:CORSI E CONGRESSI AIRO
ATTACH;FMTTYPE=:
END:VEVENT
END:VCALENDAR