BEGIN:VCALENDAR
VERSION:2.0
PRODID:-//AIRO - ECPv6.15.11//NONSGML v1.0//EN
CALSCALE:GREGORIAN
METHOD:PUBLISH
X-ORIGINAL-URL:https://radioterapiaitalia.it
X-WR-CALDESC:Eventi per AIRO
REFRESH-INTERVAL;VALUE=DURATION:PT1H
X-Robots-Tag:noindex
X-PUBLISHED-TTL:PT1H
BEGIN:VTIMEZONE
TZID:Europe/Rome
BEGIN:DAYLIGHT
TZOFFSETFROM:+0100
TZOFFSETTO:+0200
TZNAME:CEST
DTSTART:20160327T010000
END:DAYLIGHT
BEGIN:STANDARD
TZOFFSETFROM:+0200
TZOFFSETTO:+0100
TZNAME:CET
DTSTART:20161030T010000
END:STANDARD
BEGIN:DAYLIGHT
TZOFFSETFROM:+0100
TZOFFSETTO:+0200
TZNAME:CEST
DTSTART:20170326T010000
END:DAYLIGHT
BEGIN:STANDARD
TZOFFSETFROM:+0200
TZOFFSETTO:+0100
TZNAME:CET
DTSTART:20171029T010000
END:STANDARD
BEGIN:DAYLIGHT
TZOFFSETFROM:+0100
TZOFFSETTO:+0200
TZNAME:CEST
DTSTART:20180325T010000
END:DAYLIGHT
BEGIN:STANDARD
TZOFFSETFROM:+0200
TZOFFSETTO:+0100
TZNAME:CET
DTSTART:20181028T010000
END:STANDARD
END:VTIMEZONE
BEGIN:VEVENT
DTSTART;TZID=Europe/Rome:20171030T090000
DTEND;TZID=Europe/Rome:20171030T170000
DTSTAMP:20260423T030954
CREATED:20170829T210621Z
LAST-MODIFIED:20170829T210621Z
UID:13203-1509354000-1509382800@radioterapiaitalia.it
SUMMARY:30/10/2017 - ASSEMBLEA STRAORDINARIA (MODIFICA STATUTO-GRUPPO GINECOLOGIA)
DESCRIPTION:E’ convocata in data 30 Ottobre 2017 presso il Centro Studi Area Radiologica – via del Cardello\, 24 – Roma (RM) \nl’Assemblea Straordinaria per modifiche statutarie secondo comunicazione del presidente inviata ai soci e pubblicata sul sito dell’associazione in data 28 Luglio 2017. \nL’assemblea avrà luogo in prima convocazione alle ore 9 ed in caso non si raggiunga il quorum statutario dei soci in seconda convocazione alle ore 12:00. \nL’ordine del giorno prevede: \n\nApprovazione dell’ordine del giorno\nVotazione per modifiche statutarie (ex art. 24 Statuto AIRO) secondo i principi votati dal C.D. in  seduta 19 Giugno 2017 e comunicati ai Soci tramite email e pubblicati sul sito web con lettera del Presidente del 28 Luglio 2017\nVarie ed eventuali.\n\nVedi comunicazione sul sito della scheda elettorale e le istruzioni di voto secondo le regole statutarie. \nElvio Russi                                                                                             CUNEO\, 29 Agosto 2017 \nPresidente AIRO
URL:https://radioterapiaitalia.it/event/30-ottobre-2017-convocazione-assemblea-straordinaria-modifica-statuto/
CATEGORIES:CORSI E CONGRESSI AIRO
ATTACH;FMTTYPE=:
END:VEVENT
BEGIN:VEVENT
DTSTART;TZID=Europe/Rome:20171030T090000
DTEND;TZID=Europe/Rome:20171030T170000
DTSTAMP:20260423T030954
CREATED:20170829T210621Z
LAST-MODIFIED:20170829T210621Z
UID:42498-1509354000-1509382800@radioterapiaitalia.it
SUMMARY:30/10/2017 - ASSEMBLEA STRAORDINARIA (MODIFICA STATUTO-GRUPPO GINECOLOGIA)
DESCRIPTION:E’ convocata in data 30 Ottobre 2017 presso il Centro Studi Area Radiologica – via del Cardello\, 24 – Roma (RM) \nl’Assemblea Straordinaria per modifiche statutarie secondo comunicazione del presidente inviata ai soci e pubblicata sul sito dell’associazione in data 28 Luglio 2017. \nL’assemblea avrà luogo in prima convocazione alle ore 9 ed in caso non si raggiunga il quorum statutario dei soci in seconda convocazione alle ore 12:00. \nL’ordine del giorno prevede: \n\nApprovazione dell’ordine del giorno\nVotazione per modifiche statutarie (ex art. 24 Statuto AIRO) secondo i principi votati dal C.D. in  seduta 19 Giugno 2017 e comunicati ai Soci tramite email e pubblicati sul sito web con lettera del Presidente del 28 Luglio 2017\nVarie ed eventuali.\n\nVedi comunicazione sul sito della scheda elettorale e le istruzioni di voto secondo le regole statutarie. \nElvio Russi                                                                                             CUNEO\, 29 Agosto 2017 \nPresidente AIRO
URL:https://radioterapiaitalia.it/event/30-ottobre-2017-convocazione-assemblea-straordinaria-modifica-statuto-2/
CATEGORIES:CORSI E CONGRESSI AIRO
ATTACH;FMTTYPE=:
END:VEVENT
END:VCALENDAR