BEGIN:VCALENDAR
VERSION:2.0
PRODID:-//AIRO - ECPv6.15.11//NONSGML v1.0//EN
CALSCALE:GREGORIAN
METHOD:PUBLISH
X-ORIGINAL-URL:https://radioterapiaitalia.it
X-WR-CALDESC:Eventi per AIRO
REFRESH-INTERVAL;VALUE=DURATION:PT1H
X-Robots-Tag:noindex
X-PUBLISHED-TTL:PT1H
BEGIN:VTIMEZONE
TZID:Europe/Rome
BEGIN:DAYLIGHT
TZOFFSETFROM:+0100
TZOFFSETTO:+0200
TZNAME:CEST
DTSTART:20160327T010000
END:DAYLIGHT
BEGIN:STANDARD
TZOFFSETFROM:+0200
TZOFFSETTO:+0100
TZNAME:CET
DTSTART:20161030T010000
END:STANDARD
BEGIN:DAYLIGHT
TZOFFSETFROM:+0100
TZOFFSETTO:+0200
TZNAME:CEST
DTSTART:20170326T010000
END:DAYLIGHT
BEGIN:STANDARD
TZOFFSETFROM:+0200
TZOFFSETTO:+0100
TZNAME:CET
DTSTART:20171029T010000
END:STANDARD
BEGIN:DAYLIGHT
TZOFFSETFROM:+0100
TZOFFSETTO:+0200
TZNAME:CEST
DTSTART:20180325T010000
END:DAYLIGHT
BEGIN:STANDARD
TZOFFSETFROM:+0200
TZOFFSETTO:+0100
TZNAME:CET
DTSTART:20181028T010000
END:STANDARD
END:VTIMEZONE
BEGIN:VEVENT
DTSTART;TZID=Europe/Rome:20170609T100000
DTEND;TZID=Europe/Rome:20170609T170000
DTSTAMP:20260423T112445
CREATED:20161208T103048Z
LAST-MODIFIED:20161208T103048Z
UID:7151-1497002400-1497027600@radioterapiaitalia.it
SUMMARY:2017 Giugno 9 Corso Itinerante Approccio multidisciplinare nel trattamento del microcitoma polmonare: tra tradizione e prospettive future
DESCRIPTION:Programma 9 giugno
URL:https://radioterapiaitalia.it/event/2017-giugno-9-approccio-multidisciplinare-nel-trattamento-del-microcitoma-polmonare-tradizione-prospettive-future/
CATEGORIES:CORSI E CONGRESSI AIRO
ATTACH;FMTTYPE=:
END:VEVENT
BEGIN:VEVENT
DTSTART;TZID=Europe/Rome:20170609T100000
DTEND;TZID=Europe/Rome:20170609T170000
DTSTAMP:20260423T112445
CREATED:20161208T103048Z
LAST-MODIFIED:20161208T103048Z
UID:42415-1497002400-1497027600@radioterapiaitalia.it
SUMMARY:2017 Giugno 9 Corso Itinerante Approccio multidisciplinare nel trattamento del microcitoma polmonare: tra tradizione e prospettive future
DESCRIPTION:Programma 9 giugno
URL:https://radioterapiaitalia.it/event/2017-giugno-9-approccio-multidisciplinare-nel-trattamento-del-microcitoma-polmonare-tradizione-prospettive-future-2/
CATEGORIES:CORSI E CONGRESSI AIRO
ATTACH;FMTTYPE=:
END:VEVENT
END:VCALENDAR