BEGIN:VCALENDAR
VERSION:2.0
PRODID:-//AIRO - ECPv6.15.11//NONSGML v1.0//EN
CALSCALE:GREGORIAN
METHOD:PUBLISH
X-WR-CALNAME:AIRO
X-ORIGINAL-URL:https://radioterapiaitalia.it
X-WR-CALDESC:Eventi per AIRO
REFRESH-INTERVAL;VALUE=DURATION:PT1H
X-Robots-Tag:noindex
X-PUBLISHED-TTL:PT1H
BEGIN:VTIMEZONE
TZID:Europe/Rome
BEGIN:DAYLIGHT
TZOFFSETFROM:+0100
TZOFFSETTO:+0200
TZNAME:CEST
DTSTART:20160327T010000
END:DAYLIGHT
BEGIN:STANDARD
TZOFFSETFROM:+0200
TZOFFSETTO:+0100
TZNAME:CET
DTSTART:20161030T010000
END:STANDARD
BEGIN:DAYLIGHT
TZOFFSETFROM:+0100
TZOFFSETTO:+0200
TZNAME:CEST
DTSTART:20170326T010000
END:DAYLIGHT
BEGIN:STANDARD
TZOFFSETFROM:+0200
TZOFFSETTO:+0100
TZNAME:CET
DTSTART:20171029T010000
END:STANDARD
BEGIN:DAYLIGHT
TZOFFSETFROM:+0100
TZOFFSETTO:+0200
TZNAME:CEST
DTSTART:20180325T010000
END:DAYLIGHT
BEGIN:STANDARD
TZOFFSETFROM:+0200
TZOFFSETTO:+0100
TZNAME:CET
DTSTART:20181028T010000
END:STANDARD
END:VTIMEZONE
BEGIN:VEVENT
DTSTART;TZID=Europe/Rome:20170113T080000
DTEND;TZID=Europe/Rome:20170114T170000
DTSTAMP:20260423T205754
CREATED:20161012T220807Z
LAST-MODIFIED:20161012T220807Z
UID:42400-1484294400-1484413200@radioterapiaitalia.it
SUMMARY:2017 GENNAIO 13-14 QUALITÀ e SICUREZZA NELLA MODERNA RADIOTERAPIA 3° Edizione Roma
DESCRIPTION:L’articolo 63 della Direttiva Euratom 59/13\, di prossimo recepimento\, ribadisce alcuni concetti assolutamente innovativi per quel che riguarda la Qualità e Sicurezza in Radioterapia\, in particolare: \n\nche siano adottate tutte le misure ragionevoli per ridurre al minimo la probabilità e l’entità delle esposizioni accidentali o involontarie delle persone soggette a esposizione medica;\nnel caso delle pratiche radioterapeutiche\, il programma di garanzia della qualità comprenda uno studio del rischio di esposizioni accidentali o involontarie;\nl’esercente attui\, per tutte le esposizioni mediche\, un sistema appropriato per la tenuta di registri e l’analisi di eventi implicanti o potenzialmente implicanti esposizioni accidentali o involontarie\, commisurato con il rischio.\n\n\n\n\nlocandina_corso_qual-e-sic-in-rt_rev2
URL:https://radioterapiaitalia.it/event/2017-gennaio-13-14-qualita-sicurezza-nella-moderna-radioterapia-3-edizione-roma-2/
CATEGORIES:CORSI E CONGRESSI AIRO
ATTACH;FMTTYPE=:
END:VEVENT
BEGIN:VEVENT
DTSTART;TZID=Europe/Rome:20170113T080000
DTEND;TZID=Europe/Rome:20170114T170000
DTSTAMP:20260423T205754
CREATED:20161012T220807Z
LAST-MODIFIED:20161012T220807Z
UID:6767-1484294400-1484413200@radioterapiaitalia.it
SUMMARY:2017 GENNAIO 13-14 QUALITÀ e SICUREZZA NELLA MODERNA RADIOTERAPIA 3° Edizione Roma
DESCRIPTION:L’articolo 63 della Direttiva Euratom 59/13\, di prossimo recepimento\, ribadisce alcuni concetti assolutamente innovativi per quel che riguarda la Qualità e Sicurezza in Radioterapia\, in particolare: \n\nche siano adottate tutte le misure ragionevoli per ridurre al minimo la probabilità e l’entità delle esposizioni accidentali o involontarie delle persone soggette a esposizione medica;\nnel caso delle pratiche radioterapeutiche\, il programma di garanzia della qualità comprenda uno studio del rischio di esposizioni accidentali o involontarie;\nl’esercente attui\, per tutte le esposizioni mediche\, un sistema appropriato per la tenuta di registri e l’analisi di eventi implicanti o potenzialmente implicanti esposizioni accidentali o involontarie\, commisurato con il rischio.\n\n\n\n\nlocandina_corso_qual-e-sic-in-rt_rev2
URL:https://radioterapiaitalia.it/event/2017-gennaio-13-14-qualita-sicurezza-nella-moderna-radioterapia-3-edizione-roma/
CATEGORIES:CORSI E CONGRESSI AIRO
ATTACH;FMTTYPE=:
END:VEVENT
END:VCALENDAR