BEGIN:VCALENDAR
VERSION:2.0
PRODID:-//AIRO - ECPv6.15.11//NONSGML v1.0//EN
CALSCALE:GREGORIAN
METHOD:PUBLISH
X-ORIGINAL-URL:https://radioterapiaitalia.it
X-WR-CALDESC:Eventi per AIRO
REFRESH-INTERVAL;VALUE=DURATION:PT1H
X-Robots-Tag:noindex
X-PUBLISHED-TTL:PT1H
BEGIN:VTIMEZONE
TZID:Europe/Rome
BEGIN:DAYLIGHT
TZOFFSETFROM:+0100
TZOFFSETTO:+0200
TZNAME:CEST
DTSTART:20150329T010000
END:DAYLIGHT
BEGIN:STANDARD
TZOFFSETFROM:+0200
TZOFFSETTO:+0100
TZNAME:CET
DTSTART:20151025T010000
END:STANDARD
BEGIN:DAYLIGHT
TZOFFSETFROM:+0100
TZOFFSETTO:+0200
TZNAME:CEST
DTSTART:20160327T010000
END:DAYLIGHT
BEGIN:STANDARD
TZOFFSETFROM:+0200
TZOFFSETTO:+0100
TZNAME:CET
DTSTART:20161030T010000
END:STANDARD
BEGIN:DAYLIGHT
TZOFFSETFROM:+0100
TZOFFSETTO:+0200
TZNAME:CEST
DTSTART:20170326T010000
END:DAYLIGHT
BEGIN:STANDARD
TZOFFSETFROM:+0200
TZOFFSETTO:+0100
TZNAME:CET
DTSTART:20171029T010000
END:STANDARD
END:VTIMEZONE
BEGIN:VEVENT
DTSTART;TZID=Europe/Rome:20161117T080000
DTEND;TZID=Europe/Rome:20161117T170000
DTSTAMP:20260424T015805
CREATED:20160917T143310Z
LAST-MODIFIED:20160917T143310Z
UID:6148-1479369600-1479402000@radioterapiaitalia.it
SUMMARY:Corso Itinerante AIRO  2016 Novembre 17 - Consensus Per L’irradiazione Delle Stazioni Linfonodali Mammarie
DESCRIPTION:napoli-bozza-brochure \nVenezia - Mestre 21 Ottobre 2016\nNapoli 17 Novembre 2016\nBrescia 2 Dicmbre 2016
URL:https://radioterapiaitalia.it/event/corso-itinerante-airo-2016-novembre-17-consensus-lirradiazione-delle-stazioni-linfonodali-mammarie/
CATEGORIES:CORSI E CONGRESSI AIRO
ATTACH;FMTTYPE=:
END:VEVENT
BEGIN:VEVENT
DTSTART;TZID=Europe/Rome:20161117T080000
DTEND;TZID=Europe/Rome:20161117T170000
DTSTAMP:20260424T015805
CREATED:20160917T143310Z
LAST-MODIFIED:20160917T143310Z
UID:42370-1479369600-1479402000@radioterapiaitalia.it
SUMMARY:Corso Itinerante AIRO  2016 Novembre 17 - Consensus Per L’irradiazione Delle Stazioni Linfonodali Mammarie
DESCRIPTION:napoli-bozza-brochure \nVenezia - Mestre 21 Ottobre 2016\nNapoli 17 Novembre 2016\nBrescia 2 Dicmbre 2016
URL:https://radioterapiaitalia.it/event/corso-itinerante-airo-2016-novembre-17-consensus-lirradiazione-delle-stazioni-linfonodali-mammarie-2/
CATEGORIES:CORSI E CONGRESSI AIRO
ATTACH;FMTTYPE=:
END:VEVENT
END:VCALENDAR