BEGIN:VCALENDAR
VERSION:2.0
PRODID:-//AIRO - ECPv6.15.11//NONSGML v1.0//EN
CALSCALE:GREGORIAN
METHOD:PUBLISH
X-ORIGINAL-URL:https://radioterapiaitalia.it
X-WR-CALDESC:Eventi per AIRO
REFRESH-INTERVAL;VALUE=DURATION:PT1H
X-Robots-Tag:noindex
X-PUBLISHED-TTL:PT1H
BEGIN:VTIMEZONE
TZID:Europe/Rome
BEGIN:DAYLIGHT
TZOFFSETFROM:+0100
TZOFFSETTO:+0200
TZNAME:CEST
DTSTART:20180325T010000
END:DAYLIGHT
BEGIN:STANDARD
TZOFFSETFROM:+0200
TZOFFSETTO:+0100
TZNAME:CET
DTSTART:20181028T010000
END:STANDARD
BEGIN:DAYLIGHT
TZOFFSETFROM:+0100
TZOFFSETTO:+0200
TZNAME:CEST
DTSTART:20190331T010000
END:DAYLIGHT
BEGIN:STANDARD
TZOFFSETFROM:+0200
TZOFFSETTO:+0100
TZNAME:CET
DTSTART:20191027T010000
END:STANDARD
BEGIN:DAYLIGHT
TZOFFSETFROM:+0100
TZOFFSETTO:+0200
TZNAME:CEST
DTSTART:20200329T010000
END:DAYLIGHT
BEGIN:STANDARD
TZOFFSETFROM:+0200
TZOFFSETTO:+0100
TZNAME:CET
DTSTART:20201025T010000
END:STANDARD
END:VTIMEZONE
BEGIN:VEVENT
DTSTART;VALUE=DATE:20190124
DTEND;VALUE=DATE:20190125
DTSTAMP:20260421T190047
CREATED:20181129T183101Z
LAST-MODIFIED:20181129T183101Z
UID:16381-1548288000-1548374399@radioterapiaitalia.it
SUMMARY:HIGHLIGHTS in RADIOTERAPIA: 2018  - Centro Studi dell’Area Radiologica “Il Cardello”
DESCRIPTION:  \nProgramma – Download
URL:https://radioterapiaitalia.it/event/highlights-in-radioterapia-2018/
CATEGORIES:CORSI E CONGRESSI AIRO
ATTACH;FMTTYPE=:
END:VEVENT
BEGIN:VEVENT
DTSTART;TZID=Europe/Rome:20190124T000000
DTEND;TZID=Europe/Rome:20190124T235959
DTSTAMP:20260421T190047
CREATED:20181129T183101Z
LAST-MODIFIED:20181129T183101Z
UID:42573-1548288000-1548374399@radioterapiaitalia.it
SUMMARY:HIGHLIGHTS in RADIOTERAPIA: 2018  - Centro Studi dell’Area Radiologica “Il Cardello”
DESCRIPTION:  \nProgramma – Download
URL:https://radioterapiaitalia.it/event/highlights-in-radioterapia-2018-2/
CATEGORIES:CORSI E CONGRESSI AIRO
ATTACH;FMTTYPE=:
END:VEVENT
END:VCALENDAR