BEGIN:VCALENDAR
VERSION:2.0
PRODID:-//AIRO - ECPv6.15.11//NONSGML v1.0//EN
CALSCALE:GREGORIAN
METHOD:PUBLISH
X-ORIGINAL-URL:https://radioterapiaitalia.it
X-WR-CALDESC:Eventi per AIRO
REFRESH-INTERVAL;VALUE=DURATION:PT1H
X-Robots-Tag:noindex
X-PUBLISHED-TTL:PT1H
BEGIN:VTIMEZONE
TZID:Europe/Rome
BEGIN:DAYLIGHT
TZOFFSETFROM:+0100
TZOFFSETTO:+0200
TZNAME:CEST
DTSTART:20160327T010000
END:DAYLIGHT
BEGIN:STANDARD
TZOFFSETFROM:+0200
TZOFFSETTO:+0100
TZNAME:CET
DTSTART:20161030T010000
END:STANDARD
BEGIN:DAYLIGHT
TZOFFSETFROM:+0100
TZOFFSETTO:+0200
TZNAME:CEST
DTSTART:20170326T010000
END:DAYLIGHT
BEGIN:STANDARD
TZOFFSETFROM:+0200
TZOFFSETTO:+0100
TZNAME:CET
DTSTART:20171029T010000
END:STANDARD
BEGIN:DAYLIGHT
TZOFFSETFROM:+0100
TZOFFSETTO:+0200
TZNAME:CEST
DTSTART:20180325T010000
END:DAYLIGHT
BEGIN:STANDARD
TZOFFSETFROM:+0200
TZOFFSETTO:+0100
TZNAME:CET
DTSTART:20181028T010000
END:STANDARD
END:VTIMEZONE
BEGIN:VEVENT
DTSTART;TZID=Europe/Rome:20171111T080000
DTEND;TZID=Europe/Rome:20171113T170000
DTSTAMP:20260423T013358
CREATED:20160921T213843Z
LAST-MODIFIED:20160921T213843Z
UID:42373-1510387200-1510592400@radioterapiaitalia.it
SUMMARY:2017 november 11-13 - XXVII Congresso AIRO 2017
DESCRIPTION:Il Radioterapista Oncologo tra nuovo imaging e nuovi farmaci \nRIMINI\, 11-13 novembre 2017\nPALACONGRESSI DI RIMINI \nAperte iscrizioni a Lab contouring e Drug Lab
URL:https://radioterapiaitalia.it/event/xxvii-congresso-airo-2017-2/
CATEGORIES:CORSI E CONGRESSI AIRO
ATTACH;FMTTYPE=:
END:VEVENT
BEGIN:VEVENT
DTSTART;TZID=Europe/Rome:20171111T080000
DTEND;TZID=Europe/Rome:20171113T170000
DTSTAMP:20260423T013358
CREATED:20160921T213843Z
LAST-MODIFIED:20160921T213843Z
UID:6356-1510387200-1510592400@radioterapiaitalia.it
SUMMARY:2017 november 11-13 - XXVII Congresso AIRO 2017
DESCRIPTION:Il Radioterapista Oncologo tra nuovo imaging e nuovi farmaci \nRIMINI\, 11-13 novembre 2017\nPALACONGRESSI DI RIMINI \nAperte iscrizioni a Lab contouring e Drug Lab
URL:https://radioterapiaitalia.it/event/xxvii-congresso-airo-2017/
CATEGORIES:CORSI E CONGRESSI AIRO
ATTACH;FMTTYPE=:
END:VEVENT
BEGIN:VEVENT
DTSTART;TZID=Europe/Rome:20171125T081500
DTEND;TZID=Europe/Rome:20171125T190000
DTSTAMP:20260423T013358
CREATED:20171104T171633Z
LAST-MODIFIED:20171104T171633Z
UID:42519-1511597700-1511636400@radioterapiaitalia.it
SUMMARY:2017 novembre 25\, Statte (TA) - PROFILASSI E TERAPIA DEGLI EFFETTI COLLATERALI E COMPLICANZE DEL TRATTAMENTO RADIOTERAPICO ESCLUSIVO O DI ASSOCIAZIONE NELLE NEOPLASIE DEL TESTA-COLLO
DESCRIPTION:PROGRAMMA \nScheda d’Iscrizione
URL:https://radioterapiaitalia.it/event/2017-novembre-25-statte-ta-profilassi-terapia-degli-effetti-collaterali-complicanze-del-trattamento-radioterapico-esclusivo-associazione-nelle-neoplasie-del-testa-collo-2/
CATEGORIES:CORSI E CONGRESSI AIRO
ATTACH;FMTTYPE=:
END:VEVENT
BEGIN:VEVENT
DTSTART;TZID=Europe/Rome:20171125T081500
DTEND;TZID=Europe/Rome:20171125T190000
DTSTAMP:20260423T013358
CREATED:20171104T171633Z
LAST-MODIFIED:20171104T171633Z
UID:13533-1511597700-1511636400@radioterapiaitalia.it
SUMMARY:2017 novembre 25\, Statte (TA) - PROFILASSI E TERAPIA DEGLI EFFETTI COLLATERALI E COMPLICANZE DEL TRATTAMENTO RADIOTERAPICO ESCLUSIVO O DI ASSOCIAZIONE NELLE NEOPLASIE DEL TESTA-COLLO
DESCRIPTION:PROGRAMMA \nScheda d’Iscrizione
URL:https://radioterapiaitalia.it/event/2017-novembre-25-statte-ta-profilassi-terapia-degli-effetti-collaterali-complicanze-del-trattamento-radioterapico-esclusivo-associazione-nelle-neoplasie-del-testa-collo/
CATEGORIES:CORSI E CONGRESSI AIRO
ATTACH;FMTTYPE=:
END:VEVENT
END:VCALENDAR