BEGIN:VCALENDAR
VERSION:2.0
PRODID:-//AIRO - ECPv6.15.11//NONSGML v1.0//EN
CALSCALE:GREGORIAN
METHOD:PUBLISH
X-ORIGINAL-URL:https://radioterapiaitalia.it
X-WR-CALDESC:Eventi per AIRO
REFRESH-INTERVAL;VALUE=DURATION:PT1H
X-Robots-Tag:noindex
X-PUBLISHED-TTL:PT1H
BEGIN:VTIMEZONE
TZID:Europe/Rome
BEGIN:DAYLIGHT
TZOFFSETFROM:+0100
TZOFFSETTO:+0200
TZNAME:CEST
DTSTART:20160327T010000
END:DAYLIGHT
BEGIN:STANDARD
TZOFFSETFROM:+0200
TZOFFSETTO:+0100
TZNAME:CET
DTSTART:20161030T010000
END:STANDARD
BEGIN:DAYLIGHT
TZOFFSETFROM:+0100
TZOFFSETTO:+0200
TZNAME:CEST
DTSTART:20170326T010000
END:DAYLIGHT
BEGIN:STANDARD
TZOFFSETFROM:+0200
TZOFFSETTO:+0100
TZNAME:CET
DTSTART:20171029T010000
END:STANDARD
BEGIN:DAYLIGHT
TZOFFSETFROM:+0100
TZOFFSETTO:+0200
TZNAME:CEST
DTSTART:20180325T010000
END:DAYLIGHT
BEGIN:STANDARD
TZOFFSETFROM:+0200
TZOFFSETTO:+0100
TZNAME:CET
DTSTART:20181028T010000
END:STANDARD
END:VTIMEZONE
BEGIN:VEVENT
DTSTART;TZID=Europe/Rome:20170402T080000
DTEND;TZID=Europe/Rome:20170402T170000
DTSTAMP:20260423T160547
CREATED:20170402T025059Z
LAST-MODIFIED:20170402T025059Z
UID:42473-1491120000-1491152400@radioterapiaitalia.it
SUMMARY:Nuovo codice degli appalti
DESCRIPTION:Brochure 27.04
URL:https://radioterapiaitalia.it/event/codice-degli-appalti-2/
CATEGORIES:CORSI E CONGRESSI AIRO
ATTACH;FMTTYPE=:
END:VEVENT
BEGIN:VEVENT
DTSTART;TZID=Europe/Rome:20170402T080000
DTEND;TZID=Europe/Rome:20170402T170000
DTSTAMP:20260423T160547
CREATED:20170402T025059Z
LAST-MODIFIED:20170402T025059Z
UID:10616-1491120000-1491152400@radioterapiaitalia.it
SUMMARY:Nuovo codice degli appalti
DESCRIPTION:Brochure 27.04
URL:https://radioterapiaitalia.it/event/codice-degli-appalti/
CATEGORIES:CORSI E CONGRESSI AIRO
ATTACH;FMTTYPE=:
END:VEVENT
BEGIN:VEVENT
DTSTART;TZID=Europe/Rome:20170421T083000
DTEND;TZID=Europe/Rome:20170421T170000
DTSTAMP:20260423T160547
CREATED:20170202T223117Z
LAST-MODIFIED:20170202T223117Z
UID:42458-1492763400-1492794000@radioterapiaitalia.it
SUMMARY:2017 aprile 21 - CORSO ITINERANTE AIRO "La radioterapia nel trattamento multidisciplinare delle neoplasie epatiche primitive e secondarie. Indicazioni e criteri di trattamento"\, Trento
DESCRIPTION:Programma \nscheda di iscrizione
URL:https://radioterapiaitalia.it/event/2017-aprile-21-corso-itinerante-airo-la-radioterapia-nel-trattamento-multidisciplinare-delle-neoplasie-epatiche-primitive-secondarie-indicazioni-criteri-trattamento-trento-2/
CATEGORIES:CORSI E CONGRESSI AIRO
ATTACH;FMTTYPE=:
END:VEVENT
BEGIN:VEVENT
DTSTART;TZID=Europe/Rome:20170421T083000
DTEND;TZID=Europe/Rome:20170421T170000
DTSTAMP:20260423T160547
CREATED:20170202T223117Z
LAST-MODIFIED:20170202T223117Z
UID:8970-1492763400-1492794000@radioterapiaitalia.it
SUMMARY:2017 aprile 21 - CORSO ITINERANTE AIRO "La radioterapia nel trattamento multidisciplinare delle neoplasie epatiche primitive e secondarie. Indicazioni e criteri di trattamento"\, Trento
DESCRIPTION:Programma \nscheda di iscrizione
URL:https://radioterapiaitalia.it/event/2017-aprile-21-corso-itinerante-airo-la-radioterapia-nel-trattamento-multidisciplinare-delle-neoplasie-epatiche-primitive-secondarie-indicazioni-criteri-trattamento-trento/
CATEGORIES:CORSI E CONGRESSI AIRO
ATTACH;FMTTYPE=:
END:VEVENT
BEGIN:VEVENT
DTSTART;TZID=Europe/Rome:20170427T080000
DTEND;TZID=Europe/Rome:20170427T170000
DTSTAMP:20260423T160547
CREATED:20170402T174151Z
LAST-MODIFIED:20170402T174151Z
UID:42474-1493280000-1493312400@radioterapiaitalia.it
SUMMARY:2017 Aprile 27 Il Nuovo Codice degli Appalti - Gratuito per i soci AIRO
DESCRIPTION:Corso Gratuito per i soci AIRO\nBrochure 27.04.17
URL:https://radioterapiaitalia.it/event/2017-aprile-27-codice-degli-appalti-2/
CATEGORIES:CORSI E CONGRESSI AIRO
ATTACH;FMTTYPE=:
END:VEVENT
BEGIN:VEVENT
DTSTART;TZID=Europe/Rome:20170427T080000
DTEND;TZID=Europe/Rome:20170427T170000
DTSTAMP:20260423T160547
CREATED:20170402T174151Z
LAST-MODIFIED:20170402T174151Z
UID:10654-1493280000-1493312400@radioterapiaitalia.it
SUMMARY:2017 Aprile 27 Il Nuovo Codice degli Appalti - Gratuito per i soci AIRO
DESCRIPTION:Corso Gratuito per i soci AIRO\nBrochure 27.04.17
URL:https://radioterapiaitalia.it/event/2017-aprile-27-codice-degli-appalti/
CATEGORIES:CORSI E CONGRESSI AIRO
ATTACH;FMTTYPE=:
END:VEVENT
END:VCALENDAR