BEGIN:VCALENDAR
VERSION:2.0
PRODID:-//AIRO - ECPv6.15.11//NONSGML v1.0//EN
CALSCALE:GREGORIAN
METHOD:PUBLISH
X-WR-CALNAME:AIRO
X-ORIGINAL-URL:https://radioterapiaitalia.it
X-WR-CALDESC:Eventi per AIRO
REFRESH-INTERVAL;VALUE=DURATION:PT1H
X-Robots-Tag:noindex
X-PUBLISHED-TTL:PT1H
BEGIN:VTIMEZONE
TZID:Europe/Rome
BEGIN:DAYLIGHT
TZOFFSETFROM:+0100
TZOFFSETTO:+0200
TZNAME:CEST
DTSTART:20160327T010000
END:DAYLIGHT
BEGIN:STANDARD
TZOFFSETFROM:+0200
TZOFFSETTO:+0100
TZNAME:CET
DTSTART:20161030T010000
END:STANDARD
BEGIN:DAYLIGHT
TZOFFSETFROM:+0100
TZOFFSETTO:+0200
TZNAME:CEST
DTSTART:20170326T010000
END:DAYLIGHT
BEGIN:STANDARD
TZOFFSETFROM:+0200
TZOFFSETTO:+0100
TZNAME:CET
DTSTART:20171029T010000
END:STANDARD
BEGIN:DAYLIGHT
TZOFFSETFROM:+0100
TZOFFSETTO:+0200
TZNAME:CEST
DTSTART:20180325T010000
END:DAYLIGHT
BEGIN:STANDARD
TZOFFSETFROM:+0200
TZOFFSETTO:+0100
TZNAME:CET
DTSTART:20181028T010000
END:STANDARD
END:VTIMEZONE
BEGIN:VEVENT
DTSTART;TZID=Europe/Rome:20170325T080000
DTEND;TZID=Europe/Rome:20170325T170000
DTSTAMP:20260423T161742
CREATED:20161006T180517Z
LAST-MODIFIED:20161006T180517Z
UID:42395-1490428800-1490461200@radioterapiaitalia.it
SUMMARY:2017 marzo 25 Radioterapia Lombarda 2.0. Milano
DESCRIPTION:
URL:https://radioterapiaitalia.it/event/2017-marzo-25-radioterapia-lombarda-2-0-milano-2/
CATEGORIES:CORSI E CONGRESSI AIRO
END:VEVENT
BEGIN:VEVENT
DTSTART;TZID=Europe/Rome:20170325T080000
DTEND;TZID=Europe/Rome:20170325T170000
DTSTAMP:20260423T161742
CREATED:20161006T180517Z
LAST-MODIFIED:20161006T180517Z
UID:6672-1490428800-1490461200@radioterapiaitalia.it
SUMMARY:2017 marzo 25 Radioterapia Lombarda 2.0. Milano
DESCRIPTION:
URL:https://radioterapiaitalia.it/event/2017-marzo-25-radioterapia-lombarda-2-0-milano/
CATEGORIES:CORSI E CONGRESSI AIRO
END:VEVENT
BEGIN:VEVENT
DTSTART;TZID=Europe/Rome:20170325T080000
DTEND;TZID=Europe/Rome:20170325T170000
DTSTAMP:20260423T161742
CREATED:20170127T000114Z
LAST-MODIFIED:20170127T000114Z
UID:8859-1490428800-1490461200@radioterapiaitalia.it
SUMMARY:2017 marzo 25 Radioterapia Lombarda 2.0: il futuro è oggi
DESCRIPTION:Programma Congresso 25 marzo 2017 \nIl corso potrà erogare n. 7 crediti ECM ai seguenti professionisti: \nMedico Chirurgo\, specializzato in Radioterapia Fisico Tecnico sanitario di radiologia medica \n 
URL:https://radioterapiaitalia.it/event/2017-marzo-25-radioterapia-lombarda-2-0-futuro-oggi/
CATEGORIES:CORSI E CONGRESSI AIRO
ATTACH;FMTTYPE=:
END:VEVENT
BEGIN:VEVENT
DTSTART;TZID=Europe/Rome:20170325T080000
DTEND;TZID=Europe/Rome:20170325T170000
DTSTAMP:20260423T161742
CREATED:20170127T000114Z
LAST-MODIFIED:20170127T000114Z
UID:42457-1490428800-1490461200@radioterapiaitalia.it
SUMMARY:2017 marzo 25 Radioterapia Lombarda 2.0: il futuro è oggi
DESCRIPTION:Programma Congresso 25 marzo 2017 \nIl corso potrà erogare n. 7 crediti ECM ai seguenti professionisti: \nMedico Chirurgo\, specializzato in Radioterapia Fisico Tecnico sanitario di radiologia medica \n 
URL:https://radioterapiaitalia.it/event/2017-marzo-25-radioterapia-lombarda-2-0-futuro-oggi-2/
CATEGORIES:CORSI E CONGRESSI AIRO
ATTACH;FMTTYPE=:
END:VEVENT
BEGIN:VEVENT
DTSTART;TZID=Europe/Rome:20170325T080000
DTEND;TZID=Europe/Rome:20170325T170000
DTSTAMP:20260423T161742
CREATED:20170207T165846Z
LAST-MODIFIED:20170207T165846Z
UID:42461-1490428800-1490461200@radioterapiaitalia.it
SUMMARY:2017 Marzo 25 Radiochirurgia e Radioterapia Stereotassica: non solo Tecnica - Genova
DESCRIPTION:Programma Genova 25 marzo 2017 (2)
URL:https://radioterapiaitalia.it/event/2017-marzo-25-radiochirurgia-radioterapia-stereotassica-non-solo-tecnica-genova-2/
CATEGORIES:CORSI E CONGRESSI AIRO
ATTACH;FMTTYPE=:
END:VEVENT
BEGIN:VEVENT
DTSTART;TZID=Europe/Rome:20170325T080000
DTEND;TZID=Europe/Rome:20170325T170000
DTSTAMP:20260423T161742
CREATED:20170207T165846Z
LAST-MODIFIED:20170207T165846Z
UID:9141-1490428800-1490461200@radioterapiaitalia.it
SUMMARY:2017 Marzo 25 Radiochirurgia e Radioterapia Stereotassica: non solo Tecnica - Genova
DESCRIPTION:Programma Genova 25 marzo 2017 (2)
URL:https://radioterapiaitalia.it/event/2017-marzo-25-radiochirurgia-radioterapia-stereotassica-non-solo-tecnica-genova/
CATEGORIES:CORSI E CONGRESSI AIRO
ATTACH;FMTTYPE=:
END:VEVENT
BEGIN:VEVENT
DTSTART;TZID=Europe/Rome:20170331T080000
DTEND;TZID=Europe/Rome:20170331T170000
DTSTAMP:20260423T161742
CREATED:20161208T102601Z
LAST-MODIFIED:20161208T102601Z
UID:42414-1490947200-1490979600@radioterapiaitalia.it
SUMMARY:2017 Marzo 31 Corso itinerante Approccio multidisciplinare nel trattamento del microcitoma polmonare: tra tradizione e prospettive future
DESCRIPTION:Programma Congresso 31 marzo 2017 Roma \nmicrosoft-word-bozza-sclc-timeline \nL’iscrizione è gratuita previa registrazione eseguibile online dal sito www.mitcongressi.it cliccando sul titolo dell’evento.
URL:https://radioterapiaitalia.it/event/2017-marzo-31-approccio-multidisciplinare-nel-trattamento-del-microcitoma-polmonare-tradizione-prospettive-future-2/
CATEGORIES:CORSI E CONGRESSI AIRO
ATTACH;FMTTYPE=:
END:VEVENT
BEGIN:VEVENT
DTSTART;TZID=Europe/Rome:20170331T080000
DTEND;TZID=Europe/Rome:20170331T170000
DTSTAMP:20260423T161742
CREATED:20161208T102601Z
LAST-MODIFIED:20161208T102601Z
UID:7148-1490947200-1490979600@radioterapiaitalia.it
SUMMARY:2017 Marzo 31 Corso itinerante Approccio multidisciplinare nel trattamento del microcitoma polmonare: tra tradizione e prospettive future
DESCRIPTION:Programma Congresso 31 marzo 2017 Roma \nmicrosoft-word-bozza-sclc-timeline \nL’iscrizione è gratuita previa registrazione eseguibile online dal sito www.mitcongressi.it cliccando sul titolo dell’evento.
URL:https://radioterapiaitalia.it/event/2017-marzo-31-approccio-multidisciplinare-nel-trattamento-del-microcitoma-polmonare-tradizione-prospettive-future/
CATEGORIES:CORSI E CONGRESSI AIRO
ATTACH;FMTTYPE=:
END:VEVENT
END:VCALENDAR