BEGIN:VCALENDAR
VERSION:2.0
PRODID:-//AIRO - ECPv6.15.11//NONSGML v1.0//EN
CALSCALE:GREGORIAN
METHOD:PUBLISH
X-WR-CALNAME:AIRO
X-ORIGINAL-URL:https://radioterapiaitalia.it
X-WR-CALDESC:Eventi per AIRO
REFRESH-INTERVAL;VALUE=DURATION:PT1H
X-Robots-Tag:noindex
X-PUBLISHED-TTL:PT1H
BEGIN:VTIMEZONE
TZID:Europe/Rome
BEGIN:DAYLIGHT
TZOFFSETFROM:+0100
TZOFFSETTO:+0200
TZNAME:CEST
DTSTART:20150329T010000
END:DAYLIGHT
BEGIN:STANDARD
TZOFFSETFROM:+0200
TZOFFSETTO:+0100
TZNAME:CET
DTSTART:20151025T010000
END:STANDARD
BEGIN:DAYLIGHT
TZOFFSETFROM:+0100
TZOFFSETTO:+0200
TZNAME:CEST
DTSTART:20160327T010000
END:DAYLIGHT
BEGIN:STANDARD
TZOFFSETFROM:+0200
TZOFFSETTO:+0100
TZNAME:CET
DTSTART:20161030T010000
END:STANDARD
BEGIN:DAYLIGHT
TZOFFSETFROM:+0100
TZOFFSETTO:+0200
TZNAME:CEST
DTSTART:20170326T010000
END:DAYLIGHT
BEGIN:STANDARD
TZOFFSETFROM:+0200
TZOFFSETTO:+0100
TZNAME:CET
DTSTART:20171029T010000
END:STANDARD
END:VTIMEZONE
BEGIN:VEVENT
DTSTART;TZID=Europe/Rome:20161216T080000
DTEND;TZID=Europe/Rome:20161216T170000
DTSTAMP:20260423T223413
CREATED:20161208T104047Z
LAST-MODIFIED:20161208T104047Z
UID:42416-1481875200-1481907600@radioterapiaitalia.it
SUMMARY:2016 Dicembre 16 Radioterapia oncologica nel Triveneto: ECCELLENZE A CONFRONTO
DESCRIPTION:depliant-convegno-treviso-16-12-2016 \nCONGRESSO AIRO REGIONALE
URL:https://radioterapiaitalia.it/event/2016-dicembre-16-radioterapia-oncologica-nel-triveneto-eccellenze-confronto-2/
CATEGORIES:CORSI E CONGRESSI AIRO
ATTACH;FMTTYPE=:
END:VEVENT
BEGIN:VEVENT
DTSTART;TZID=Europe/Rome:20161216T080000
DTEND;TZID=Europe/Rome:20161216T170000
DTSTAMP:20260423T223413
CREATED:20161208T104047Z
LAST-MODIFIED:20161208T104047Z
UID:7157-1481875200-1481907600@radioterapiaitalia.it
SUMMARY:2016 Dicembre 16 Radioterapia oncologica nel Triveneto: ECCELLENZE A CONFRONTO
DESCRIPTION:depliant-convegno-treviso-16-12-2016 \nCONGRESSO AIRO REGIONALE
URL:https://radioterapiaitalia.it/event/2016-dicembre-16-radioterapia-oncologica-nel-triveneto-eccellenze-confronto/
CATEGORIES:CORSI E CONGRESSI AIRO
ATTACH;FMTTYPE=:
END:VEVENT
END:VCALENDAR